{"text_format":"1","workbook":"xlsx","n_sheets":13,"sheets":["DATA","Checks","RNS","Highlights","General Grant Information","Staff","Training","Victim Services","Law Enforcement","Prosecution","Courts","Probation & Parole","BIP"],"not_rendered":{"charts":0,"images":1,"macros":1,"external_links":0,"defined_names":10,"comments":0,"pivot_tables":0},"unopened":[],"bounds":{"document_bytes":16777216,"sheet_cells":100000,"rows_first":2000,"rows_last":500,"rows_between":2000,"halvings":0,"cell_chars":16384,"cell_head_chars":4096},"cells_cut":0,"cells_raw":0,"read":"whole","date_system":"1900"}

{"sheet":"DATA","index":0,"n_rows":43,"n_cols":1309,"rows_kept":43,"cut":false,"hidden":true,"merged":[]}
["ID","OVWID","GI1_Date","GI2_Year","GI3_GranteeName","GI4_Subgrant1","GI4_Subgrant2","GI4_Subgrant3","GI4_Subgrant4","GI4_Subgrant5","GI4_Subgrant6","GI4_Subgrant7","GI4_Subgrant8","GI4_Subgrant9","GI5_OrgType","GI5_OtherDesc","GI6_FBO","GI6_CultSpec","GI7_FIrstName","GI7_MI","GI7_LastName","GI7_OrgName","GI7_Address","GI7_City","GI7_State","GI7_Zip","GI7_Telephone","GI7_Fax","GI7_Email","GI8_TribalPop","GI8_TribalPopDesc","GI9_Prct_SA","GI9_Prct_DV","GI9_Prct_STK","GI9_TOTAL","St_FundsUsed_YesNo","St_FundsUsed_1or0","St1_Admin","St1_Attorney","St1_Counselor","St1_Court","St1_ITstaff","St1_Investigator","St1_LEO","St1_LegalAdv","St1_Outreach","St1_Paralegal","St1_Probation","St1_PrgmCoord","St1_Prosecutor","St1_SANE","St1_SuppStaff","St1_Trainer","St1_Translator","St1_VicAdv","St1_VicAssist","St1_OtherDesc","St1_Other","St1_TOTAL","PA13_STOP_1","PA13_STOP_2","PA13_STOP_3","PA13_STOP_4","PA13_STOP_5","PA13_STOP_6","PA13_STOP_7","PA13_STOP_8","PA13_STOP_9","PA13_STOP_10","PA13_STOP_11","PA13_STOP_12","PA13_STOP_13","PA13_STOP_14","PA13_STOP_15","PA13_STOP_16","PA13_STOP_17","PA13_STOP_18","PA13_STOP_19","PA13_STOP_20","Tr_FundsUsed_YesNo","Tr_FundsUsed_1or0","Tr1_TrnEvents","Tr2_AdvOrg","Tr2_Attorney","Tr2_BIP","Tr2_Corrections","Tr2_Court","Tr2_DisOrg","Tr2_Educator","Tr2_Elder","Tr2_FaithBased","Tr2_Govt","Tr2_HealthProf","Tr2_ImmOrg","Tr2_LEO","Tr2_LegServ","Tr2_HealthProf_MH","Tr2_Prosecutor","Tr2_SexOffTreat","Tr2_HealthProf_SANE","Tr2_SocialServ","Tr2_SubAbuse","Tr2_SupVisit","Tr2_Translator","Tr2_Govt_Tribal","Tr2_VSProv_VicAdv","Tr2_VSProv_VicAssist","Tr2_Volunteer","Tr2_OtherDesc","Tr2_Other","Tr2_TOTAL","Tr3_Gen_AdvResp","Tr3_Gen_ChildWit","Tr3_Gen_Confidential","Tr3_Gen_Overview_DAT","Tr3_Gen_Overview_DV","Tr3_Gen_MandReport","Tr3_Gen_Traffick","Tr3_Gen_Incarcerated","Tr3_Gen_SafetyPlan","Tr3_Gen_Overview_SA","Tr3_Gen_Overview_STK","Tr3_Gen_SupVisits","Tr3_Gen_Other","Tr3_Gen_OtherDesc","Tr3_JS_CivCrtProc","Tr3_JS_CrimCrtProc","Tr3_JS_DVbyLEO","Tr3_JS_Statutes_DV","Tr3_JS_Firearms","Tr3_JS_HomicidePrev","Tr3_JS_PredomAggressor","Tr3_JS_Immigration","Tr3_JS_Response_Judicial","Tr3_JS_Response_LEO","Tr3_JS_ProArrest","Tr3_JS_Response_Probation","Tr3_JS_Response_Prosecutor","Tr3_JS_POEnforce","Tr3_JS_EvidCollect_SA","Tr3_JS_Statutes_SA","Tr3_JS_FrnExam_SA","Tr3_JS_Statutes_STK","Tr3_JS_TribJuris","Tr3_JS_Other","Tr3_JS_OtherDesc","Tr3_US_AmerInd","Tr3_US_Asian","Tr3_US_Black","Tr3_US_Deaf","Tr3_US_Elderly","Tr3_US_Hispanic","Tr3_US_Homeless","Tr3_US_Immigrant","Tr3_US_Incarcerated","Tr3_US_LGBTI","Tr3_US_Pacific","Tr3_US_Disability","Tr3_US_LEP","Tr3_US_MH","Tr3_US_SubAbuse","Tr3_US_Rural","Tr3_US_Other","Tr3_US_OtherDesc","Tr3_CR_CommResp_SA","Tr3_CR_CCR","Tr3_CR_RespTeams","Tr3_CR_Technology","Tr3_CR_Other","Tr3_CR_OtherDesc","Ed_FundsUsed_YesNo","Ed_FundsUsed_1or0","Ed1_EdEvents","Ed2a_ChildCare","Ed2a_AdvGroup","Ed2a_Business","Ed2a_CommGroup","Ed2a_CommMember","Ed2a_Educator","Ed2a_Student_Elem","Ed2a_FaithBased","Ed2a_Student_MSandHS","Ed2a_Parents","Ed2a_Student_Univ","Ed2a_Victim","Ed2a_Other","Ed2a_OtherDesc","Ed3_Gen_Overview_DAT","Ed3_Gen_Prevention_DAT","Ed3_Gen_Overview_DV","Ed3_Gen_Prevention_DV","Ed3_Gen_HealthRel_6to12","Ed3_Gen_HealthyRel_Comm","Ed3_Gen_Healthy_Univ","Ed3_Gen_IndigenousPrev","Ed3_Gen_SafetyPlan","Ed3_Gen_Overview_SA","Ed3_Gen_Prevention_SA","Ed3_Gen_Overview_STK","Ed3_Gen_Prevention_STK","Ed3_Gen_WorkVIolence","Ed3_Gen_Other","Ed3_Gen_OtherDesc","Ed3_US_AmerInd","Ed3_US_Asian","Ed3_US_Black","Ed3_US_Deaf","Ed3_US_Elderly","Ed3_US_Rural_GeoIsolated","Ed3_US_Hispanic","Ed3_US_Homeless","Ed3_US_Immigrant","Ed3_US_LGBTI","Ed3_US_Pacific","Ed3_US_Disability","Ed3_US_MH","Ed3_US_SubAbuse","Ed3_US_Rural","Ed3_US_Urban","Ed3_US_Other","Ed3_US_OtherDesc","CCR1_AdvOrg_Ref","CCR1_AdvOrg_Mtg","CCR1_BIP_Ref","CCR1_BIP_Mtg","CCR1_Corrections_Ref","CCR1_Corrections_Mtg","CCR1_Court_Ref","CCR1_Court_Mtg","CCR1_DVOrg_Ref","CCR1_DVOrg_Mtg","CCR1_Education_Ref","CCR1_Education_Mtg","CCR1_FaithBased_Ref","CCR1_FaithBased_Mtg","CCR1_Govt_Ref","CCR1_Govt_Mtg","CCR1_HealthMH_Ref","CCR1_HealthMH_Mtg","CCR1_LE_Ref","CCR1_LE_Mtg","CCR1_LegalOrg_Ref","CCR1_LegalOrg_Mtg","CCR1_Prosecutor_Ref","CCR1_Prosecutor_Mtg","CCR1_SexOffTreat_Ref","CCR1_SexOffTreat_Mtg","CCR1_SAOrg_Ref","CCR1_SAOrg_Mtg","CCR1_SocialServ_Ref","CCR1_SocialServ_Mtg","CCR1_TribGovt_Ref","CCR1_TribGovt_Mtg","CCR1_OtherDesc","CCR1_Other_Ref","CCR1_Other_Mtg","Pol_FundsUsed_YesNo","Pol_FundsUsed_1or0","Pol1_VS_Underserved","Pol1_VS_SubAbuseMH","Pol1_VS_ElderDis","Pol1_VS_Incarcerated","Pol1_VS_SexOrient","Pol1_VS_Confidential","Pol1_VS_HomicidePrev","Pol1_VS_MandTrain","Pol1_VS_JaneDoe","Pol1_VS_EvidCollect_SA","Pol1_VS_Diversity","Pol1_VS_CrimeVicComp","Pol1_VS_Other","Pol1_VS_OtherDesc","Pol1_LE_Underserved","Pol1_LE_ElderDis","Pol1_LE_Incarcerated","Pol1_LE_SexOrient","Pol1_LE_DVbyLEO","Pol1_LE_HomicidePrev","Pol1_LE_PredomAggressor","Pol1_LE_ImmAccessPO","Pol1_LE_MandTrain","Pol1_LE_NoCharge_Serv","Pol1_LE_NoCharge_Exam","Pol1_LE_NoCharge_Invest","Pol1_LE_NoPolygraph","Pol1_LE_InternetDisc","Pol1_LE_ProArrest","Pol1_LE_JaneDoe","Pol1_LE_POEnforce","Pol1_LE_InformVic","Pol1_LE_EvidCollect_SA","Pol1_LE_ResponseSA","Pol1_LE_Other","Pol1_LE_OtherDesc","Pol1_Pros_Underserved","Pol1_Pros_ElderDis","Pol1_Pros_Incarcerated","Pol1_Pros_SexOrient","Pol1_Pros_MandTrain","Pol1_Pros_NoCharge_Pros","Pol1_Pros_NoPolygraph","Pol1_Pros_InternetDisc","Pol1_Pros_POEnforce","Pol1_Pros_EvidCollect_SA","Pol1_Pros_ResponseSA","Pol1_Pros_VerticalPros","Pol1_Pros_Notification","Pol1_Pros_Other","Pol1_Pros_OtherDesc","Pol1_Crt_AccTrial","Pol1_Crt_Underserved","Pol1_Crt_ElderDis","Pol1_Crt_Incarcerated","Pol1_Crt_SexOrient","Pol1_Crt_DVDocket","Pol1_Crt_FullFaithPO","Pol1_Crt_ImmAccessPO","Pol1_Crt_JudMonitor","Pol1_Crt_MandTrain","Pol1_Crt_NoCharge_PO","Pol1_Crt_InternetDisc","Pol1_Crt_MutualPO","Pol1_Crt_CrtSecurity","Pol1_Crt_EvidCollect_SA","Pol1_Crt_StandardPO","Pol1_Crt_Other","Pol1_Crt_OtherDesc","Pol1_Prob_Underserved","Pol1_Prob_ElderDis","Pol1_Prob_Incarcerated","Pol1_Prob_SexOrient","Pol1_Prob_MandTrain","Pol1_Prob_ProtectVIc","Pol1_Prob_VicInclusion","Pol1_Prob_Notification","Pol1_Prob_Other","Pol1_Prob_OtherDesc","Pol1_HC_AdvER","Pol1_HC_Underserved","Pol1_HC_AvoidTrauma","Pol1_HC_ElderDis","Pol1_HC_Incarcerated","Pol1_HC_SexOrient","Pol1_HC_NoCharge_Exam","Pol1_HC_MandTrain","Pol1_HC_Screening","Pol1_HC_EvidCollect_SA","Pol1_HC_Other","Pol1_HC_OtherDesc","Prod_FundsUsed_YesNo","Prod_FundsUsed_1or0","Prod1_Brochures1_Dev","Prod1_Brochures1_Title","Prod1_Brochures1_Aud","Prod1_Brochures1_Lang","Prod1_Brochures2_Dev","Prod1_Brochures2_Title","Prod1_Brochures2_Aud","Prod1_Brochures2_Lang","Prod1_Brochures3_Dev","Prod1_Brochures3_Title","Prod1_Brochures3_Aud","Prod1_Brochures3_Lang","Prod1_Manuals1_Dev","Prod1_Manuals1_Title","Prod1_Manuals1_Aud","Prod1_Manuals1_Lang","Prod1_Manuals2_Dev","Prod1_Manuals2_Title","Prod1_Manuals2_Aud","Prod1_Manuals2_Lang","Prod1_Manuals3_Dev","Prod1_Manuals3_Title","Prod1_Manuals3_Aud","Prod1_Manuals3_Lang","Prod1_TrnMatCurr1_Dev","Prod1_TrnMatCurr1_Title","Prod1_TrnMatCurr1_Aud","Prod1_TrnMatCurr1_Lang","Prod1_TrnMatCurr2_Dev","Prod1_TrnMatCurr2_Title","Prod1_TrnMatCurr2_Aud","Prod1_TrnMatCurr2_Lang","Prod1_TrnMatCurr3_Dev","Prod1_TrnMatCurr3_Title","Prod1_TrnMatCurr3_Aud","Prod1_TrnMatCurr3_Lang","Prod1_OtherDesc","Prod1_Other1_Dev","Prod1_Other1_Title","Prod1_Other1_Aud","Prod1_Other1_Lang","Prod1_Other2_Dev","Prod1_Other2_Title","Prod1_Other2_Aud","Prod1_Other2_Lang","Prod1_Other3_Dev","Prod1_Other3_Title","Prod1_Other3_Aud","Prod1_Other3_Lang","Data_FundsUsed_YesNo","Data_FundsUsed_1or0","Data1_Develop","Data1_Install","Data1_Expand","Data1_Link","Data1_Share","Data1_Manage","Data1_Purchase","Data2_Arrests","Data2_Bail","Data2_CaseMgmt","Data2_Compliance","Data2_Convictions","Data2_DocketMgmt","Data2_Evaluation","Data2_IncidentRep","Data2_Probation","Data2_Prosecution","Data2_PO","Data2_Recidivism","Data2_Sentencing","Data2_EvidCollect_SA","Data2_STKOrders","Data2_VicNotification","Data2_VicServices","Data2_ViolPO","Data2_Warrants","Data2_Other","Data2_OtherDesc","SU_FundsUsed_YesNo","SU_FundsUsed_1or0","SU1_Develop_LE","SU1_Develop_Pros","SU1_Develop_Crt","SU1_Develop_Prob","SU1_Support_LE","SU1_Support_Pros","SU1_Support_Crt","SU1_Support_Prob","SU1_Train_LE","SU1_Train_Pros","SU1_Train_Crt","SU1_Train_Prob","SU1_OtherDesc","SU1_Other_LE","SU1_Other_Pros","SU1_Other_Crt","SU1_Other_Prob","SU2_SA_LE","SU2_SA_Pros","SU2_SA_Crt","SU2_SA_Prob","SU2_DV_LE","SU2_DV_Pros","SU2_DV_Crt","SU2_DV_Prob","SU2_STK_LE","SU2_STK_Pros","SU2_STK_Crt","SU2_STK_Prob","SI_FundsUsed_YesNo","SI_FundsUsed_1or0","SI1_Evaluation_VS","SI1_Evaluation_LE","SI1_Evaluation_Pros","SI1_Evaluation_Crt","SI1_Evaluation_Prob","SI1_FatalityRev_VS","SI1_FatalityRev_LE","SI1_FatalityRev_Pros","SI1_FatalityRev_Crt","SI1_FatalityRev_Prob","SI1_Interpreter_VS","SI1_Interpreter_LE","SI1_Interpreter_Pros","SI1_Interpreter_Crt","SI1_Interpreter_Prob","SI1_LAP_VS","SI1_LAP_LE","SI1_LAP_Pros","SI1_LAP_Crt","SI1_LAP_Prob","SI1_Language_VS","SI1_Language_LE","SI1_Language_Pros","SI1_Language_Crt","SI1_Language_Prob","SI1_MtgTrib_VS","SI1_MtgTrib_LE","SI1_MtgTrib_Pros","SI1_MtgTrib_Crt","SI1_MtgTrib_Prob","SI1_SafetyAudits_VS","SI1_SafetyAudits_LE","SI1_SafetyAudits_Pros","SI1_SafetyAudits_Crt","SI1_SafetyAudits_Prob","SI1_Security_VS","SI1_Security_LE","SI1_Security_Pros","SI1_Security_Crt","SI1_Security_Prob","SI1_Translation_VS","SI1_Translation_LE","SI1_Translation_Pros","SI1_Translation_Crt","SI1_Translation_Prob","SI1_OtherDesc","SI1_Other_VS","SI1_Other_LE","SI1_Other_Pros","SI1_Other_Crt","SI1_Other_Prob","VS_FundsUsed_YesNo","VS_FundsUsed_1or0","VS1_Srvd_SA","VS1_Srvd_DV","VS1_Srvd_STK","VS1_TOTAL_Srvd","VS1_PSrvd_SA","VS1_PSrvd_DV","VS1_PSrvd_STK","VS1_TOTAL_PSrvd","VS1_SrvdPSrvd_SA","VS1_SrvdPSrvd_DV","VS1_SrvdPSrvd_STK","VS1_TOTAL_SrvdPSrvd","VS1_NotSrvd_SA","VS1_NotSrvd_DV","VS1_NotSrvd_STK","VS1_TOTAL_NotSrvd","VS2_NewSrvd_SA","VS2_NewSrvd_DV","VS2_NewSrvd_STK","VS2_TOTAL_NewSrvd","VS3_AddSA_SA","VS3_AddDV_SA","VS3_AddSTK_SA","VS3_AddTFK_SA","VS3_AddSA_DV","VS3_AddDV_DV","VS3_AddSTK_DV","VS3_AddTFK_DV","VS3_AddSA_STK","VS3_AddDV_STK","VS3_AddSTK_STK","VS3_AddTFK_STK","VS3_TOTAL_AddSA","VS3_TOTAL_AddDV","VS3_TOTAL_AddSTK","VS3_TOTAL_AddTFK","IE1_SrvdPSrvd_SA","IE1_SrvdPSrvd_DV","IE1_SrvdPSrvd_STK","IE1_TOTAL_SrvdPSrvd","VS4_Conflict_PSrvd","VS4_Conflict_NotSrvd","VS4_StatReq_PSrvd","VS4_StatReq_NotSrvd","VS4_Hours_PSrvd","VS4_Hours_NotSrvd","VS4_CulturalSrv_PSrvd","VS4_CulturalSrv_NotSrvd","VS4_Language_PSrvd","VS4_Language_NotSrvd","VS4_Disability_PSrvd","VS4_Disability_NotSrvd","VS4_Childcare_PSrvd","VS4_Childcare_NotSrvd","VS4_Capacity_PSrvd","VS4_Capacity_NotSrvd","VS4_Rules_PSrvd","VS4_Rules_NotSrvd","VS4_Resources_PSrvd","VS4_Resources_NotSrvd","VS4_MH_PSrvd","VS4_MH_NotSrvd","VS4_SubAbuse_PSrvd","VS4_SubAbuse_NotSrvd","VS4_NotApprop_PSrvd","VS4_NotApprop_NotSrvd","VS4_MaleAdolescent_PSrvd","VS4_MaleAdolescent_NotSrvd","VS4_Transport_PSrvd","VS4_Transport_NotSrvd","VS4_Other_PSrvd","VS4_Other_NotSrvd","VS4_OtherDesc","VS5_Race_AmerInd","VS5_Race_Asian","VS5_Race_Black","VS5_Race_Hispanic","VS5_Race_Pacific","VS5_Race_White","VS5_Race_Other","VS5_Race_Unknown","VS5_TOTAL_Race","VS5_Gen_Female","VS5_Gen_Male","VS5_Gen_Trans","VS5_Gen_Unknown","VS5_TOTAL_Gen","VS5_Age_b11to17","VS5_Age_c18to24","VS5_Age_d25to59","VS5_Age_e60plus","VS5_Age_Unknown","VS5_TOTAL_Age","VS5_Other_LGBTI","VS5_Other_Disability","VS5_Other_LEP","VS5_Other_Deaf","VS5_Other_Imm","VS5_Other_Incarcerated","VS5_Other_Rural","VS6_SA_Spouse","VS6_DV_Spouse","VS6_STK_Spouse","VS6_SA_Family","VS6_DV_Family","VS6_STK_Family","VS6_SA_Dating","VS6_DV_Dating","VS6_STK_Dating","VS6_SA_Acquaint","VS6_DV_Acquaint","VS6_STK_Acquaint","VS6_SA_Stranger","VS6_STK_Stranger","VS6_SA_Unknown","VS6_DV_Unknown","VS6_STK_Unknown","VS6_TOTAL_SA","VS6_TOTAL_DV","VS6_TOTAL_STK","VS7_Vic_CivLegalAdv","VS7_Times_CivLegalAdv","VS7_Vic_Counsel","VS7_Times_Counsel","VS7_Vic_CrimJustAdv","VS7_Times_CrimJustAdv","VS7_Vic_CrisisInt","VS7_Times_CrisisInt","VS7_Vic_ForensicExam","VS7_Times_ForensicExam","VS7_Vic_HospResp","VS7_Times_HospResp","VS7_Vic_Language","VS7_Times_Language","VS7_Vic_Transport","VS7_Times_Transport","VS7_Vic_VicAdv","VS7_Times_VicAdv","VS7_OtherDesc","VS7_Vic_Other","VS7_Times_Other","VS7_Vic_Shelter","VS7_Fam_Shelter","VS7_Bednight_Shelter","VS7_Vic_Thousing","VS7_Fam_Thousing","VS7_Bednight_Thousing","VS8_Hotline_Vic","VS8_Hotline_Total","VS9_Notification","VS10_Req_Temp_SA","VS10_Req_Final_SA","VS10_Grnt_Temp_SA","VS10_Grnt_Final_SA","VS10_Req_Temp_DV","VS10_Req_Final_DV","VS10_Grnt_Temp_DV","VS10_Grnt_Final_DV","VS10_Req_Temp_STK","VS10_Req_Final_STK","VS10_Grnt_Temp_STK","VS10_Grnt_Final_STK","LS_FundsUsed_YesNo","LS_FundsUsed_1or0","LS1_PO","LS1_FamMat","LS1_FamMat_Divorce","LS1_FamMat_Custody","LS1_FamMat_Paternity","LS1_FamMat_ChildSupp","LS1_FamMat_Other","LS1_Consumer","LS1_Employment","LS1_Income","LS1_Housing","LS1_ImmMat","LS1_ImmMat_VAWA","LS1_ImmMat_Cancel","LS1_ImmMat_Uvisa","LS1_ImmMat_Tvisa","LS1_ImmMat_Other","LS1_Criminal","LS1_Education","LS1_OtherDesc","LS1_Other","LS2_LegalAssist","LS2_LegalAssist_Multiple","LS3_PO_Info","LS3_PO_BriefService","LS3_PO_AdminDec","LS3_PO_CrtDec","LS3_PO_NegRes_Filed","LS3_PO_NegRes_NoFiled","LS3_PO_Withdrew","LS3_PO_Other","LS3_Divorce_Info","LS3_Divorce_BriefService","LS3_Divorce_AdminDec","LS3_Divorce_CrtDec","LS3_Divorce_NegRes_Filed","LS3_Divorce_NegRes_NoFiled","LS3_Divorce_Withdrew","LS3_Divorce_Other","LS3_Custody_Info","LS3_Custody_BriefService","LS3_Custody_AdminDec","LS3_Custody_CrtDec","LS3_Custody_NegRes_Filed","LS3_Custody_NegRes_NoFiled","LS3_Custody_Withdrew","LS3_Custody_Other","LS3_Paternity_Info","LS3_Paternity_BriefService","LS3_Paternity_AdminDec","LS3_Paternity_CrtDec","LS3_Paternity_NegRes_Filed","LS3_Paternity_NegRes_NoFiled","LS3_Paternity_Withdrew","LS3_Paternity_Other","LS3_ChildSupp_Info","LS3_ChildSupp_BriefService","LS3_ChildSupp_AdminDec","LS3_ChildSupp_CrtDec","LS3_ChildSupp_NegRes_Filed","LS3_ChildSupp_NegRes_NoFiled","LS3_ChildSupp_Withdrew","LS3_ChildSupp_Other","LS3_FamOther_Info","LS3_FamOther_BriefService","LS3_FamOther_AdminDec","LS3_FamOther_CrtDec","LS3_FamOther_NegRes_Filed","LS3_FamOther_NegRes_NoFiled","LS3_FamOther_Withdrew","LS3_FamOther_Other","LS3_Consumer_Info","LS3_Consumer_BriefService","LS3_Consumer_AdminDec","LS3_Consumer_CrtDec","LS3_Consumer_NegRes_Filed","LS3_Consumer_NegRes_NoFiled","LS3_Consumer_Withdrew","LS3_Consumer_Other","LS3_Employment_Info","LS3_Employment_BriefService","LS3_Employment_AdminDec","LS3_Employment_CrtDec","LS3_Employment_NegRes_Filed","LS3_Employment_NegRes_NoFiled","LS3_Employment_Withdrew","LS3_Employment_Other","LS3_Income_Info","LS3_Income_BriefService","LS3_Income_AdminDec","LS3_Income_CrtDec","LS3_Income_NegRes_Filed","LS3_Income_NegRes_NoFiled","LS3_Income_Withdrew","LS3_Income_Other","LS3_Housing_Info","LS3_Housing_BriefService","LS3_Housing_AdminDec","LS3_Housing_CrtDec","LS3_Housing_NegRes_Filed","LS3_Housing_NegRes_NoFiled","LS3_Housing_Withdrew","LS3_Housing_Other","LS3_VAWA_Info","LS3_VAWA_BriefService","LS3_VAWA_AdminDec","LS3_VAWA_CrtDec","LS3_VAWA_NegRes_Filed","LS3_VAWA_NegRes_NoFiled","LS3_VAWA_Withdrew","LS3_VAWA_Other","LS3_Cancel_Info","LS3_Cancel_BriefService","LS3_Cancel_AdminDec","LS3_Cancel_CrtDec","LS3_Cancel_NegRes_Filed","LS3_Cancel_NegRes_NoFiled","LS3_Cancel_Withdrew","LS3_Cancel_Other","LS3_Uvisa_Info","LS3_Uvisa_BriefService","LS3_Uvisa_AdminDec","LS3_Uvisa_CrtDec","LS3_Uvisa_NegRes_Filed","LS3_Uvisa_NegRes_NoFiled","LS3_Uvisa_Withdrew","LS3_Uvisa_Other","LS3_Tvisa_Info","LS3_Tvisa_BriefService","LS3_Tvisa_AdminDec","LS3_Tvisa_CrtDec","LS3_Tvisa_NegRes_Filed","LS3_Tvisa_NegRes_NoFiled","LS3_Tvisa_Withdrew","LS3_Tvisa_Other","LS3_ImmOther_Info","LS3_ImmOther_BriefService","LS3_ImmOther_AdminDec","LS3_ImmOther_CrtDec","LS3_ImmOther_NegRes_Filed","LS3_ImmOther_NegRes_NoFiled","LS3_ImmOther_Withdrew","LS3_ImmOther_Other","LS3_Criminal_Info","LS3_Criminal_BriefService","LS3_Criminal_AdminDec","LS3_Criminal_CrtDec","LS3_Criminal_NegRes_Filed","LS3_Criminal_NegRes_NoFiled","LS3_Criminal_Withdrew","LS3_Criminal_Other","LS3_Education_Info","LS3_Education_BriefService","LS3_Education_AdminDec","LS3_Education_CrtDec","LS3_Education_NegRes_Filed","LS3_Education_NegRes_NoFiled","LS3_Education_Withdrew","LS3_Education_Other","LS3_OtherDesc","LS3_Other_Info","LS3_Other_BriefService","LS3_Other_AdminDec","LS3_Other_CrtDec","LS3_Other_NegRes_Filed","LS3_Other_NegRes_NoFiled","LS3_Other_Withdrew","LS3_Other_Other","LE_FundsUsed_YesNo","LE_FundsUsed_1or0","LE1_Calls_SA","LE1_Calls_DV","LE1_Calls_STK","LE1_IncidentRpt_SA","LE1_IncidentRpt_DV","LE1_IncidentRpt_STK","LE1_Investigated_SA","LE1_Investigated_DV","LE1_Investigated_STK","LE1_ForensicEvid_SA","LE1_Arrest_SA","LE1_Arrest_DV","LE1_Arrest_STK","LE1_DualArrest_DV","LE1_POserved_SA","LE1_POserved_DV","LE1_POserved_STK","LE1_Arrest_BailViol_SA","LE1_Arrest_BailViol_DV","LE1_Arrest_BailViol_STK","LE1_Warrant_SA","LE1_Warrant_DV","LE1_Warrant_STK","LE1_Arrest_POViol_SA","LE1_Arrest_POViol_DV","LE1_Arrest_POViol_STK","LE1_POissued_SA","LE1_POissued_DV","LE1_POissued_STK","LE1_RefToPros_SA","LE1_RefToPros_DV","LE1_RefToPros_STK","LE1_RefToPros_Fed_SA","LE1_RefToPros_Fed_DV","LE1_RefToPros_Fed_STK","LE2_VSRef_Govt","LE2_VSRef_NonGovt","LE3_Req_Temp_SA","LE3_Req_Final_SA","LE3_Grnt_Temp_SA","LE3_Grnt_Final_SA","LE3_Req_Temp_DV","LE3_Req_Final_DV","LE3_Grnt_Temp_DV","LE3_Grnt_Final_DV","LE3_Req_Temp_STK","LE3_Req_Final_STK","LE3_Grnt_Temp_STK","LE3_Grnt_Final_STK","Pros_FundsUsed_YesNo","Pros_FundsUsed_1or0","Pros1_Received_DV","Pros1_Received_SA","Pros1_Received_STK","Pros1_Accepted_DV","Pros1_Accepted_SA","Pros1_Accepted_STK","Pros1_Declined_DV","Pros1_Declined_SA","Pros1_Declined_STK","Pros1_Transfer_DV","Pros1_Transfer_SA","Pros1_Transfer_STK","Pros1_RefToFed_DV","Pros1_RefToFed_SA","Pros1_RefToFed_STK","Pros2_IE_Return_DV","Pros2_IE_Return_SA","Pros2_IE_Return_STK","Pros2_IE_Unavail_DV","Pros2_IE_Unavail_SA","Pros2_IE_Unavail_STK","Pros2_VicReq_DV","Pros2_VicReq_SA","Pros2_VicReq_STK","Pros2_OtherDesc","Pros2_Other_DV","Pros2_Other_SA","Pros2_Other_STK","Pros3_Dismiss_DV_Ord","Pros3_DefAdj_DV_Ord","Pros3_Convict_PAC_DV_Ord","Pros3_Convict_PSC_DV_Ord","Pros3_Convict_PLC_DV_Ord","Pros3_Convict_GAC_DV_Ord","Pros3_Convict_GSC_DV_Ord","Pros3_Convict_GLC_DV_Ord","Pros3_Acquit_DV_Ord","Pros3_Total_DV_Ord","Pros3_Dismiss_DV_Mis","Pros3_DefAdj_DV_Mis","Pros3_Convict_PAC_DV_Mis","Pros3_Convict_PSC_DV_Mis","Pros3_Convict_PLC_DV_Mis","Pros3_Convict_GAC_DV_Mis","Pros3_Convict_GSC_DV_Mis","Pros3_Convict_GLC_DV_Mis","Pros3_Acquit_DV_Mis","Pros3_Total_DV_Mis","Pros3_Dismiss_DV_Fel","Pros3_DefAdj_DV_Fel","Pros3_Convict_PAC_DV_Fel","Pros3_Convict_PSC_DV_Fel","Pros3_Convict_PLC_DV_Fel","Pros3_Convict_GAC_DV_Fel","Pros3_Convict_GSC_DV_Fel","Pros3_Convict_GLC_DV_Fel","Pros3_Acquit_DV_Fel","Pros3_Total_DV_Fel","Pros3_Dismiss_DV_Hom","Pros3_DefAdj_DV_Hom","Pros3_Convict_PAC_DV_Hom","Pros3_Convict_PSC_DV_Hom","Pros3_Convict_PLC_DV_Hom","Pros3_Convict_GAC_DV_Hom","Pros3_Convict_GSC_DV_Hom","Pros3_Convict_GLC_DV_Hom","Pros3_Acquit_DV_Hom","Pros3_Total_DV_Hom","Pros3_Dismiss_SA_Mis","Pros3_DefAdj_SA_Mis","Pros3_Convict_PAC_SA_Mis","Pros3_Convict_PSC_SA_Mis","Pros3_Convict_PLC_SA_Mis","Pros3_Convict_GAC_SA_Mis","Pros3_Convict_GSC_SA_Mis","Pros3_Convict_GLC_SA_Mis","Pros3_Acquit_SA_Mis","Pros3_Total_SA_Mis","Pros3_Dismiss_SA_Fel","Pros3_DefAdj_SA_Fel","Pros3_Convict_PAC_SA_Fel","Pros3_Convict_PSC_SA_Fel","Pros3_Convict_PLC_SA_Fel","Pros3_Convict_GAC_SA_Fel","Pros3_Convict_GSC_SA_Fel","Pros3_Convict_GLC_SA_Fel","Pros3_Acquit_SA_Fel","Pros3_Total_SA_Fel","Pros3_Dismiss_SA_Hom","Pros3_DefAdj_SA_Hom","Pros3_Convict_PAC_SA_Hom","Pros3_Convict_PSC_SA_Hom","Pros3_Convict_PLC_SA_Hom","Pros3_Convict_GAC_SA_Hom","Pros3_Convict_GSC_SA_Hom","Pros3_Convict_GLC_SA_Hom","Pros3_Acquit_SA_Hom","Pros3_Total_SA_Hom","Pros3_Dismiss_STK_Ord","Pros3_DefAdj_STK_Ord","Pros3_Convict_PAC_STK_Ord","Pros3_Convict_PSC_STK_Ord","Pros3_Convict_PLC_STK_Ord","Pros3_Convict_GAC_STK_Ord","Pros3_Convict_GSC_STK_Ord","Pros3_Convict_GLC_STK_Ord","Pros3_Acquit_STK_Ord","Pros3_Total_STK_Ord","Pros3_Dismiss_STK_Mis","Pros3_DefAdj_STK_Mis","Pros3_Convict_PAC_STK_Mis","Pros3_Convict_PSC_STK_Mis","Pros3_Convict_PLC_STK_Mis","Pros3_Convict_GAC_STK_Mis","Pros3_Convict_GSC_STK_Mis","Pros3_Convict_GLC_STK_Mis","Pros3_Acquit_STK_Mis","Pros3_Total_STK_Mis","Pros3_Dismiss_STK_Fel","Pros3_DefAdj_STK_Fel","Pros3_Convict_PAC_STK_Fel","Pros3_Convict_PSC_STK_Fel","Pros3_Convict_PLC_STK_Fel","Pros3_Convict_GAC_STK_Fel","Pros3_Convict_GSC_STK_Fel","Pros3_Convict_GLC_STK_Fel","Pros3_Acquit_STK_Fel","Pros3_Total_STK_Fel","Pros3_Dismiss_STK_Hom","Pros3_DefAdj_STK_Hom","Pros3_Convict_PAC_STK_Hom","Pros3_Convict_PSC_STK_Hom","Pros3_Convict_PLC_STK_Hom","Pros3_Convict_GAC_STK_Hom","Pros3_Convict_GSC_STK_Hom","Pros3_Convict_GLC_STK_Hom","Pros3_Acquit_STK_Hom","Pros3_Total_STK_Hom","Pros3_Dismiss_BailViol","Pros3_DefAdj_BailViol","Pros3_Convict_PAC_BailViol","Pros3_Convict_PSC_BailViol","Pros3_Convict_PLC_BailViol","Pros3_Convict_GAC_BailViol","Pros3_Convict_GSC_BailViol","Pros3_Convict_GLC_BailViol","Pros3_Acquit_BailViol","Pros3_Total_BailViol","Pros3_Dismiss_ProbViol","Pros3_DefAdj_ProbViol","Pros3_Convict_PAC_ProbViol","Pros3_Convict_PSC_ProbViol","Pros3_Convict_PLC_ProbViol","Pros3_Convict_GAC_ProbViol","Pros3_Convict_GSC_ProbViol","Pros3_Convict_GLC_ProbViol","Pros3_Acquit_ProbViol","Pros3_Total_ProbViol","Pros3_Dismiss_POViol","Pros3_DefAdj_POViol","Pros3_Convict_PAC_POViol","Pros3_Convict_PSC_POViol","Pros3_Convict_PLC_POViol","Pros3_Convict_GAC_POViol","Pros3_Convict_GSC_POViol","Pros3_Convict_GLC_POViol","Pros3_Acquit_POViol","Pros3_Total_POViol","Pros3_Dismiss_CrtOrder","Pros3_DefAdj_CrtOrder","Pros3_Convict_PAC_CrtOrder","Pros3_Convict_PSC_CrtOrder","Pros3_Convict_PLC_CrtOrder","Pros3_Convict_GAC_CrtOrder","Pros3_Convict_GSC_CrtOrder","Pros3_Convict_GLC_CrtOrder","Pros3_Acquit_CrtOrder","Pros3_Total_CrtOrder","Pros3_OtherDesc","Pros3_Dismiss_Other","Pros3_DefAdj_Other","Pros3_Convict_PAC_Other","Pros3_Convict_PSC_Other","Pros3_Convict_PLC_Other","Pros3_Convict_GAC_Other","Pros3_Convict_GSC_Other","Pros3_Convict_GLC_Other","Pros3_Acquit_Other","Pros3_Total_Other","Pros3_TOTAL_Dismiss","Pros3_TOTAL_DefAdj","Pros3_TOTAL_Convict_PAC","Pros3_TOTAL_Convict_PSC","Pros3_TOTAL_Convict_PLC","Pros3_TOTAL_Convict_GAC","Pros3_TOTAL_Convict_GSC","Pros3_TOTAL_Convict_GLC","Pros3_TOTAL_Acquit","Pros3_TOTAL_Total","Pros4_RefToFed","Pros4_RefToState","Pros4_TOTAL","Pros5_VSRef_Govt","Pros5_VSRef_NonGovt","Pros6_Req_Temp_SA","Pros6_Req_Final_SA","Pros6_Grnt_Temp_SA","Pros6_Grnt_Final_SA","Pros6_Req_Temp_DV","Pros6_Req_Final_DV","Pros6_Grnt_Temp_DV","Pros6_Grnt_Final_DV","Pros6_Req_Temp_STK","Pros6_Req_Final_STK","Pros6_Grnt_Temp_STK","Pros6_Grnt_Final_STK","Crt_FundsUsed_YesNo","Crt_FundsUsed_1or0","Crt2_Dismiss_SA_Mis","Crt2_DefAdj_SA_Mis","Crt2_Convict_SA_Mis","Crt2_Acquit_SA_Mis","Crt2_Dismiss_SA_Fel","Crt2_DefAdj_SA_Fel","Crt2_Convict_SA_Fel","Crt2_Acquit_SA_Fel","Crt2_Dismiss_Hom","Crt2_DefAdj_Hom","Crt2_Convict_Hom","Crt2_Acquit_Hom","Crt2_Dismiss_DV_Ord","Crt2_DefAdj_DV_Ord","Crt2_Convict_DV_Ord","Crt2_Acquit_DV_Ord","Crt2_Dismiss_DV_Mis","Crt2_DefAdj_DV_Mis","Crt2_Convict_DV_Mis","Crt2_Acquit_DV_Mis","Crt2_Dismiss_DV_Fel","Crt2_DefAdj_DV_Fel","Crt2_Convict_DV_Fel","Crt2_Acquit_DV_Fel","Crt2_Dismiss_STK_Ord","Crt2_DefAdj_STK_Ord","Crt2_Convict_STK_Ord","Crt2_Acquit_STK_Ord","Crt2_Dismiss_STK_Mis","Crt2_DefAdj_STK_Mis","Crt2_Convict_STK_Mis","Crt2_Acquit_STK_Mis","Crt2_Dismiss_STK_Fel","Crt2_DefAdj_STK_Fel","Crt2_Convict_STK_Fel","Crt2_Acquit_STK_Fel","Crt2_Dismiss_POViol","Crt2_DefAdj_POViol","Crt2_Convict_POViol","Crt2_Acquit_POViol","Crt2_Dismiss_BailViol","Crt2_DefAdj_BailViol","Crt2_Convict_BailViol","Crt2_Acquit_BailViol","Crt2_Dismiss_ProbViol","Crt2_DefAdj_ProbViol","Crt2_Convict_ProbViol","Crt2_Acquit_ProbViol","Crt2_Dismiss_CrtOrder","Crt2_DefAdj_CrtOrder","Crt2_Convict_CrtOrder","Crt2_Acquit_CrtOrder","Crt2_TOTAL_Dismiss","Crt2_TOTAL_DefAdj","Crt2_TOTAL_Convict","Crt2_TOTAL_Acquit","Crt3_Offender","Crt3_Hearing","Crt4_NoAction_PO","Crt4_Warning_PO","Crt4_Fine_PO","Crt4_AddCond_PO","Crt4_Revoke_PO","Crt4_NoAction_NewCrim","Crt4_Warning_NewCrim","Crt4_Fine_NewCrim","Crt4_AddCond_NewCrim","Crt4_Revoke_NewCrim","Crt4_NoAction_BIP","Crt4_Warning_BIP","Crt4_Fine_BIP","Crt4_AddCond_BIP","Crt4_Revoke_BIP","Crt4_NoAction_OtherTreat","Crt4_Warning_OtherTreat","Crt4_Fine_OtherTreat","Crt4_AddCond_OtherTreat","Crt4_Revoke_OtherTreat","Crt4_NoAction_OtherCond","Crt4_Warning_OtherCond","Crt4_Fine_OtherCond","Crt4_AddCond_OtherCond","Crt4_Revoke_OtherCond","Crt4_TOTAL_NoAction","Crt4_TOTAL_Warning","Crt4_TOTAL_Fine","Crt4_TOTAL_AddCond","Crt4_TOTAL_Revoke","Crt5_VSRef_Govt","Crt5_VSRef_NonGovt","Crt6_Req_Temp_SA","Crt6_Req_Final_SA","Crt6_Grnt_Temp_SA","Crt6_Grnt_Final_SA","Crt6_Req_Temp_DV","Crt6_Req_Final_DV","Crt6_Grnt_Temp_DV","Crt6_Grnt_Final_DV","Crt6_Req_Temp_STK","Crt6_Req_Final_STK","Crt6_Grnt_Temp_STK","Crt6_Grnt_Final_STK","Crt7_Req_Crim","Crt7_Grant_Crim","Prob_FundsUsed_YesNo","Prob_FundsUsed_1or0","Prob1_Offender_DV","Prob1_Comp_NoViol_DV","Prob1_Comp_Viol_DV","Prob1_Offender_SA","Prob1_Comp_NoViol_SA","Prob1_Comp_Viol_SA","Prob1_Offender_STK","Prob1_Comp_NoViol_STK","Prob1_Comp_Viol_STK","Prob1_TOTAL_Offender","Prob1_TOTAL_Comp_NoViol","Prob1_TOTAL_Comp_Viol","Prob2_Face_Offender","Prob2_Face_Contacts","Prob2_Phone_Offender","Prob2_Phone_Contacts","Prob2_Surveil_Offender","Prob2_Surveil_Contacts","Prob2_ElecMonitor_Offender","Prob2_VicOutreach_Vic","Prob2_VicOutreach_Contacts","Prob3_NoAction_PO","Prob3_Warning_PO","Prob3_Fine_PO","Prob3_AddCond_PO","Prob3_Revoke_PO","Prob3_NoAction_NewCrim","Prob3_Warning_NewCrim","Prob3_Fine_NewCrim","Prob3_AddCond_NewCrim","Prob3_Revoke_NewCrim","Prob3_NoAction_BIP","Prob3_Warning_BIP","Prob3_Fine_BIP","Prob3_AddCond_BIP","Prob3_Revoke_BIP","Prob3_NoAction_OtherTreat","Prob3_Warning_OtherTreat","Prob3_Fine_OtherTreat","Prob3_AddCond_OtherTreat","Prob3_Revoke_OtherTreat","Prob3_NoAction_OtherCond","Prob3_Warning_OtherCond","Prob3_Fine_OtherCond","Prob3_AddCond_OtherCond","Prob3_Revoke_OtherCond","Prob3_TOTAL_NoAction","Prob3_TOTAL_Warning","Prob3_TOTAL_Fine","Prob3_TOTAL_AddCond","Prob3_TOTAL_Revoke","Prob4_VSRef_Govt","Prob4_VSRef_NonGovt","BIP_FundsUsed_YesNo","BIP_FundsUsed_1or0","BIP1_Offender_BIP","BIP2_Complete_BIP","BIP2_Terminate_BIP","BIP2_Return_BIP","BIP2_OtherDesc","BIP2_Other_BIP","BIP3_Weeks_A","BIP3_Weeks_B","BIP3_Weeks_C","Tr_Narrative","CCR_Narrative","Pol2_Narrative","Pol_Narrative","VS_Narrative","LE_Narrative","Pros3_Narrative","Pros_Narrative","Crt_Narrative","Prob_Narrative","Narr2_RAN_1","Narr2_RAN_2","Narr3_FundAllow_1","Narr3_FundAllow_2","Narr_stop_CrystalJudson_1","Narr_stop_CrystalJudson_2","Narr4_Effectiveness_1","Narr4_Effectiveness_2","Narr5_Data_1","Narr5_Data_2"]
[46070,"OR46070","2021-01-29",2020,"Battered Persons' Advocacy","Joint-2019-BPA-00003",null,null,null,null,null,null,null,null,"GI5_OrgType_VicServ_Dual",null,"NO","NO","Melanie","M","Taylor Prummer","Battered Persons' Advocacy","1202 SE Douglas Ave","Roseburg","OR","97470","(541) 957-0288","(541) 672-8140","melanie@peaceathome.com","NO",null,3,87,10,100,"YES",1,0,0,0,0,0,0,0,0.14000000000000001,0,0,0,0,0,0,0,0,0,0.45,0,null,0,0.59,0,0,0,0,1,0,0,0,0,0,0,0,0,0,0,0,0,0,0,0,"NO",0,0,0,0,0,0,0,0,0,0,0,0,0,0,0,0,0,0,0,0,0,0,0,0,0,0,0,0,null,0,0,0,0,0,0,0,0,0,0,0,0,0,0,0,null,0,0,0,0,0,0,0,0,0,0,0,0,0,0,0,0,0,0,0,0,null,0,0,0,0,0,0,0,0,0,0,0,0,0,0,0,0,0,null,0,0,0,0,0,null,"NO",0,0,0,0,0,0,0,0,0,0,0,0,0,0,0,null,0,0,0,0,0,0,0,0,0,0,0,0,0,0,0,null,0,0,0,0,0,0,0,0,0,0,0,0,0,0,0,0,0,null,"Daily","Quarterly","Monthly","Quarterly","Monthly","Quarterly","Daily","Quarterly","Daily","Weekly","Daily","Monthly","Monthly","Quarterly","Daily","Quarterly","Daily","Quarterly","Daily","Quarterly","Weekly","Quarterly","Monthly","Quarterly",null,null,"Weekly","Weekly","Daily","Quarterly","Monthly","Quarterly",null,null,null,"NO",0,0,0,0,0,0,0,0,0,0,0,0,0,0,null,0,0,0,0,0,0,0,0,0,0,0,0,0,0,0,0,0,0,0,0,0,null,0,0,0,0,0,0,0,0,0,0,0,0,0,0,null,0,0,0,0,0,0,0,0,0,0,0,0,0,0,0,0,0,null,0,0,0,0,0,0,0,0,0,null,0,0,0,0,0,0,0,0,0,0,0,null,"NO",0,0,null,null,null,0,null,null,null,0,null,null,null,0,null,null,null,0,null,null,null,0,null,null,null,0,null,null,null,0,null,null,null,0,null,null,null,null,0,null,null,null,0,null,null,null,0,null,null,null,"NO",0,0,0,0,0,0,0,0,0,0,0,0,0,0,0,0,0,0,0,0,0,0,0,0,0,0,0,0,null,"NO",0,0,0,0,0,0,0,0,0,0,0,0,0,null,0,0,0,0,0,0,0,0,0,0,0,0,0,0,0,0,"NO",0,0,0,0,0,0,0,0,0,0,0,0,0,0,0,0,0,0,0,0,0,0,0,0,0,0,0,0,0,0,0,0,0,0,0,0,0,0,0,0,0,0,0,0,0,0,null,0,0,0,0,0,"YES",1,3,90,10,103,0,0,0,0,3,90,10,103,0,0,0,0,2,85,9,96,3,0,0,1,1,90,2,1,0,0,10,0,4,90,12,2,0,0,0,0,0,0,0,0,0,0,0,0,0,0,0,0,0,0,0,0,0,0,0,0,0,0,0,0,0,0,0,0,0,0,0,0,null,7,1,1,6,1,91,1,1,109,72,31,0,0,103,2,9,68,24,0,103,0,28,1,2,1,0,103,0,38,1,0,27,1,1,15,2,2,8,4,0,1,0,2,1,3,90,10,75,112,10,17,0,0,48,96,0,0,1,1,0,0,3,6,10,15,null,0,0,18,0,1044,1,0,701,739,850,0,2,0,2,0,84,0,69,0,10,0,7,0,"NO",0,0,0,0,0,0,0,0,0,0,0,0,0,0,0,0,0,0,0,0,null,0,0,0,0,0,0,0,0,0,0,0,0,0,0,0,0,0,0,0,0,0,0,0,0,0,0,0,0,0,0,0,0,0,0,0,0,0,0,0,0,0,0,0,0,0,0,0,0,0,0,0,0,0,0,0,0,0,0,0,0,0,0,0,0,0,0,0,0,0,0,0,0,0,0,0,0,0,0,0,0,0,0,0,0,0,0,0,0,0,0,0,0,0,0,0,0,0,0,0,0,0,0,0,0,0,0,0,0,0,0,0,0,0,0,0,0,0,0,0,0,0,0,0,0,0,0,0,0,0,0,0,0,0,0,0,0,0,0,0,null,0,0,0,0,0,0,0,0,"NO",0,0,0,0,0,0,0,0,0,0,0,0,0,0,0,0,0,0,0,0,0,0,0,0,0,0,0,0,0,0,0,0,0,0,0,0,0,0,0,0,0,0,0,0,0,0,0,0,0,0,"NO",0,0,0,0,0,0,0,0,0,0,0,0,0,0,0,0,0,0,0,0,0,0,0,0,0,null,0,0,0,0,0,0,0,0,0,0,0,0,0,0,0,0,0,0,0,0,0,0,0,0,0,0,0,0,0,0,0,0,0,0,0,0,0,0,0,0,0,0,0,0,0,0,0,0,0,0,0,0,0,0,0,0,0,0,0,0,0,0,0,0,0,0,0,0,0,0,0,0,0,0,0,0,0,0,0,0,0,0,0,0,0,0,0,0,0,0,0,0,0,0,0,0,0,0,0,0,0,0,0,0,0,0,0,0,0,0,0,0,0,0,0,0,0,0,0,0,0,0,0,0,0,0,0,0,0,0,0,0,0,0,0,0,0,0,0,0,0,0,0,0,0,0,0,0,0,0,0,0,0,null,0,0,0,0,0,0,0,0,0,0,0,0,0,0,0,0,0,0,0,0,0,0,0,0,0,0,0,0,0,0,0,0,0,0,0,0,0,"NO",0,0,0,0,0,0,0,0,0,0,0,0,0,0,0,0,0,0,0,0,0,0,0,0,0,0,0,0,0,0,0,0,0,0,0,0,0,0,0,0,0,0,0,0,0,0,0,0,0,0,0,0,0,0,0,0,0,0,0,0,0,0,0,0,0,0,0,0,0,0,0,0,0,0,0,0,0,0,0,0,0,0,0,0,0,0,0,0,0,0,0,0,0,0,0,0,0,0,0,0,0,0,0,0,0,"NO",0,0,0,0,0,0,0,0,0,0,0,0,0,0,0,0,0,0,0,0,0,0,0,0,0,0,0,0,0,0,0,0,0,0,0,0,0,0,0,0,0,0,0,0,0,0,0,0,0,0,0,0,0,0,"NO",0,0,0,0,0,null,0,0,0,0,null,null,null,null,null,null,null,null,null,null,"The option for e-filing protective orders, a recent change has had significant challenges. While e-filing can save time, it has been the experience that clients filing the FAPA and forms on-line has been frustrating or confusing. This has resulted in delays in filing as the victim/survivor has to follow-up with an advocate over the phone or schedule an in-person appointment. Often this results in the victim/survivors having to re-do the petition. Additionally, advocates have not been fully trained in the process for e-filing. There is also a disparity for the elderly and people with disabilities as they can only e-file with the assistance of an attorney. There has been a significant increase in the referrals from law enforcement to DV/SA advocates due to meetings to enhance a coordinated response. Law enforcement has had some additional training in how to identify and respond to domestic violence and referral pathways. A brochure was created collaboratively and is given to every victim/survivor when law enforcement responds. This has also contributed to an increase in victims accessing support from advocates in filing protective orders. The need exceeds the FTE dedicated to assisting victims at the courthouse some days. NOTE: Peace at Home only assists with and tracks \"temporary\" protective orders.",null,"Hire 0.15FTE Legal Advocate to provide service at the Courthouse Monday-Friday at 7:30am-8:30am and answer 24/hour Hotline calls. The advocate assisted victims with:1. Filing temporary protective orders including the Family Abuse Prevention Act (FAPA), Elderly Persons and Persons with Disabilities Abuse Prevention Act (EPPDAPA), Sexual Abuse Protection Order (SAPO) and Stalking Protective Orders (SPO)2. Preparing for and providing emotional support at contested protective order hearings 3. Provided emotional support during trial or family court hearings4. Offered other advocacy and referrals to law enforcement, Legal Aid Services of Oregon and Modest Means Attorneys5. Safety planned with the victim6. Provided internal referrals to other programs including shelter, transitional housing, support groups, healthcare advocates, etc.7. Provided urgent transportation",null,null,null,"During the COVID Pandemic Peace at Home was able to continue to provide vital services to victims of family violence, sexual assault and stalking. The agency adopted several policies to address safety practices and mitigate the spread of the disease. Measures include:1. Consultation with local Public Health officials 2. Quarantine for up to 14 days when necessary i.e. victims traveling from out the area, prior to coming into shelter, symptomatic3. Use of hotels rather than shelter when clients need to quarantine4. Increased non-congregate shelter practices e.g. clients have their own room, purchased fridge/freezer, microwave and coffee pots for each room5. Provided COVID Education - written materials and resources to clients in multiple languages and on-going verbal updates during daily meetings6. Created a food pantry with food that can be used in a hotel or private room7. Adopted \"working from home\" policies for staff that were working remotely e.g. answering the crisis line. These policies included a description of the work space to ensure confidentiality. Each advocate was purchased lock boxes. 8. Staggered work shifts were created to ensure that advocates are not sharing office spaces.9. COVID Response Plans were adopted which outline each service area and guidelines for action.  COVID screening questions were implemented, no victim is turned away if they are symptomatic. 10. A door intercom system was installed to improve the flow of traffic through the building and control the number of people in the building at one time. 11. Clients were provided cell phones so they could access on-going victim services (including but not limited to peer counseling, safety planning, legal advocacy, case management) via phone and other services including telehealth. 12. Staff have access to CDC guidelines, FEMA Shelter Field Guides, Protecting Survivor Privacy guidance from the Victims Rights Law Center and much more."]
[46071,"OR46071","2021-01-27",2020,"Battered Persons' Advocacy/Peace at Home Advocacy Center","VAWAC-2020-BPA-00003",null,null,null,null,null,null,null,null,"GI5_OrgType_VicServ_Dual",null,"NO","NO","Melanie","M","Taylor Prummer","Battered Persons' Advocacy","1202 SE Douglas Ave.","Roseburg","OR","97470","541-957-0288","541-672-8140","Melanie@peaceathome.com","NO",null,0,100,0,100,"YES",1,0,0,0,0,0,0,0,0,0,0,0,0.88,0,0,0,0,0,0,0,null,0,0.88,1,0,0,0,0,0,0,0,0,0,0,0,0,0,0,0,0,0,0,0,"YES",1,6,0,3,27,0,11,0,0,0,6,10,5,0,8,5,4,2,0,0,1,0,0,2,8,27,5,0,"VA Advocate, Foundation HT Coor., College, Public Health, LPSCC Coor.",19,143,1,0,0,0,1,0,1,0,0,0,0,0,0,null,0,0,0,0,0,0,0,1,0,1,0,0,0,0,0,0,0,0,1,0,null,1,0,1,0,0,1,0,1,0,1,0,0,0,0,0,0,0,null,0,1,1,0,1,"Anti-Bias Training","NO",0,0,0,0,0,0,0,0,0,0,0,0,0,0,0,null,0,0,0,0,0,0,0,0,0,0,0,0,0,0,0,null,0,0,0,0,0,0,0,0,0,0,0,0,0,0,0,0,0,null,null,null,null,"Weekly","Weekly",null,null,"Quarterly",null,"Weekly",null,null,null,null,null,"Quarterly",null,"Quarterly","Monthly","Quarterly",null,"Quarterly",null,"Quarterly",null,null,null,"Monthly",null,"Quarterly",null,"Quarterly","Task Force on Human Trafficking",null,"Quarterly","YES",1,0,0,0,0,0,0,0,0,0,0,0,0,0,null,0,0,0,0,0,1,0,0,0,0,0,0,0,0,0,0,0,1,0,0,0,null,0,0,0,0,0,0,0,0,0,0,0,0,0,0,null,0,0,0,0,0,0,0,0,0,0,0,0,0,0,0,0,0,null,0,0,0,0,0,0,0,0,0,null,0,0,0,0,0,0,0,0,0,0,0,null,"YES",1,1,"Revised 2x's LE Legal Brochure","LE",null,1,"Revised Pocket Protocol","Advocates",null,1,"LE Protocol with DV Survivors","LE",null,0,null,null,null,0,null,null,null,0,null,null,null,1,"TF Training Presentation","Public",null,1,"Dashboard Presentation on Legal Advocacy","TF members & Public",null,0,null,null,null,"Flyers and website",1,"DV/HT Awareness Flyer","Inmates",null,1,"Un-housed Veterans Flyer","Veterans",null,1,"Developed TF Website","Public & TF Members",null,"NO",0,0,0,0,0,0,0,0,0,0,0,0,0,0,0,0,0,0,0,0,0,0,0,0,0,0,0,0,null,"NO",0,0,0,0,0,0,0,0,0,0,0,0,0,null,0,0,0,0,0,0,0,0,0,0,0,0,0,0,0,0,"NO",0,0,0,0,0,0,0,0,0,0,0,0,0,0,0,0,0,0,0,0,0,0,0,0,0,0,0,0,0,0,0,0,0,0,0,0,0,0,0,0,0,0,0,0,0,0,null,0,0,0,0,0,"NO",0,0,0,0,0,0,0,0,0,0,0,0,0,0,0,0,0,0,0,0,0,0,0,0,0,0,0,0,0,0,0,0,0,0,0,0,0,0,0,0,0,0,0,0,0,0,0,0,0,0,0,0,0,0,0,0,0,0,0,0,0,0,0,0,0,0,0,0,0,0,0,0,0,null,0,0,0,0,0,0,0,0,0,0,0,0,0,0,0,0,0,0,0,0,0,0,0,0,0,0,0,0,0,0,0,0,0,0,0,0,0,0,0,0,0,0,0,0,0,0,0,0,0,0,0,0,0,0,0,0,0,0,0,0,0,0,0,0,0,null,0,0,0,0,0,0,0,0,0,0,0,0,0,0,0,0,0,0,0,0,0,0,0,"NO",0,0,0,0,0,0,0,0,0,0,0,0,0,0,0,0,0,0,0,0,null,0,0,0,0,0,0,0,0,0,0,0,0,0,0,0,0,0,0,0,0,0,0,0,0,0,0,0,0,0,0,0,0,0,0,0,0,0,0,0,0,0,0,0,0,0,0,0,0,0,0,0,0,0,0,0,0,0,0,0,0,0,0,0,0,0,0,0,0,0,0,0,0,0,0,0,0,0,0,0,0,0,0,0,0,0,0,0,0,0,0,0,0,0,0,0,0,0,0,0,0,0,0,0,0,0,0,0,0,0,0,0,0,0,0,0,0,0,0,0,0,0,0,0,0,0,0,0,0,0,0,0,0,0,0,0,0,0,0,0,null,0,0,0,0,0,0,0,0,"NO",0,0,0,0,0,0,0,0,0,0,0,0,0,0,0,0,0,0,0,0,0,0,0,0,0,0,0,0,0,0,0,0,0,0,0,0,0,0,0,0,0,0,0,0,0,0,0,0,0,0,"NO",0,0,0,0,0,0,0,0,0,0,0,0,0,0,0,0,0,0,0,0,0,0,0,0,0,null,0,0,0,0,0,0,0,0,0,0,0,0,0,0,0,0,0,0,0,0,0,0,0,0,0,0,0,0,0,0,0,0,0,0,0,0,0,0,0,0,0,0,0,0,0,0,0,0,0,0,0,0,0,0,0,0,0,0,0,0,0,0,0,0,0,0,0,0,0,0,0,0,0,0,0,0,0,0,0,0,0,0,0,0,0,0,0,0,0,0,0,0,0,0,0,0,0,0,0,0,0,0,0,0,0,0,0,0,0,0,0,0,0,0,0,0,0,0,0,0,0,0,0,0,0,0,0,0,0,0,0,0,0,0,0,0,0,0,0,0,0,0,0,0,0,0,0,0,0,0,0,0,0,null,0,0,0,0,0,0,0,0,0,0,0,0,0,0,0,0,0,0,0,0,0,0,0,0,0,0,0,0,0,0,0,0,0,0,0,0,0,"NO",0,0,0,0,0,0,0,0,0,0,0,0,0,0,0,0,0,0,0,0,0,0,0,0,0,0,0,0,0,0,0,0,0,0,0,0,0,0,0,0,0,0,0,0,0,0,0,0,0,0,0,0,0,0,0,0,0,0,0,0,0,0,0,0,0,0,0,0,0,0,0,0,0,0,0,0,0,0,0,0,0,0,0,0,0,0,0,0,0,0,0,0,0,0,0,0,0,0,0,0,0,0,0,0,0,"NO",0,0,0,0,0,0,0,0,0,0,0,0,0,0,0,0,0,0,0,0,0,0,0,0,0,0,0,0,0,0,0,0,0,0,0,0,0,0,0,0,0,0,0,0,0,0,0,0,0,0,0,0,0,0,"NO",0,0,0,0,0,null,0,0,0,0,"3.09.2020 Training - The Task Force on Family Violence facilitated a multidisciplinary training at the Cow Creek Tribal Office, presented by the Multnomah County DVERT Program. Trainees included Cow Creek Tribal Administrators, Advocates, Law Enforcement","Funded activities included participating in the following meetings:1) The Douglas County Task Force on Human Trafficking - Coordinator participated in quarterly meetings and engaged in trainings suggested by the Task Force. 2) Douglas County Local Public Safety Coordinating Council (LPSCC) - Coordinator participated in quarterly meetings.3) Following the development of Law Enforcement protocols for contacting IPV Advocates immediately after incidence responses, LE referrals increased dramatically, almost tripling, to the agency.","Funding was used to develop a Law Enforcement protocol and policy when responding to domestic violence incidences and contacting Advocates. Responsibilities were outlined for each of the agencies in working with legal advocates in these situations. The pr","After the protocol was implemented, there was a significant increase in referrals from law enforcement.",null,null,null,null,null,null,"Two significant health and well-being challenges occurred for this period causing significant areas of remaining need, with regards to improving services to victims/survivors of sexual assault, domestic violence, dating violence and stalking:• Covid-19 – Douglas County was in the ‘Extreme Risk’ category into the later part of this last 6 months and only until December 29th was the county moved down to ‘HIGH Risk’ due to decreased numbers of those infected. The total number of cases (people with positive test results and presumptive) in Douglas County as of 12.27.2020 was at 1,363, with the total Covid-19 related deaths at 37. • Forest Fires – 133 homes were destroyed suddenly on or about September 8, 2020 when two forest fires significantly increased in magnitude on the Umpqua National Forest: The Archie Creek Fire, at 131,542 acres burned, and The Thielsen Fire, 9, 975 acres burned. These two events simply compounded the existing challenge of limited access to services for victims/survivors of intimate partner violence due to the isolation of living in our rural county.All of these factors significantly added to the crisis already occurring for a lack of housing especially to victims/survivors of IPV in our county. Though the City of Roseburg and others are continuing to work on the challenges of the un-housed, the implications have been extreme:• Local Shelters – in the last 6 months shelters were at capacity or not taking in clients periodically due to Covid-19 positive cases in their facilities, and then they ended the year, in December, with both the men’s and women’s Shelters closing (temporarily) due to positive cases with clients being diagnosed. • Douglas County Warming Shelters – closed (temporarily) due to Covid-19 for the year.• Motel funds – though only for one to three day stays, the majority of Peace at Home budgeted funds for motel stays have been used due to the significant need. From 2018 – 2019, 128 clients utilizing legal services were housed in Hotels; then from 2019 – 2020, 361 benefited by being able to stay in a Hotel. This constituted a 282% increase in emergency hotel stays in Douglas County.Victim/Survivor's currently have tremendous needs for shelter in Douglas County and these are seen in Peace at Home’s statistics where between March and September of 2020, 23% of clients calling the Crisis-line were experiencing homelessness, and then between November and December of 2020, an 11% increase occurred.To note, of those clients who had a disability and were seeking emergency shelter during this last year, Peace at Home experienced a 433% increase from 2019.Thus, safe and accessible emergency shelter, as well as affordable housing are the most significant needs in our county currently, especially for victims/survivors leaving their homes and their experience of intimate partner violence. Running parallel though to this need for safe and affordable housing is increasing the public's awareness and contact with isolated seniors and people with disabilities, particularly identifying those who are or could be experiencing abuse. Training particularly with law enforcement and other community partners will be essential.Additionally, because of Covid-19, victims of Human Trafficking or Intimate Partner Violence, who find themselves incarcerated during this pandemic may have shorter times within our county jail to be able to safely access services and make safety plans for returning home possibly to further violence. Continued outreach to these inmates in particular will be important, as well.",null,"1.  Able to hire .88 FTE.2.  Conducted 5 Task Force meetings with 2 in-person and 3 virtual meetings via GotoMeeting platform:      1)  1.13.20 Task Force training on Human Trafficking.     2)  3.9.20 Task Force training on the Multnomah County DVERT Program.     3)  7.13.20 Task Force training presented by the Douglas County District Attorney’s Office     Victim Services Unit.      4)  9.14.20 Task Force training on Member's Services.     5)  11.09.20 Task Force training presented by both the VOCA Manager at the Human Services Department of the Cow Creek Tribal Offices, Julie Zuver, and Anti-Bias Training presented by the Community Engagement Coordinator of Creating Community Resilience, April Hamlin, and the Director of Sexual Assault Services of Peace at Home Advocacy Center, Nicole Rodriguez. 3.  Developed marketing materials, social media posts of the TF, and a TF website.4.  Participated three times during this period in the community LPSCC meetings.5.  Participated twice in the Human Trafficking Task Force community meetings.6.  Participated once in the Peace at Home, Dversity, Equity & Inclusion Committee meeting.7.  Completed 9 weekly sessions of the Peace at Home ‘Sanctuary Model’ Training.8.  Engaged in the weekly Peace at Home’s ‘percent for social change’ book discussion group on ‘Emergent Strategy: Shaping Change, Changing Worlds’ by Adrienne Maree Brown, facilitated by community partner, April Hamlin, Community Engagement Coordinator for Creating Community Resilience.9.   Participated in the Citizen Police Academy, six 3-hour evening trainings on the local law enforcement operations.10. Provided Training for Law Enforcement.11. Completed the Maryland model of the Danger Assessment Training, becoming certified.12. Participated in Peace at Home's Emergency Staff meeting on solutions for housing victims/survivors of IPV.13. Collaborated with the Douglas County Jail Commander to provide the inmates weekly information flyers with a new and unique focus each week, for past victims/survivors to access services and who happen to be currently incarcerated.14. Conducted a LAP training with law enforcement personnel and advocates to provide updates to the use of the new referral protocol available, making referrals easier and more efficient for everyone.15. Developed a Charter for the basis of the Task Force operating principles.16. Developed and distributed a two different Legal Brochure updates to Police Departments, including the most rural departments, for LE to use when contact is first made with victims/survivors. The most recent update included the State of Oregon’s new anti-bias information with resources for victims/survivors to access.17.  Created outreach posters for un-housed veterans, offering Peace at Home's new housing options.18.  Participated in Oregon Health Authority outreach on information concerning Covid-19 prevention as well as providing local resources of grocery cards to individuals in the Latinx communities of the rural communities of Lookingglass and Reedsport, Oregon.19.  Completed Anti-bias training from Nationally known trainer.20.  Engaged in online training in over 40 hours of related victim/survivor training topics that included Community Response to High-Risk Missing and Sex Trafficking Victims, Human Trafficking in Tribal Communities, Contact Tracing and Victim Identification, Identifying Signs of Abuse in the Senior and Disabled communities, Achieving Gender Equality, Ending Child Abuse, Victim-Centered Advocacy, and Domestic Violence during Covid."]
[46072,"OR46072","2021-01-30",2020,"Burns Paiute Tribe","BurnsPaiute-00060",null,null,null,null,null,null,null,null,"GI5_OrgType_TribProg",null,"NO","YES","Teresa","L","Cowing","Burns Paiute Tribe","100 Pasigo Street","Burns","OR","97720","541-573-3061",null,"teresa.cowing@burnspaiute-nsn.gov","YES","Burns Paiute Tribe",22,78,0,100,"YES",1,0,0,0,0,0,0,0,0,0,0,0,0,0,0,0,0,0,0.14000000000000001,0,null,0,0.14000000000000001,0,0,0,0,0,1,0,0,0,0,0,0,0,0,0,0,0,0,0,0,"NO",0,0,0,0,0,0,0,0,0,0,0,0,0,0,0,0,0,0,0,0,0,0,0,0,0,0,0,0,null,0,0,0,0,0,0,0,0,0,0,0,0,0,0,0,null,0,0,0,0,0,0,0,0,0,0,0,0,0,0,0,0,0,0,0,0,null,0,0,0,0,0,0,0,0,0,0,0,0,0,0,0,0,0,null,0,0,0,0,0,null,"NO",0,0,0,0,0,0,0,0,0,0,0,0,0,0,0,null,0,0,0,0,0,0,0,0,0,0,0,0,0,0,0,null,0,0,0,0,0,0,0,0,0,0,0,0,0,0,0,0,0,null,null,null,null,null,null,"Monthly",null,null,"Weekly","Monthly",null,"Monthly",null,null,"Monthly","Monthly",null,"Monthly","Monthly","Monthly",null,null,null,"Monthly",null,null,"Weekly",null,null,"Monthly",null,"Quarterly",null,null,null,"NO",0,0,0,0,0,0,0,0,0,0,0,0,0,0,null,0,0,0,0,0,0,0,0,0,0,0,0,0,0,0,0,0,0,0,0,0,null,0,0,0,0,0,0,0,0,0,0,0,0,0,0,null,0,0,0,0,0,0,0,0,0,0,0,0,0,0,0,0,0,null,0,0,0,0,0,0,0,0,0,null,0,0,0,0,0,0,0,0,0,0,0,null,"NO",0,0,null,null,null,0,null,null,null,0,null,null,null,0,null,null,null,0,null,null,null,0,null,null,null,0,null,null,null,0,null,null,null,0,null,null,null,null,0,null,null,null,0,null,null,null,0,null,null,null,"NO",0,0,0,0,0,0,0,0,0,0,0,0,0,0,0,0,0,0,0,0,0,0,0,0,0,0,0,0,null,"NO",0,0,0,0,0,0,0,0,0,0,0,0,0,null,0,0,0,0,0,0,0,0,0,0,0,0,0,0,0,0,"NO",0,0,0,0,0,0,0,0,0,0,0,0,0,0,0,0,0,0,0,0,0,0,0,0,0,0,0,0,0,0,0,0,0,0,0,0,0,0,0,0,0,0,0,0,0,0,null,0,0,0,0,0,"YES",1,2,7,0,9,0,0,0,0,2,7,0,9,0,0,0,0,1,2,0,3,2,1,0,0,0,7,2,0,0,1,0,0,2,9,2,0,1,9,2,12,0,0,0,0,0,0,0,0,0,0,0,0,0,0,0,0,0,0,0,0,0,0,0,0,0,0,0,0,0,0,0,0,null,8,0,0,0,0,1,0,0,9,9,0,0,0,9,0,2,6,1,0,9,0,0,0,0,0,0,9,2,5,0,0,2,0,0,2,0,0,0,0,0,0,0,0,0,2,9,0,0,0,0,0,2,4,5,11,0,0,0,0,0,0,3,5,9,20,null,0,0,3,4,12,0,0,0,7,7,6,0,0,0,0,0,0,0,0,0,0,0,0,"NO",0,0,0,0,0,0,0,0,0,0,0,0,0,0,0,0,0,0,0,0,null,0,0,0,0,0,0,0,0,0,0,0,0,0,0,0,0,0,0,0,0,0,0,0,0,0,0,0,0,0,0,0,0,0,0,0,0,0,0,0,0,0,0,0,0,0,0,0,0,0,0,0,0,0,0,0,0,0,0,0,0,0,0,0,0,0,0,0,0,0,0,0,0,0,0,0,0,0,0,0,0,0,0,0,0,0,0,0,0,0,0,0,0,0,0,0,0,0,0,0,0,0,0,0,0,0,0,0,0,0,0,0,0,0,0,0,0,0,0,0,0,0,0,0,0,0,0,0,0,0,0,0,0,0,0,0,0,0,0,0,null,0,0,0,0,0,0,0,0,"NO",0,0,0,0,0,0,0,0,0,0,0,0,0,0,0,0,0,0,0,0,0,0,0,0,0,0,0,0,0,0,0,0,0,0,0,0,0,0,0,0,0,0,0,0,0,0,0,0,0,0,"NO",0,0,0,0,0,0,0,0,0,0,0,0,0,0,0,0,0,0,0,0,0,0,0,0,0,null,0,0,0,0,0,0,0,0,0,0,0,0,0,0,0,0,0,0,0,0,0,0,0,0,0,0,0,0,0,0,0,0,0,0,0,0,0,0,0,0,0,0,0,0,0,0,0,0,0,0,0,0,0,0,0,0,0,0,0,0,0,0,0,0,0,0,0,0,0,0,0,0,0,0,0,0,0,0,0,0,0,0,0,0,0,0,0,0,0,0,0,0,0,0,0,0,0,0,0,0,0,0,0,0,0,0,0,0,0,0,0,0,0,0,0,0,0,0,0,0,0,0,0,0,0,0,0,0,0,0,0,0,0,0,0,0,0,0,0,0,0,0,0,0,0,0,0,0,0,0,0,0,0,null,0,0,0,0,0,0,0,0,0,0,0,0,0,0,0,0,0,0,0,0,0,0,0,0,0,0,0,0,0,0,0,0,0,0,0,0,0,"NO",0,0,0,0,0,0,0,0,0,0,0,0,0,0,0,0,0,0,0,0,0,0,0,0,0,0,0,0,0,0,0,0,0,0,0,0,0,0,0,0,0,0,0,0,0,0,0,0,0,0,0,0,0,0,0,0,0,0,0,0,0,0,0,0,0,0,0,0,0,0,0,0,0,0,0,0,0,0,0,0,0,0,0,0,0,0,0,0,0,0,0,0,0,0,0,0,0,0,0,0,0,0,0,0,0,"NO",0,0,0,0,0,0,0,0,0,0,0,0,0,0,0,0,0,0,0,0,0,0,0,0,0,0,0,0,0,0,0,0,0,0,0,0,0,0,0,0,0,0,0,0,0,0,0,0,0,0,0,0,0,0,"NO",0,0,0,0,0,null,0,0,0,0,null,"The program staff works with the local non-profit Domestic Violence/Sexual Assault Shelter Program to provide referrals, support groups, one on one case management, safety planning and access to a safe environment to improve their life and the life of their family.  The program works with the DA/VAP when there is a case involving a Tribal member.  The program staff are involved with the County MDT and SART.",null,null,null,null,null,null,null,null,"The program has recently relocated to a new office which is a positive move.  The program still faces some obstacles in making the Tribal members aware of the move and that it was a positive thing.  The population we serve does not trust easy.  There is still the issue of jurisdiction on the reservation and stateside. Tribal members do not trust Law Enforcement or the Court systems.  There has been a change in Law Enforcement on the reservation from having local Law Enforcement to having the Burea of Indian Affairs Law Enforcement which has created more distrust in the community.  The Pandemic has also put a strain on services but the program staff has navigated the changes in the way we provide services by using the phone and text more and using zoom.",null,"This funding allows the Tribe to have a Domestic Violence/Sexual Assault program to serve the Tribal community and its members. The funding has allowed the program to have an office with no other departments which enhances the programs Confidentiality.  The program has had more calls for information and clients seeking services since the move.  We are also receiving more referrals.",null,null,null,"The program is working to improve services for the Tribal community and its members during this Pandemic which has changed the way we interact with our clients.  It does help with the new location at least we have the room to social distance when dealing with the client."]
[46073,"OR46073","2021-01-25",2020,"Call to Safety","Joint-2019-CTS-0005",null,null,null,null,null,null,null,null,"GI5_OrgType_VicServ_Dual",null,"NO","NO","Fay","A","Schuler","Call to Safety","P.O. Box 42610","Portland","OR","97242","503-872-8627","503-234-3749","fay@calltosafety.org","NO",null,100,0,0,100,"YES",1,0,0,0,0,0,0,0,0,0,0,0,0,0,0,0,0,0,0.25,0,null,0,0.25,0,0,0,0,1,0,0,0,0,0,0,0,0,0,0,0,0,0,0,0,"NO",0,0,0,0,0,0,0,0,0,0,0,0,0,0,0,0,0,0,0,0,0,0,0,0,0,0,0,0,null,0,0,0,0,0,0,0,0,0,0,0,0,0,0,0,null,0,0,0,0,0,0,0,0,0,0,0,0,0,0,0,0,0,0,0,0,null,0,0,0,0,0,0,0,0,0,0,0,0,0,0,0,0,0,null,0,0,0,0,0,null,"NO",0,0,0,0,0,0,0,0,0,0,0,0,0,0,0,null,0,0,0,0,0,0,0,0,0,0,0,0,0,0,0,null,0,0,0,0,0,0,0,0,0,0,0,0,0,0,0,0,0,null,"Monthly",null,"Monthly",null,"Weekly",null,"Daily",null,"Daily",null,"Weekly",null,"Weekly",null,"Daily",null,"Daily",null,"Daily",null,"Daily",null,"Weekly",null,"Monthly",null,"Daily",null,"Daily",null,"Weekly",null,null,null,null,"NO",0,0,0,0,0,0,0,0,0,0,0,0,0,0,null,0,0,0,0,0,0,0,0,0,0,0,0,0,0,0,0,0,0,0,0,0,null,0,0,0,0,0,0,0,0,0,0,0,0,0,0,null,0,0,0,0,0,0,0,0,0,0,0,0,0,0,0,0,0,null,0,0,0,0,0,0,0,0,0,null,0,0,0,0,0,0,0,0,0,0,0,null,"NO",0,0,null,null,null,0,null,null,null,0,null,null,null,0,null,null,null,0,null,null,null,0,null,null,null,0,null,null,null,0,null,null,null,0,null,null,null,null,0,null,null,null,0,null,null,null,0,null,null,null,"NO",0,0,0,0,0,0,0,0,0,0,0,0,0,0,0,0,0,0,0,0,0,0,0,0,0,0,0,0,null,"NO",0,0,0,0,0,0,0,0,0,0,0,0,0,null,0,0,0,0,0,0,0,0,0,0,0,0,0,0,0,0,"NO",0,0,0,0,0,0,0,0,0,0,0,0,0,0,0,0,0,0,0,0,0,0,0,0,0,0,0,0,0,0,0,0,0,0,0,0,0,0,0,0,0,0,0,0,0,0,null,0,0,0,0,0,"YES",1,100,0,0,100,0,0,0,0,100,0,0,100,0,0,0,0,100,0,0,100,100,0,0,0,0,0,0,0,0,0,0,0,100,0,0,0,0,0,0,0,0,0,0,0,0,0,0,0,0,0,0,0,0,0,0,0,0,0,0,0,0,0,0,0,0,0,0,0,0,0,0,0,null,0,6,0,1,0,11,0,82,100,24,2,2,72,100,1,14,21,1,63,100,2,4,0,0,0,0,0,0,0,0,0,0,0,0,0,0,0,0,0,0,0,100,0,0,100,0,0,0,0,6,30,0,0,76,76,0,0,21,21,0,0,0,0,0,0,null,0,0,0,0,0,0,0,0,1056,1056,0,0,0,0,0,0,0,0,0,0,0,0,0,"NO",0,0,0,0,0,0,0,0,0,0,0,0,0,0,0,0,0,0,0,0,null,0,0,0,0,0,0,0,0,0,0,0,0,0,0,0,0,0,0,0,0,0,0,0,0,0,0,0,0,0,0,0,0,0,0,0,0,0,0,0,0,0,0,0,0,0,0,0,0,0,0,0,0,0,0,0,0,0,0,0,0,0,0,0,0,0,0,0,0,0,0,0,0,0,0,0,0,0,0,0,0,0,0,0,0,0,0,0,0,0,0,0,0,0,0,0,0,0,0,0,0,0,0,0,0,0,0,0,0,0,0,0,0,0,0,0,0,0,0,0,0,0,0,0,0,0,0,0,0,0,0,0,0,0,0,0,0,0,0,0,null,0,0,0,0,0,0,0,0,"NO",0,0,0,0,0,0,0,0,0,0,0,0,0,0,0,0,0,0,0,0,0,0,0,0,0,0,0,0,0,0,0,0,0,0,0,0,0,0,0,0,0,0,0,0,0,0,0,0,0,0,"NO",0,0,0,0,0,0,0,0,0,0,0,0,0,0,0,0,0,0,0,0,0,0,0,0,0,null,0,0,0,0,0,0,0,0,0,0,0,0,0,0,0,0,0,0,0,0,0,0,0,0,0,0,0,0,0,0,0,0,0,0,0,0,0,0,0,0,0,0,0,0,0,0,0,0,0,0,0,0,0,0,0,0,0,0,0,0,0,0,0,0,0,0,0,0,0,0,0,0,0,0,0,0,0,0,0,0,0,0,0,0,0,0,0,0,0,0,0,0,0,0,0,0,0,0,0,0,0,0,0,0,0,0,0,0,0,0,0,0,0,0,0,0,0,0,0,0,0,0,0,0,0,0,0,0,0,0,0,0,0,0,0,0,0,0,0,0,0,0,0,0,0,0,0,0,0,0,0,0,0,null,0,0,0,0,0,0,0,0,0,0,0,0,0,0,0,0,0,0,0,0,0,0,0,0,0,0,0,0,0,0,0,0,0,0,0,0,0,"NO",0,0,0,0,0,0,0,0,0,0,0,0,0,0,0,0,0,0,0,0,0,0,0,0,0,0,0,0,0,0,0,0,0,0,0,0,0,0,0,0,0,0,0,0,0,0,0,0,0,0,0,0,0,0,0,0,0,0,0,0,0,0,0,0,0,0,0,0,0,0,0,0,0,0,0,0,0,0,0,0,0,0,0,0,0,0,0,0,0,0,0,0,0,0,0,0,0,0,0,0,0,0,0,0,0,"NO",0,0,0,0,0,0,0,0,0,0,0,0,0,0,0,0,0,0,0,0,0,0,0,0,0,0,0,0,0,0,0,0,0,0,0,0,0,0,0,0,0,0,0,0,0,0,0,0,0,0,0,0,0,0,"NO",0,0,0,0,0,null,0,0,0,0,null,null,null,null,"Due to COVID and our remote call station some of our call data can not be aggregated as previously done.",null,null,null,null,null,"Asking this question has never been more important to ask. As we have continued to struggle to offer an opportunity which is not embedded or reliant on the criminal justice system which does not center survivors. Additionally, due to COVID and many changes within our local law enforcement there is limited capacity for response when a survivors does call for help. Recognizing the majority of survivors do not report domestic or sexual violence due to the systematic failure of the systems which are supposed to offer survivor's justice and safety we have dire need to center survivors in our community response. We have invested heavily in system based response yet primarily survivors are accessing confidential community based services and when they ask for what they need; shelter access, flexible financial assistance, 24/7 crisis response, permanent subsidized housing, and reprieve from child welfare involvement which prevent survivors from accessing law enforcement for fear their children will be removed we are unable to respond. Investing in confidential community based services which are more frequently sought out by survivors and creating a justice system response which centers survivors needs and input are vital to improving outcomes for survivors. Asking questions about who are we leaving out when we center criminal justice as a community based response? Survivors of color, immigrant survivors, those previously engaged with child welfare, gang involved families, etc. do not safely or primarily engage with the criminal justice system and yet they are at the highest risk for multiple victimizations.",null,"Call to Safety receives limited VAWA Sexual Assault funds which provides .25 fte for our weekend swing shift Crisis Line Specialist. This position has remained stable and with increased knowledge and expertise of the VAWA funded Crisis Line Specialist to support sexual violence survivors. This VAWA funded staff covers shifts which have the highest volume of dispatch for our 24/7 in person hospital response for sexual violence survivors, which is currently being offered remotely due to COVID-19. Although the COVID-19 pandemic has changed our service delivery model for in person confidential advocacy after a sexual assault this VAWA funded position has remained vital to the process. This Crisis Line Specialist enhances our sexual violence crisis line services and increasingly complex dispatch processes during the pandemic. VAWA funding is limited so it requires additional funding to cover this direct service staff complicating reporting, budgeting and service delivery. This VAWA funded Advocate co-facilitated a training session for Safety, Systems and Lethality. This training supported staff to assist callers on the crisis line responding to high lethality and suicidal ideation.",null,null,null,"Most of the VAWA funded services were one time only crisis line calls besides for support group."]
[46074,"OR46074","2021-01-31",2020,"Center Against Rape and Domestic Violence","2019-CARDV-00007",null,null,null,null,null,null,null,null,"GI5_OrgType_VicServ_Dual",null,"NO","NO","Emily",null,"Comfort","Center Against Rape and Domestic Violence","PO Box 914","Corvallis","OR","97339","541758-0219","541-758-8458","emily.comfort@cardv.org","NO",null,3,90,7,100,"YES",1,0,0,0,0,0,0,0,0.39,0,0,0,0,0,0,0,0,0,0,0,null,0,0.39,0,0,0,0,1,0,0,0,0,0,0,0,0,0,0,0,0,0,0,0,"NO",0,0,0,0,0,0,0,0,0,0,0,0,0,0,0,0,0,0,0,0,0,0,0,0,0,0,0,0,null,0,0,0,0,0,0,0,0,0,0,0,0,0,0,0,null,0,0,0,0,0,0,0,0,0,0,0,0,0,0,0,0,0,0,0,0,null,0,0,0,0,0,0,0,0,0,0,0,0,0,0,0,0,0,null,0,0,0,0,0,null,"NO",0,0,0,0,0,0,0,0,0,0,0,0,0,0,0,null,0,0,0,0,0,0,0,0,0,0,0,0,0,0,0,null,0,0,0,0,0,0,0,0,0,0,0,0,0,0,0,0,0,null,null,null,null,null,"Weekly","Monthly","Daily","Monthly","Daily",null,"Weekly","Monthly","Daily","Quarterly","Daily","Quarterly","Daily",null,"Daily","Monthly","Daily","Quarterly","Weekly","Monthly",null,null,"Weekly",null,"Daily","Quarterly","Monthly",null,"diveristy and anti-oppression groups",null,"Quarterly","NO",0,0,0,0,0,0,0,0,0,0,0,0,0,0,null,0,0,0,0,0,0,0,0,0,0,0,0,0,0,0,0,0,0,0,0,0,null,0,0,0,0,0,0,0,0,0,0,0,0,0,0,null,0,0,0,0,0,0,0,0,0,0,0,0,0,0,0,0,0,null,0,0,0,0,0,0,0,0,0,null,0,0,0,0,0,0,0,0,0,0,0,null,"NO",0,0,null,null,null,0,null,null,null,0,null,null,null,0,null,null,null,0,null,null,null,0,null,null,null,0,null,null,null,0,null,null,null,0,null,null,null,null,0,null,null,null,0,null,null,null,0,null,null,null,"NO",0,0,0,0,0,0,0,0,0,0,0,0,0,0,0,0,0,0,0,0,0,0,0,0,0,0,0,0,null,"NO",0,0,0,0,0,0,0,0,0,0,0,0,0,null,0,0,0,0,0,0,0,0,0,0,0,0,0,0,0,0,"NO",0,0,0,0,0,0,0,0,0,0,0,0,0,0,0,0,0,0,0,0,0,0,0,0,0,0,0,0,0,0,0,0,0,0,0,0,0,0,0,0,0,0,0,0,0,0,null,0,0,0,0,0,"YES",1,5,168,13,186,0,0,0,0,5,168,13,186,0,0,0,0,4,158,13,175,5,2,0,0,0,168,2,0,0,1,13,0,5,171,15,0,0,7,0,7,0,0,0,0,0,0,0,0,0,0,0,0,0,0,0,0,0,0,0,0,0,0,0,0,0,0,0,0,0,0,0,0,null,2,2,4,7,2,167,1,1,186,152,33,1,0,186,1,22,136,27,0,186,3,6,4,3,1,0,13,1,141,4,1,19,0,1,1,1,1,5,6,1,2,0,2,0,5,168,13,158,185,181,237,4,4,168,203,0,0,1,1,0,0,6,6,1,1,null,0,0,81,0,1195,0,0,0,26,32,0,4,0,1,0,201,0,166,0,34,1,18,0,"NO",0,0,0,0,0,0,0,0,0,0,0,0,0,0,0,0,0,0,0,0,null,0,0,0,0,0,0,0,0,0,0,0,0,0,0,0,0,0,0,0,0,0,0,0,0,0,0,0,0,0,0,0,0,0,0,0,0,0,0,0,0,0,0,0,0,0,0,0,0,0,0,0,0,0,0,0,0,0,0,0,0,0,0,0,0,0,0,0,0,0,0,0,0,0,0,0,0,0,0,0,0,0,0,0,0,0,0,0,0,0,0,0,0,0,0,0,0,0,0,0,0,0,0,0,0,0,0,0,0,0,0,0,0,0,0,0,0,0,0,0,0,0,0,0,0,0,0,0,0,0,0,0,0,0,0,0,0,0,0,0,null,0,0,0,0,0,0,0,0,"NO",0,0,0,0,0,0,0,0,0,0,0,0,0,0,0,0,0,0,0,0,0,0,0,0,0,0,0,0,0,0,0,0,0,0,0,0,0,0,0,0,0,0,0,0,0,0,0,0,0,0,"NO",0,0,0,0,0,0,0,0,0,0,0,0,0,0,0,0,0,0,0,0,0,0,0,0,0,null,0,0,0,0,0,0,0,0,0,0,0,0,0,0,0,0,0,0,0,0,0,0,0,0,0,0,0,0,0,0,0,0,0,0,0,0,0,0,0,0,0,0,0,0,0,0,0,0,0,0,0,0,0,0,0,0,0,0,0,0,0,0,0,0,0,0,0,0,0,0,0,0,0,0,0,0,0,0,0,0,0,0,0,0,0,0,0,0,0,0,0,0,0,0,0,0,0,0,0,0,0,0,0,0,0,0,0,0,0,0,0,0,0,0,0,0,0,0,0,0,0,0,0,0,0,0,0,0,0,0,0,0,0,0,0,0,0,0,0,0,0,0,0,0,0,0,0,0,0,0,0,0,0,null,0,0,0,0,0,0,0,0,0,0,0,0,0,0,0,0,0,0,0,0,0,0,0,0,0,0,0,0,0,0,0,0,0,0,0,0,0,"NO",0,0,0,0,0,0,0,0,0,0,0,0,0,0,0,0,0,0,0,0,0,0,0,0,0,0,0,0,0,0,0,0,0,0,0,0,0,0,0,0,0,0,0,0,0,0,0,0,0,0,0,0,0,0,0,0,0,0,0,0,0,0,0,0,0,0,0,0,0,0,0,0,0,0,0,0,0,0,0,0,0,0,0,0,0,0,0,0,0,0,0,0,0,0,0,0,0,0,0,0,0,0,0,0,0,"NO",0,0,0,0,0,0,0,0,0,0,0,0,0,0,0,0,0,0,0,0,0,0,0,0,0,0,0,0,0,0,0,0,0,0,0,0,0,0,0,0,0,0,0,0,0,0,0,0,0,0,0,0,0,0,"NO",0,0,0,0,0,null,0,0,0,0,null,null,null,null,"CARDV has found that we assist a higher number of male identified survivors at the Courthouse for TROs than for any other service we provide over the last 5 years.  We are not sure what has caused the increased use of this service, but it is particularly higher in Linn County.We have two survivors that our prior legal advocate worked with and entered into our record keeping software as Victimization Type Domestic Violence and relationship to abuser unknown.  She has since left our organization and moved out of state, so we are unable to clarify with her.  One was for a Stalking Protection order and we would guess that she mis-entered the victimization type and it should have been Stalking.  The other was for a survivor that we helped with an EPPDAPA and we would guess that she mis-entered the relationship with the abuser and it should have been a family/ household member.",null,null,null,null,null,"The most significant area of need is more resources for rural survivors.  Our area has a small supply of family attorneys and few financial resources for victims who need money in order to pay for consultations, retainers and fees.",null,"STOP funding has allowed us to have a dedicated staff member at the local courthouses each day to assist survivors with the process to complete and file a protection order.  This advocate can also forge community relationship within the legal community on behalf of our organization.  Without this funding, victims would not receive the support that is needed when they are in crisis and filing a protection order."]
[46075,"OR46075","2021-01-25",2020,"Center for Hope & Safety","Joint-2019-CHS-00008",null,null,null,null,null,null,null,null,"GI5_OrgType_VicServ_Dual",null,"NO","NO","Sara","L","Brennan","Center for Hope & Safety","605 Center St NE","Salem","OR","97302","503-378-1572",null,"sara@hopeandsafety.org","NO",null,7,90,3,100,"YES",1,0,0,0,0,0,0,0,0,0,0,0,0,0,0,0,0,0,0.35,0,null,0,0.35,0,0,0,0,1,0,0,0,0,0,0,0,0,0,0,0,0,0,0,0,"NO",0,0,0,0,0,0,0,0,0,0,0,0,0,0,0,0,0,0,0,0,0,0,0,0,0,0,0,0,null,0,0,0,0,0,0,0,0,0,0,0,0,0,0,0,null,0,0,0,0,0,0,0,0,0,0,0,0,0,0,0,0,0,0,0,0,null,0,0,0,0,0,0,0,0,0,0,0,0,0,0,0,0,0,null,0,0,0,0,0,null,"NO",0,0,0,0,0,0,0,0,0,0,0,0,0,0,0,null,0,0,0,0,0,0,0,0,0,0,0,0,0,0,0,null,0,0,0,0,0,0,0,0,0,0,0,0,0,0,0,0,0,null,"Monthly","Quarterly","Weekly","Monthly","Weekly","Monthly","Daily","Monthly","Daily","Monthly","Monthly","Quarterly","Weekly","Monthly","Daily","Monthly","Daily","Monthly","Daily","Monthly","Daily","Monthly","Weekly","Monthly","Monthly","Quarterly","Weekly","Monthly","Daily",null,"Monthly",null,null,null,null,"NO",0,0,0,0,0,0,0,0,0,0,0,0,0,0,null,0,0,0,0,0,0,0,0,0,0,0,0,0,0,0,0,0,0,0,0,0,null,0,0,0,0,0,0,0,0,0,0,0,0,0,0,null,0,0,0,0,0,0,0,0,0,0,0,0,0,0,0,0,0,null,0,0,0,0,0,0,0,0,0,null,0,0,0,0,0,0,0,0,0,0,0,null,"NO",0,0,null,null,null,0,null,null,null,0,null,null,null,0,null,null,null,0,null,null,null,0,null,null,null,0,null,null,null,0,null,null,null,0,null,null,null,null,0,null,null,null,0,null,null,null,0,null,null,null,"NO",0,0,0,0,0,0,0,0,0,0,0,0,0,0,0,0,0,0,0,0,0,0,0,0,0,0,0,0,null,"NO",0,0,0,0,0,0,0,0,0,0,0,0,0,null,0,0,0,0,0,0,0,0,0,0,0,0,0,0,0,0,"NO",0,0,0,0,0,0,0,0,0,0,0,0,0,0,0,0,0,0,0,0,0,0,0,0,0,0,0,0,0,0,0,0,0,0,0,0,0,0,0,0,0,0,0,0,0,0,null,0,0,0,0,0,"YES",1,13,174,6,193,0,2,0,2,13,176,6,195,0,0,0,0,13,176,6,195,13,1,2,1,16,176,18,1,1,2,6,0,30,179,26,2,10,96,5,111,0,0,0,0,0,0,0,0,0,0,0,0,0,0,0,0,1,0,0,0,1,0,0,0,0,0,0,0,0,0,0,0,null,2,1,5,48,1,67,3,68,195,178,15,2,0,195,2,16,138,9,30,195,2,26,36,1,13,4,16,3,161,2,2,12,0,1,1,0,4,2,2,2,1,1,0,1,13,176,6,29,43,6,12,18,24,190,670,2,2,4,5,2,2,5,10,49,199,null,0,0,9,8,915,0,0,0,580,580,0,0,1,0,1,0,6,0,3,0,0,0,0,"NO",0,0,0,0,0,0,0,0,0,0,0,0,0,0,0,0,0,0,0,0,null,0,0,0,0,0,0,0,0,0,0,0,0,0,0,0,0,0,0,0,0,0,0,0,0,0,0,0,0,0,0,0,0,0,0,0,0,0,0,0,0,0,0,0,0,0,0,0,0,0,0,0,0,0,0,0,0,0,0,0,0,0,0,0,0,0,0,0,0,0,0,0,0,0,0,0,0,0,0,0,0,0,0,0,0,0,0,0,0,0,0,0,0,0,0,0,0,0,0,0,0,0,0,0,0,0,0,0,0,0,0,0,0,0,0,0,0,0,0,0,0,0,0,0,0,0,0,0,0,0,0,0,0,0,0,0,0,0,0,0,null,0,0,0,0,0,0,0,0,"NO",0,0,0,0,0,0,0,0,0,0,0,0,0,0,0,0,0,0,0,0,0,0,0,0,0,0,0,0,0,0,0,0,0,0,0,0,0,0,0,0,0,0,0,0,0,0,0,0,0,0,"NO",0,0,0,0,0,0,0,0,0,0,0,0,0,0,0,0,0,0,0,0,0,0,0,0,0,null,0,0,0,0,0,0,0,0,0,0,0,0,0,0,0,0,0,0,0,0,0,0,0,0,0,0,0,0,0,0,0,0,0,0,0,0,0,0,0,0,0,0,0,0,0,0,0,0,0,0,0,0,0,0,0,0,0,0,0,0,0,0,0,0,0,0,0,0,0,0,0,0,0,0,0,0,0,0,0,0,0,0,0,0,0,0,0,0,0,0,0,0,0,0,0,0,0,0,0,0,0,0,0,0,0,0,0,0,0,0,0,0,0,0,0,0,0,0,0,0,0,0,0,0,0,0,0,0,0,0,0,0,0,0,0,0,0,0,0,0,0,0,0,0,0,0,0,0,0,0,0,0,0,null,0,0,0,0,0,0,0,0,0,0,0,0,0,0,0,0,0,0,0,0,0,0,0,0,0,0,0,0,0,0,0,0,0,0,0,0,0,"NO",0,0,0,0,0,0,0,0,0,0,0,0,0,0,0,0,0,0,0,0,0,0,0,0,0,0,0,0,0,0,0,0,0,0,0,0,0,0,0,0,0,0,0,0,0,0,0,0,0,0,0,0,0,0,0,0,0,0,0,0,0,0,0,0,0,0,0,0,0,0,0,0,0,0,0,0,0,0,0,0,0,0,0,0,0,0,0,0,0,0,0,0,0,0,0,0,0,0,0,0,0,0,0,0,0,"NO",0,0,0,0,0,0,0,0,0,0,0,0,0,0,0,0,0,0,0,0,0,0,0,0,0,0,0,0,0,0,0,0,0,0,0,0,0,0,0,0,0,0,0,0,0,0,0,0,0,0,0,0,0,0,"NO",0,0,0,0,0,null,0,0,0,0,null,null,null,null,"During this reporting period, the CHS Volunteer Coordinator trained 26 volunteer advocates to help cover our crisis hotline. These volunteers are vital in providing 24/7 services to survivors!",null,null,null,null,null,"Finding affordable and available housing continues to be one of the biggest challenges for most survivors trying to rebuild their lives free of violence. In the last year, CHS has received State Housing Funds, CARES funding for housing, and HUD Rapid Re-Housing money has allowed us to help hundreds of survivors with housing needs -- from an application fee to paying monthly rent for a year or more. Even with the availability of financial resources, it often takes months for survivors to find an available rental unit. Catastrophic wildfires has further increased the demand on housing in our community.",null,"STOP VAWA funds provided funding to support our Housing Supervisor and Volunteer Coordinator, both of whom are vital in our operations. In addition, some of our VAWA funds were used for direct assistance for survivors to help meet emergency needs during this difficult year.",null,null,null,"When we originally submitted our budget for this grant, we had planned to pay a portion of our Housing Supervisor with the VAWA grant. This budget was written before the Covid-19 pandemic. CHS was fortunate to receive a significant amount of CARES funding focused on housing, so we shifted VAWA funding to cover a portion of our Volunteer Coordinator and program expenses. Both these expenses are vital to maintaining our program and the services we provide for victims and survivors of domestic violence, sexual assault, stalking, and human trafficking.",null,"We realize this data looks different from numbers we have reported in the past. Because of CARES and other changes in funding, our VAWA funds were allocated to different staff this year, and one quarter, it was allocated to direct service instead of advoc"]
[46076,"OR46076","2021-01-29",2020,"City of Hillsboro Police Department","VAWAC-Hillsb-00024",null,null,null,null,null,null,null,null,"GI5_OrgType_LawEnforce",null,"NO","NO","Leslie",null,"Smith","Hillsboro Police Department","250 SE 10th Avenue","Hillsboro","OR","97123","(503) 615-6787",null,"leslie.smith@hillsboro-oregon.gov","NO",null,2,96,2,100,"YES",1,0,0,0,0,0,0,0,0,0,0,0,0,0,0,0,0.02,0,0,0.7,null,0,0.72,1,0,0,0,1,0,0,0,0,0,1,1,0,0,0,0,0,0,0,0,"YES",1,6,1,0,0,0,0,0,0,0,0,0,0,0,0,0,0,0,0,0,0,0,0,0,0,32,0,0,null,0,33,1,1,1,1,1,1,0,0,1,1,1,0,0,null,1,0,0,1,0,1,0,0,1,1,0,0,0,1,0,0,0,0,0,0,null,0,0,0,0,0,0,0,0,0,0,0,0,0,0,0,0,0,null,0,1,1,0,0,null,"NO",0,0,0,0,0,0,0,0,0,0,0,0,0,0,0,null,0,0,0,0,0,0,0,0,0,0,0,0,0,0,0,null,0,0,0,0,0,0,0,0,0,0,0,0,0,0,0,0,0,null,null,null,null,null,null,"Quarterly",null,null,"Weekly","Monthly",null,"Quarterly",null,null,null,null,null,"Quarterly","Weekly","Monthly",null,"Quarterly",null,"Monthly",null,null,null,"Quarterly",null,"Monthly",null,null,null,null,null,"NO",0,0,0,0,0,0,0,0,0,0,0,0,0,0,null,0,0,0,0,0,0,0,0,0,0,0,0,0,0,0,0,0,0,0,0,0,null,0,0,0,0,0,0,0,0,0,0,0,0,0,0,null,0,0,0,0,0,0,0,0,0,0,0,0,0,0,0,0,0,null,0,0,0,0,0,0,0,0,0,null,0,0,0,0,0,0,0,0,0,0,0,null,"NO",0,0,null,null,null,0,null,null,null,0,null,null,null,0,null,null,null,0,null,null,null,0,null,null,null,0,null,null,null,0,null,null,null,0,null,null,null,null,0,null,null,null,0,null,null,null,0,null,null,null,"NO",0,0,0,0,0,0,0,0,0,0,0,0,0,0,0,0,0,0,0,0,0,0,0,0,0,0,0,0,null,"NO",0,0,0,0,0,0,0,0,0,0,0,0,0,null,0,0,0,0,0,0,0,0,0,0,0,0,0,0,0,0,"NO",0,0,0,0,0,0,0,0,0,0,0,0,0,0,0,0,0,0,0,0,0,0,0,0,0,0,0,0,0,0,0,0,0,0,0,0,0,0,0,0,0,0,0,0,0,0,null,0,0,0,0,0,"YES",1,4,276,4,284,0,0,0,0,4,276,4,284,0,0,0,0,4,276,4,284,4,2,0,0,0,276,0,0,0,3,4,0,4,281,4,0,0,26,0,26,0,0,0,0,0,0,0,0,0,0,0,0,0,0,0,0,0,0,0,0,0,0,0,0,0,0,0,0,0,0,0,0,null,0,3,13,98,1,152,6,11,284,210,72,2,0,284,7,87,151,16,23,284,3,8,23,0,1,0,0,2,222,3,1,48,0,0,0,0,1,0,0,0,1,0,6,0,4,276,4,23,23,0,0,32,32,219,285,0,0,3,3,2,16,2,2,14,16,null,0,0,9,25,36,0,0,0,0,0,55,0,0,0,0,0,0,0,0,0,0,0,0,"NO",0,0,0,0,0,0,0,0,0,0,0,0,0,0,0,0,0,0,0,0,null,0,0,0,0,0,0,0,0,0,0,0,0,0,0,0,0,0,0,0,0,0,0,0,0,0,0,0,0,0,0,0,0,0,0,0,0,0,0,0,0,0,0,0,0,0,0,0,0,0,0,0,0,0,0,0,0,0,0,0,0,0,0,0,0,0,0,0,0,0,0,0,0,0,0,0,0,0,0,0,0,0,0,0,0,0,0,0,0,0,0,0,0,0,0,0,0,0,0,0,0,0,0,0,0,0,0,0,0,0,0,0,0,0,0,0,0,0,0,0,0,0,0,0,0,0,0,0,0,0,0,0,0,0,0,0,0,0,0,0,null,0,0,0,0,0,0,0,0,"NO",0,0,0,0,0,0,0,0,0,0,0,0,0,0,0,0,0,0,0,0,0,0,0,0,0,0,0,0,0,0,0,0,0,0,0,0,0,0,0,0,0,0,0,0,0,0,0,0,0,0,"NO",0,0,0,0,0,0,0,0,0,0,0,0,0,0,0,0,0,0,0,0,0,0,0,0,0,null,0,0,0,0,0,0,0,0,0,0,0,0,0,0,0,0,0,0,0,0,0,0,0,0,0,0,0,0,0,0,0,0,0,0,0,0,0,0,0,0,0,0,0,0,0,0,0,0,0,0,0,0,0,0,0,0,0,0,0,0,0,0,0,0,0,0,0,0,0,0,0,0,0,0,0,0,0,0,0,0,0,0,0,0,0,0,0,0,0,0,0,0,0,0,0,0,0,0,0,0,0,0,0,0,0,0,0,0,0,0,0,0,0,0,0,0,0,0,0,0,0,0,0,0,0,0,0,0,0,0,0,0,0,0,0,0,0,0,0,0,0,0,0,0,0,0,0,0,0,0,0,0,0,null,0,0,0,0,0,0,0,0,0,0,0,0,0,0,0,0,0,0,0,0,0,0,0,0,0,0,0,0,0,0,0,0,0,0,0,0,0,"NO",0,0,0,0,0,0,0,0,0,0,0,0,0,0,0,0,0,0,0,0,0,0,0,0,0,0,0,0,0,0,0,0,0,0,0,0,0,0,0,0,0,0,0,0,0,0,0,0,0,0,0,0,0,0,0,0,0,0,0,0,0,0,0,0,0,0,0,0,0,0,0,0,0,0,0,0,0,0,0,0,0,0,0,0,0,0,0,0,0,0,0,0,0,0,0,0,0,0,0,0,0,0,0,0,0,"NO",0,0,0,0,0,0,0,0,0,0,0,0,0,0,0,0,0,0,0,0,0,0,0,0,0,0,0,0,0,0,0,0,0,0,0,0,0,0,0,0,0,0,0,0,0,0,0,0,0,0,0,0,0,0,"NO",0,0,0,0,0,null,0,0,0,0,"HPD was unable to provide the scheduled trainings DVRT was prepared to provide officers, detectives, staff and advocates, on crucial topics such as; strangulation, the cycle of trauma and mapping to safety in 2020 due to the global pandemic.  Most all of","HPD's DVRT program usually participates in educational opportunities, multiple trainings and several MDTs though-out the year.  COVID-19 altered the landscape of 2020 and what HPD was able to participate in and do in the community.",null,null,"The .72 FTE was the FTE for 2020, which was funded for the assistant positions on the grant. The full-time position was left vacant from mid-January 2020, due to Leslie Smith moving from the grant-funded position to the department coordinator after Elizabeth Sauter’s departure. Additionally, the half-time grant funded position, worked extra hours to help compensate for not having the full-time grant funded position on board. Due to covid, recruiting did not begin until Fall 2020 for the full-time grant assistant position. The assistants did not ‘teach’ therefore, no FTE should be allocated under coordinator. We have never reflected any of the assistant positions under coordinator, as there is a department-funded coordinator role.",null,null,null,null,null,"Short-term and long-term affordable housing for victims of domestic violence continues to be one of the top unmet needs in Washington County.  Abusers are often either the only source of family income or have long been in control of the finances; leaving victims/survivors struggling to figure out sustainable options for future independence.  The options are even more limited for those individuals without children, as DHS does offer victims with children a small grant for moving costs, however in this community, it does not stretch very far.  HPD has made many strides in being able to provide emergency services to our victims as; such as temporary hotel stay, but we are extremely limited to a 1 to 2 night temporary stay.  According to the 14th Annual Domestic Violence Counts National Summary (2019, Sep-12), nationally there were 77,226 victims that received services in one day with an additional 11,336 unmet requests for domestic violence services, of which 68% (7,732) were for housing. The Oregon Summary shows: 1,032 victims served in one day and 183 unmet requests for services in one day, of which 81% (149) were for housing.  This is a slight increase from Oregon's prior annual summary report regarding housing and emergency shelter services.  A victims inability to become financial independent and stable is a strong mechanism for power and control held over victims by their abusers.  Offenders use this reality as a means to further their position and make it much harder to victims to break free from the cycle of abuse.  Hillsboro is well underway on a significant South expansion, which will eventual house 20,000 new community members and with the increasing popularity of the area and its surrounding attractive industries, housing costs will continue to remain high.  Another area of need continually remains surrounding the area of mental heath services and follow up counseling.  Local resources experience full wait-lists, under-staffing and unstable funding sources that create gaps in service for victims of domestic violence.  Those that have experienced complex trauma and are seeking supportive in order to create change, need reasonable access to mental health services.  Education is also the best prevention and if these services were more readily available to community members experiencing trauma and acute stressors, the potential to lesson incidents of violence exists.  Reduction of harm being the primary goal, but also providing stable, accessible mental health options to victims/survivors would be a natural benefit to this gap being addressed.  COVID-19 made many non-profit and community based services even less accessible for victims.  Shelter in place orders and social distancing have an isolation component to them by nature, cutting off key opportunities for victims to reach out and report abuse; as well as receive mental health treatment services.  Significant gaps in services still remain for youth victims of interpersonal violence.  All to often advocates and officers respond to domestic violence calls for teenagers that are in need of assistance leaving their relationship with abusers.  Not only are their extreme limitations for what law enforcement officers and prosecutors can do with youth perpetrators of domestic violence, there are equally as many community services missing for youth victims.  This ties back into the gaps that exist for all victims of domestic violence regarding safe housing, mental heath supportive services and long term, sustainable options for remaining independent beyond the controlling relationships they've experienced.   Washington county, surrounding law enforcement agencies and community partners set to make this a topic of priority at the end of 2019, right as the global pandemic hit.  This derailed momentum and spotlight on this particular gap in services.  It remains an area of significance and an opportunity to better serve victims/survivors of DV/SA.",null,"STOP funding has allowed HPDs Domestic Violence Response Program to grow and expand services to the community in ways that would otherwise not have been possible.  The funding of full-time and part-time Jessica Gonzales program assistants have made it possible to continue working along-side officers, in response to victims of domestic violence, sexual assault, stalking and teen dating violence.  Having the staff to maintain efficient follow-up communication with victims after the initial incident, we've been able to score the risk assessments (ODARA), identify high lethality cases and communicate the importance of short-term and long-term safety to victims through-out the criminal process. HPD having a full DVRT staff enables us to not only serve more victims more inclusively, it allows us to more often assist our detectives, officers and advocates with their specific needs as well.  Growing our services and response abilities flows into better service to our community members. Funding has allowed HPD to provide Emergency Services to patrol, detectives and advocates for victims of domestic violence.  HPD has the ability to assist victims with a variety of basic needs on-scene, such as quick food, grocery, fuel gift cards, pre-paid cell phones and short-term hotel stay access.  HPD has been able to equip each of our domestic violence advocates with these gift card emergency services, as well as establish a lock box for officers and detectives to access for use with victims as needed.  Funding also allowed the program to aid victims with transportation cost to family and friends for longer term stay, purchase diapers, clothing or pay for damaged tires, as examples, in order to get to and from court dates and maintain independence from their abuser.  Although these funds are a small amount of assistance, being able to offer a tangible basic necessity to someone experiencing a personal crisis can go a very long way in supporting their efforts to break free from dependence of their abuser.  During the past 12 months, HPD's DVRT program has provided more than 200 emergency services to victims/survivors of Domestic Violence, Sexual Assault, Staking and Teen Dating Violence.  This has been an even more important service than ever, while unemployment and economic instability is higher due to the global pandemic. HPD was able to maintain a robust volunteer base and even grow its advocacy team from 21 to 26 during the pandemic.  HPD is currently in the process of beginning training for another 10 advocates; working towards meeting our goal of maintaining 40 DVRT advocates year round.  In order to meet this goal, we utilize our 40 hour advocate training into a 50% in-house and 50% self-paced online training program.  We felt it necessary to honor volunteers time and also provide the required amount of training to be a successful advocate.  With the newer format, we believe we're able to do both.  HPD strives to hold three training sessions a year to combat the natural attrition associated with volunteer-ism and understanding that volunteers will come and go.  We do not want that constant to effect the services and standards that we provide to our community.  HPD volunteer advocates gave over 6,350 hours of their time in service to victims of domestic violence in 2020.  HPDs next training set to take place in Feare the first responders working with victims of domestic violence and sexual assault.  It's crucial that HPD is trauma informed and has a working knowledge when it comes to assisting individuals affected by complex trauma.  As an advocacy program, HPD strives to provide education and training surrounding the topics of domestic violence, sexual assault, stalking and teen dating violence to community members, schools, community partners and agencies.  COVID-19 made travel for training impossible, but as most conferences and trainings have shifted their formats virtually, HPD plans to provide opportunities as they are available.",null,null,null,"As with likely was the case with many other programs, HPDs DVRT struggled in 2020 with how to meet many of our goals during the global pandemic.  Community involvement, training and education were all areas that we had predicted thriving in prior to the pandemic.  However, HPD was able to meet our most critical goal, which is direct service to victims of domestic violence, stalking, sexual assault and teen dating violence.  DVRT served over 100 more victims in 2020 than reached in 2019, provided over 200 emergency services and stepped up to fill in for community agencies that were unable to provide services during COVID-19.  HPD looks forward to 2021, by adjusting to the new landscape of working with and through COVID-19, while finding new ways to meet all of our goals."]
[46077,"OR46077","2021-01-28",2020,"Clackamas Women's Services","Joint-2019-CWS-00009",null,null,null,null,null,null,null,null,"GI5_OrgType_VicServ_Dual",null,"NO","NO","Melissa",null,"Erlbaum","Clackamas Women's Services","256 Warner Milne Rd.","Oregon City","OR","97045","503-655-8600",null,"melissae@cwsor.org","NO",null,4,92,4,100,"YES",1,0,0,0,0,0,0,0,0.45,0,0,0,0,0,0,0,0,0,0,0,null,0,0.45,0,0,0,0,1,0,0,0,0,0,0,0,0,0,0,0,0,0,0,0,"NO",0,0,0,0,0,0,0,0,0,0,0,0,0,0,0,0,0,0,0,0,0,0,0,0,0,0,0,0,null,0,0,0,0,0,0,0,0,0,0,0,0,0,0,0,null,0,0,0,0,0,0,0,0,0,0,0,0,0,0,0,0,0,0,0,0,null,0,0,0,0,0,0,0,0,0,0,0,0,0,0,0,0,0,null,0,0,0,0,0,null,"NO",0,0,0,0,0,0,0,0,0,0,0,0,0,0,0,null,0,0,0,0,0,0,0,0,0,0,0,0,0,0,0,null,0,0,0,0,0,0,0,0,0,0,0,0,0,0,0,0,0,null,"Monthly","Quarterly",null,null,null,"Quarterly","Weekly","Monthly","Daily","Weekly","Monthly","Quarterly","Monthly","Quarterly","Monthly","Quarterly","Monthly","Quarterly","Monthly","Monthly","Weekly","Monthly","Weekly","Monthly",null,null,"Daily","Monthly","Monthly","Monthly",null,null,null,null,null,"NO",0,0,0,0,0,0,0,0,0,0,0,0,0,0,null,0,0,0,0,0,0,0,0,0,0,0,0,0,0,0,0,0,0,0,0,0,null,0,0,0,0,0,0,0,0,0,0,0,0,0,0,null,0,0,0,0,0,0,0,0,0,0,0,0,0,0,0,0,0,null,0,0,0,0,0,0,0,0,0,null,0,0,0,0,0,0,0,0,0,0,0,null,"NO",0,0,null,null,null,0,null,null,null,0,null,null,null,0,null,null,null,0,null,null,null,0,null,null,null,0,null,null,null,0,null,null,null,0,null,null,null,null,0,null,null,null,0,null,null,null,0,null,null,null,"YES",1,1,1,1,0,0,0,0,0,0,1,0,0,1,1,0,0,0,1,0,0,0,1,0,0,0,0,1,"Legal services practice management for civil attorneys in LEAP","NO",0,0,0,0,0,0,0,0,0,0,0,0,0,null,0,0,0,0,0,0,0,0,0,0,0,0,0,0,0,0,"NO",0,0,0,0,0,0,0,0,0,0,0,0,0,0,0,0,0,0,0,0,0,0,0,0,0,0,0,0,0,0,0,0,0,0,0,0,0,0,0,0,0,0,0,0,0,0,null,0,0,0,0,0,"YES",1,2,47,2,51,0,0,0,0,2,47,2,51,0,0,0,0,2,47,2,51,2,0,1,0,0,47,5,1,0,0,2,0,2,47,8,1,0,0,0,0,0,0,0,0,0,0,0,0,0,0,0,0,0,0,0,0,0,0,0,0,0,0,0,0,0,0,0,0,0,0,0,0,null,0,2,0,28,0,13,6,2,51,49,2,0,0,51,1,11,37,2,0,51,0,8,28,1,22,0,8,1,38,2,0,7,0,0,1,0,0,0,0,1,0,0,2,0,2,48,2,13,13,0,0,0,0,34,36,0,0,0,0,1,3,0,0,34,85,null,0,0,0,0,0,0,0,0,0,0,0,0,0,0,0,9,3,9,3,2,2,2,2,"NO",0,0,0,0,0,0,0,0,0,0,0,0,0,0,0,0,0,0,0,0,null,0,0,0,0,0,0,0,0,0,0,0,0,0,0,0,0,0,0,0,0,0,0,0,0,0,0,0,0,0,0,0,0,0,0,0,0,0,0,0,0,0,0,0,0,0,0,0,0,0,0,0,0,0,0,0,0,0,0,0,0,0,0,0,0,0,0,0,0,0,0,0,0,0,0,0,0,0,0,0,0,0,0,0,0,0,0,0,0,0,0,0,0,0,0,0,0,0,0,0,0,0,0,0,0,0,0,0,0,0,0,0,0,0,0,0,0,0,0,0,0,0,0,0,0,0,0,0,0,0,0,0,0,0,0,0,0,0,0,0,null,0,0,0,0,0,0,0,0,"NO",0,0,0,0,0,0,0,0,0,0,0,0,0,0,0,0,0,0,0,0,0,0,0,0,0,0,0,0,0,0,0,0,0,0,0,0,0,0,0,0,0,0,0,0,0,0,0,0,0,0,"NO",0,0,0,0,0,0,0,0,0,0,0,0,0,0,0,0,0,0,0,0,0,0,0,0,0,null,0,0,0,0,0,0,0,0,0,0,0,0,0,0,0,0,0,0,0,0,0,0,0,0,0,0,0,0,0,0,0,0,0,0,0,0,0,0,0,0,0,0,0,0,0,0,0,0,0,0,0,0,0,0,0,0,0,0,0,0,0,0,0,0,0,0,0,0,0,0,0,0,0,0,0,0,0,0,0,0,0,0,0,0,0,0,0,0,0,0,0,0,0,0,0,0,0,0,0,0,0,0,0,0,0,0,0,0,0,0,0,0,0,0,0,0,0,0,0,0,0,0,0,0,0,0,0,0,0,0,0,0,0,0,0,0,0,0,0,0,0,0,0,0,0,0,0,0,0,0,0,0,0,null,0,0,0,0,0,0,0,0,0,0,0,0,0,0,0,0,0,0,0,0,0,0,0,0,0,0,0,0,0,0,0,0,0,0,0,0,0,"NO",0,0,0,0,0,0,0,0,0,0,0,0,0,0,0,0,0,0,0,0,0,0,0,0,0,0,0,0,0,0,0,0,0,0,0,0,0,0,0,0,0,0,0,0,0,0,0,0,0,0,0,0,0,0,0,0,0,0,0,0,0,0,0,0,0,0,0,0,0,0,0,0,0,0,0,0,0,0,0,0,0,0,0,0,0,0,0,0,0,0,0,0,0,0,0,0,0,0,0,0,0,0,0,0,0,"NO",0,0,0,0,0,0,0,0,0,0,0,0,0,0,0,0,0,0,0,0,0,0,0,0,0,0,0,0,0,0,0,0,0,0,0,0,0,0,0,0,0,0,0,0,0,0,0,0,0,0,0,0,0,0,"NO",0,0,0,0,0,null,0,0,0,0,null,"The LEAP program participates in a variety of collaborative initiatives including the Family Violence Coordinating Council that meets regularly to problem solve challenges with a variety of court access issues. The LEAP program is comprised of Managing Attorney, fellowship attorneys, interns and volunteers and works daily with the CWS/ASP-FJC advocates and the advocates with the District Attorney’s office.  During this report period the LEAP program team participated in the Alliance for HOPE Advanced Course on Strangulation to better assist strangulation victims as well as educating the court by creating a database of experts who could testify on strangulation at hearings (both civil and criminal). LEAP has also partnered with \"Don't Shoot PDX\" to provide trainings to their new legal program initiative and assist with legal clinics for domestic violence victims where the LEAP attorneys provide a direct connection to the Legal Advocates and other support services offered by CWS.",null,null,null,null,null,null,null,null,"Geography continues to present opportunities to do some creative brainstorming: how can we best reach rural community members in a way that is safe (physically safe as well as pandemic safe) and do it in a way that works for both the agency as well as the participant.  The program recognizes there is continued need to expand the network of available attorneys with a broad range of practice area expertise that are able to take on additional clients or offer mentorship.  Another concern we hear from participants who have worked with CWS and the LEAP attorneys is that when seeing/engaging outside counsel, that attorney oftentimes does not employ trauma informed practices (participants often relate that counsel, ‘s/he didn’t ask me that’ or ‘I tried to tell him/her about that but they said it wasn’t important’).  This feedback informs LEAP that there are continued opportunities to offer trainings to attorneys on how to implement trauma informed practices with client meetings/law practice (recognizing the intake may take longer than perhaps a client who has not been involved in a relationship shrouded in power and control).",null,"STOP program funding for Clackamas Women’s Services (CWS) has enabled us to further develop and build community support for our burgeoning Legal Empowerment Accelerator Program (LEAP), which offers comprehensive civil legal services to survivors of domestic violence, sexual assault, elder abuse, stalking, dating violence, and trafficking. The Legal Advocate works daily with the LEAP making referrals to and taking referrals from the program. As our entire community contends with the ongoing challenges presented by the COVID-19 pandemic, a robust LEAP program is even more important for survivors because safety restrictions continue to delay or defer important in-person court proceedings. This includes shifting more legal procedures to electronic filings and/or remote hearings, which requires accessible and timely expertise from an attorney well-versed in civil legal actions and the Clackamas County court system. New facilitation software available through court processes such as WebEx has allowed LEAP attorneys to effectively utilize this resource for web-based legal proceedings on behalf of clients. There are still many challenges with this system, however, the LEAP program has been able to identify challenges and provide input and feedback to the civil court collaborative meeting through A Safe Place Family Justice Center (ASP-FJC). In addition, we have long had a goal to implement a process for protective order contested hearings to occur remotely between the courthouse (respondent) and ASP-FJC (petitioner). The LEAP program has worked in close collaboration with the advocate team to create a screening process that helps participants assess their situation and make their informed decisions about what to do to resolve.  Weekly the FJC refers two participants per week for consultation with the attorneys, and this too requires great flexibility to respond to the changing social and political climate.  Each of these referrals is provided with support from the Legal Advocate and the advocate is gaining new skills from regular consultation with the LEAP attorneys. Although this report period may not have seen as many intakes/consult, what we did notice is the cases that the attorneys have taken on are taking longer to resolve due to COVID and the court attempts to manage growing numbers of cases but not enough judicial officers or courtrooms to handle the matters creating a significant pressure point in the chain, effects of which are showing up at various juncture points upstream.  During these last six months (June – December), the attorneys consulted with 36 participants:  three of which needed language services; one was unable to be reached and one secured an attorney in advance of the consult appointment; four participants had immediate hearing needs (stalking or protective order); three were able to be represented by counsel and were successful in their hearings and because of the last minute nature of one of the participant’s matters, counsel was not able to be secured for the restraining order hearing, however counsel will be able to assist with a pending dissolution.  Some significant developments are the pandemic impacting access to everything for everybody.  During that moment when the nation was paused and trying to figure out what to do, the LEAP program was using that time to assess our data gathering process and moved into the phase of implementing a data management system, Legal Server and have been spending time learning and getting up to speed on how to use this new tool.  The LEAP program has worked with some area colleges and secured undergraduate interns to the program as well as law student interns.  The LEAP Managing Attorney has been actively involved in community building projects including the Family Violence Coordinating Counsel, Strangulation Response Initiative, as well as participated in some family law work groups to improve the practice of family law for our community members.","The next six months the LEAP program will spend being intentional about finding ways to connect with the D/deaf and hard of hearing population, will also promote our services more personally with healthcare providers in the community and in grocery/drug-s"]
[46078,"OR46078","2021-01-29",2020,"Community Works","Joint 2019-2021",null,null,null,null,null,null,null,null,"GI5_OrgType_VicServ_Dual",null,"NO","NO","Barbara","C","Johnson","Community Works","2594 E. Barnett Rd., Ste.","Medford","OR","97504","5.417792393E9","5.417793317E9","bjohnson@community-works.org","NO",null,100,0,0,100,"YES",1,0,0,0,0,0,0,0,0,0,0,0,0,0,0,0,0,0,0.55000000000000004,0,null,0,0.55000000000000004,0,0,0,0,1,0,0,0,0,0,0,0,0,0,0,0,0,0,0,0,"NO",0,0,0,0,0,0,0,0,0,0,0,0,0,0,0,0,0,0,0,0,0,0,0,0,0,0,0,0,null,0,0,0,0,0,0,0,0,0,0,0,0,0,0,0,null,0,0,0,0,0,0,0,0,0,0,0,0,0,0,0,0,0,0,0,0,null,0,0,0,0,0,0,0,0,0,0,0,0,0,0,0,0,0,null,0,0,0,0,0,null,"NO",0,0,0,0,0,0,0,0,0,0,0,0,0,0,0,null,0,0,0,0,0,0,0,0,0,0,0,0,0,0,0,null,0,0,0,0,0,0,0,0,0,0,0,0,0,0,0,0,0,null,null,null,null,"Monthly",null,"Monthly","Weekly","Monthly","Daily","Weekly",null,"Monthly",null,null,"Weekly",null,"Weekly","Monthly","Weekly","Monthly","Weekly","Quarterly","Weekly","Monthly",null,null,"Daily","Weekly","Weekly","Monthly",null,null,null,null,null,"NO",0,0,0,0,0,0,0,0,0,0,0,0,0,0,null,0,0,0,0,0,0,0,0,0,0,0,0,0,0,0,0,0,0,0,0,0,null,0,0,0,0,0,0,0,0,0,0,0,0,0,0,null,0,0,0,0,0,0,0,0,0,0,0,0,0,0,0,0,0,null,0,0,0,0,0,0,0,0,0,null,0,0,0,0,0,0,0,0,0,0,0,null,"NO",0,0,null,null,null,0,null,null,null,0,null,null,null,0,null,null,null,0,null,null,null,0,null,null,null,0,null,null,null,0,null,null,null,0,null,null,null,null,0,null,null,null,0,null,null,null,0,null,null,null,"NO",0,0,0,0,0,0,0,0,0,0,0,0,0,0,0,0,0,0,0,0,0,0,0,0,0,0,0,0,null,"NO",0,0,0,0,0,0,0,0,0,0,0,0,0,null,0,0,0,0,0,0,0,0,0,0,0,0,0,0,0,0,"NO",0,0,0,0,0,0,0,0,0,0,0,0,0,0,0,0,0,0,0,0,0,0,0,0,0,0,0,0,0,0,0,0,0,0,0,0,0,0,0,0,0,0,0,0,0,0,null,0,0,0,0,0,"YES",1,42,0,0,42,0,0,0,0,42,0,0,42,0,0,0,0,32,0,0,32,42,0,0,0,0,0,0,0,0,0,0,0,42,0,0,0,0,0,0,0,0,0,0,0,0,0,0,0,0,0,0,0,0,0,0,0,0,0,0,0,0,0,0,0,0,0,0,0,0,0,0,0,null,0,0,0,18,2,18,1,3,42,39,3,0,0,42,1,3,37,1,0,42,4,2,17,2,5,0,0,29,0,0,3,0,0,2,0,0,1,0,0,1,0,6,0,0,42,0,0,11,11,1,1,13,13,40,50,0,0,1,1,6,9,0,0,38,53,null,0,0,0,0,0,0,0,0,0,0,0,0,0,0,0,11,0,0,0,0,0,0,0,"NO",0,0,0,0,0,0,0,0,0,0,0,0,0,0,0,0,0,0,0,0,null,0,0,0,0,0,0,0,0,0,0,0,0,0,0,0,0,0,0,0,0,0,0,0,0,0,0,0,0,0,0,0,0,0,0,0,0,0,0,0,0,0,0,0,0,0,0,0,0,0,0,0,0,0,0,0,0,0,0,0,0,0,0,0,0,0,0,0,0,0,0,0,0,0,0,0,0,0,0,0,0,0,0,0,0,0,0,0,0,0,0,0,0,0,0,0,0,0,0,0,0,0,0,0,0,0,0,0,0,0,0,0,0,0,0,0,0,0,0,0,0,0,0,0,0,0,0,0,0,0,0,0,0,0,0,0,0,0,0,0,null,0,0,0,0,0,0,0,0,"NO",0,0,0,0,0,0,0,0,0,0,0,0,0,0,0,0,0,0,0,0,0,0,0,0,0,0,0,0,0,0,0,0,0,0,0,0,0,0,0,0,0,0,0,0,0,0,0,0,0,0,"NO",0,0,0,0,0,0,0,0,0,0,0,0,0,0,0,0,0,0,0,0,0,0,0,0,0,null,0,0,0,0,0,0,0,0,0,0,0,0,0,0,0,0,0,0,0,0,0,0,0,0,0,0,0,0,0,0,0,0,0,0,0,0,0,0,0,0,0,0,0,0,0,0,0,0,0,0,0,0,0,0,0,0,0,0,0,0,0,0,0,0,0,0,0,0,0,0,0,0,0,0,0,0,0,0,0,0,0,0,0,0,0,0,0,0,0,0,0,0,0,0,0,0,0,0,0,0,0,0,0,0,0,0,0,0,0,0,0,0,0,0,0,0,0,0,0,0,0,0,0,0,0,0,0,0,0,0,0,0,0,0,0,0,0,0,0,0,0,0,0,0,0,0,0,0,0,0,0,0,0,null,0,0,0,0,0,0,0,0,0,0,0,0,0,0,0,0,0,0,0,0,0,0,0,0,0,0,0,0,0,0,0,0,0,0,0,0,0,"NO",0,0,0,0,0,0,0,0,0,0,0,0,0,0,0,0,0,0,0,0,0,0,0,0,0,0,0,0,0,0,0,0,0,0,0,0,0,0,0,0,0,0,0,0,0,0,0,0,0,0,0,0,0,0,0,0,0,0,0,0,0,0,0,0,0,0,0,0,0,0,0,0,0,0,0,0,0,0,0,0,0,0,0,0,0,0,0,0,0,0,0,0,0,0,0,0,0,0,0,0,0,0,0,0,0,"NO",0,0,0,0,0,0,0,0,0,0,0,0,0,0,0,0,0,0,0,0,0,0,0,0,0,0,0,0,0,0,0,0,0,0,0,0,0,0,0,0,0,0,0,0,0,0,0,0,0,0,0,0,0,0,"NO",0,0,0,0,0,null,0,0,0,0,null,null,null,null,null,null,null,null,null,null,"Survivors who are undocumented and/or who speak a language other than English are at a serious disadvantage when they try to navigate systems of support. Interpreters are few and far between, and the conversations this past year regarding deportation and the Public Charge have many survivors fearful of being deported and being sent away from their children and being without the basic necessities to survive. These barriers force survivors to feel that they have no options but to stay with an abusive person so that they are not separated from their children if they report abuse and so that they can have their basic needs met for themselves and their children. And, if they get the courage to explore civil or criminal justice proceedings, the number of bilingual staff members within systems available are very limited in number. All of this means that advocates have to provide much advocacy on behalf of and with survivors so that they can lessen their anxiety, get their basic needs met, and be able to navigate systems with more ease. This takes much time for the survivor and advocate to meet these needs. The Victim Advocate funded with these dollars is bilingual-bicultural. She works with victims to support them in being comfortable with systems, accesssing systems, and using her connections within systems to make the process as streamlined, comfortable, and safe as possible for the victims she supports. There is still a great need to work with victims to overcome these barriers and maintains to be a high priority need for victims who are not documented to be safe. Community Works provides services to Jackson County, Oregon. Our county has urban and rural areas. The areas that are rural have no public transportation and are often very isolated from safety net services. This permits an abusive person to isolate a survivor from any supports. This continues to be a barrier when we are working with survivors because we must consider survivor and staff safety in supporting an individual or family in fleeing violence. Having a coordinated, safe response to transport those fleeing abuse is a need for those in rural areas. And, having a coordinated, safe way to provide outreach and connect with survivors in rural areas so that they may access safety services is another area of need in our community. This has become especially challenging in the pandemic.",null,"The Victim Adovocate who is funded with VAWA Sexual Assault funds is both bilingual and bicultural. She provides services in both English and Spanish. Having the capacity to provide sexual assault specific services in both of these languages and in culturally responsive ways is very beneficial to survivors in our community. She recognizes the appropriate ways to traverse conversations and language that is trauma-informed in both languages. She is also able to support our other staff members when someone who is Spanish-speaking and/or from the Latinx community needs more culturally responsive supportive services than what someone not in this population is able to provide. She is stationed at our main office, and she spends much time out in the community and field supporting survivors in various systems so that they can get their needs met. She provides supportive services in two languages that includes: empathic listening and validation, protective order assistance, family law resources and connections, walking someone through and supporting them throughout a criminal justice process, and supporting survivors in the immigration process. She is also part of our staff who provide 24/7 on-call support to the hospital during a SANE forensic exam. After the exam, she provides ongoing support. All of our services are offered to survivors for as long as they need them. Due to the pandemic and local wildfires, our emergency shelter was often at capacity. This advocate provided critical services to victims as we placed them in hotels so they could stay safe. The other staff person who is partially funded by VAWA Sexual Assault funds is this advocate's manager. The manager provides critical, supportive services to the community-based advocates. She provides formal weekly supervisory sessions with all of her staff, and she also regularly connects with her staff, including this advocate. She practices the model of reflective supervision with her staff so that they can recognize and counteract the impact the trauma is having on their own lives; this model benefits both staff person and survivor. She offers support on safety planning, resources, and she is the person her staff go through when a survivor is in need of emergency assistance. She provides support in a timely manner so that survivors' safety and emergency needs are met quickly. The manager is part of the on-call rotation that supports staff who respond to SANE exams, and she provides follow up support, debriefing, and staffing about every single sexual assault exam for which advocates respond in the hospital. There are about 100 SANE exams each year in our county. In addition, she supports our main office by providing direct service when someone walks in and is in need of support.",null,null,null,"Reflection on reduced services from 2019:1. Our funds only provide sexual assault advocacy for one staff person. This person is bilingual/bicultural and has a large portion of the survivors she serves are undocumented or immigrants. This population has been very hard hit due to the pandemic and the wild fires that displaced over 3,000 homes and businesses in our county. 2. Our agency is larger than most and we were required to follow the federal emergency family leave act (HR6201) that required businesses allow employees with children and no school/daycare to stay home for almost 4 months due to this and other children’s illnesses. This employee is a single mom and had to stay home with her three children and could not work during this time. Our agency was down 33% of its staff for 6+ months in 2020, so we were scrambling to get our work done. In fact we still have positions that have been open for 10 months with no one qualified to fill them 3. Most of all sexual assault survivors have been trapped with their abusers due to the pandemic. Those undocumented are being threaten by their abuser that they will give them COVID or get them deported. All are terrified to come forward.  The virtual world has kept them even more isolated then before. The clients we are serving both sexual assault and domestic violence have far more serious physical abuse then we have seen in the past including strangulations, head injuries, broken bones/jaws, and miscarriages. While we see some of these in a year our numbers have increased by more than 100% of physical abuse."]
[46079,"OR46079","2021-01-29",2020,"Confederated Tribes of Grand Ronde","GrandRonde-00013",null,null,null,null,null,null,null,null,"GI5_OrgType_TribProg",null,"NO","YES","Danielle",null,"Murrell","Confederated Tribes of Grand Ronde","9615 Grand Ronde Road","Grand Ronde","OR","97347","503 879-1660","503 879-5127","danielle.murrell@grandronde.org","YES","Confederated Tribes of Grand Ronde",10,82,8,100,"YES",1,0,0,0,0,0,0,0,0,0,0,0,0,0,0,0,0,0,0.52,0,null,0,0.52,0,0,0,0,0,1,0,0,0,0,0,0,0,0,0,0,0,0,0,0,"NO",0,0,0,0,0,0,0,0,0,0,0,0,0,0,0,0,0,0,0,0,0,0,0,0,0,0,0,0,null,0,0,0,0,0,0,0,0,0,0,0,0,0,0,0,null,0,0,0,0,0,0,0,0,0,0,0,0,0,0,0,0,0,0,0,0,null,0,0,0,0,0,0,0,0,0,0,0,0,0,0,0,0,0,null,0,0,0,0,0,null,"NO",0,0,0,0,0,0,0,0,0,0,0,0,0,0,0,null,0,0,0,0,0,0,0,0,0,0,0,0,0,0,0,null,0,0,0,0,0,0,0,0,0,0,0,0,0,0,0,0,0,null,"Monthly",null,null,null,null,null,"Monthly",null,"Monthly","Monthly",null,"Monthly","Monthly","Monthly","Monthly","Monthly","Monthly","Monthly","Monthly","Weekly","Monthly","Weekly","Monthly","Weekly",null,null,"Monthly","Monthly","Monthly","Monthly","Monthly",null,null,null,null,"NO",0,0,0,0,0,0,0,0,0,0,0,0,0,0,null,0,0,0,0,0,0,0,0,0,0,0,0,0,0,0,0,0,0,0,0,0,null,0,0,0,0,0,0,0,0,0,0,0,0,0,0,null,0,0,0,0,0,0,0,0,0,0,0,0,0,0,0,0,0,null,0,0,0,0,0,0,0,0,0,null,0,0,0,0,0,0,0,0,0,0,0,null,"NO",0,0,null,null,null,0,null,null,null,0,null,null,null,0,null,null,null,0,null,null,null,0,null,null,null,0,null,null,null,0,null,null,null,0,null,null,null,null,0,null,null,null,0,null,null,null,0,null,null,null,"NO",0,0,0,0,0,0,0,0,0,0,0,0,0,0,0,0,0,0,0,0,0,0,0,0,0,0,0,0,null,"NO",0,0,0,0,0,0,0,0,0,0,0,0,0,null,0,0,0,0,0,0,0,0,0,0,0,0,0,0,0,0,"NO",0,0,0,0,0,0,0,0,0,0,0,0,0,0,0,0,0,0,0,0,0,0,0,0,0,0,0,0,0,0,0,0,0,0,0,0,0,0,0,0,0,0,0,0,0,0,null,0,0,0,0,0,"YES",1,2,49,4,55,0,0,0,0,2,49,4,55,0,0,0,0,2,49,4,55,2,0,0,0,10,49,8,0,0,5,4,0,12,54,12,0,0,0,0,0,0,0,0,0,0,0,0,0,0,0,0,0,0,0,0,0,0,0,0,0,0,0,0,0,0,0,0,0,0,0,0,0,null,53,0,0,0,0,2,0,0,55,54,1,0,0,55,0,9,46,0,0,55,0,20,0,0,0,0,44,0,36,1,0,2,1,0,10,2,2,0,0,0,0,0,1,0,2,49,4,27,197,10,22,24,179,31,108,0,0,4,15,0,0,15,106,55,636,null,0,0,0,0,0,0,0,0,29,61,0,0,0,0,0,5,0,5,0,0,0,0,0,"NO",0,0,0,0,0,0,0,0,0,0,0,0,0,0,0,0,0,0,0,0,null,0,0,0,0,0,0,0,0,0,0,0,0,0,0,0,0,0,0,0,0,0,0,0,0,0,0,0,0,0,0,0,0,0,0,0,0,0,0,0,0,0,0,0,0,0,0,0,0,0,0,0,0,0,0,0,0,0,0,0,0,0,0,0,0,0,0,0,0,0,0,0,0,0,0,0,0,0,0,0,0,0,0,0,0,0,0,0,0,0,0,0,0,0,0,0,0,0,0,0,0,0,0,0,0,0,0,0,0,0,0,0,0,0,0,0,0,0,0,0,0,0,0,0,0,0,0,0,0,0,0,0,0,0,0,0,0,0,0,0,null,0,0,0,0,0,0,0,0,"NO",0,0,0,0,0,0,0,0,0,0,0,0,0,0,0,0,0,0,0,0,0,0,0,0,0,0,0,0,0,0,0,0,0,0,0,0,0,0,0,0,0,0,0,0,0,0,0,0,0,0,"NO",0,0,0,0,0,0,0,0,0,0,0,0,0,0,0,0,0,0,0,0,0,0,0,0,0,null,0,0,0,0,0,0,0,0,0,0,0,0,0,0,0,0,0,0,0,0,0,0,0,0,0,0,0,0,0,0,0,0,0,0,0,0,0,0,0,0,0,0,0,0,0,0,0,0,0,0,0,0,0,0,0,0,0,0,0,0,0,0,0,0,0,0,0,0,0,0,0,0,0,0,0,0,0,0,0,0,0,0,0,0,0,0,0,0,0,0,0,0,0,0,0,0,0,0,0,0,0,0,0,0,0,0,0,0,0,0,0,0,0,0,0,0,0,0,0,0,0,0,0,0,0,0,0,0,0,0,0,0,0,0,0,0,0,0,0,0,0,0,0,0,0,0,0,0,0,0,0,0,0,null,0,0,0,0,0,0,0,0,0,0,0,0,0,0,0,0,0,0,0,0,0,0,0,0,0,0,0,0,0,0,0,0,0,0,0,0,0,"NO",0,0,0,0,0,0,0,0,0,0,0,0,0,0,0,0,0,0,0,0,0,0,0,0,0,0,0,0,0,0,0,0,0,0,0,0,0,0,0,0,0,0,0,0,0,0,0,0,0,0,0,0,0,0,0,0,0,0,0,0,0,0,0,0,0,0,0,0,0,0,0,0,0,0,0,0,0,0,0,0,0,0,0,0,0,0,0,0,0,0,0,0,0,0,0,0,0,0,0,0,0,0,0,0,0,"NO",0,0,0,0,0,0,0,0,0,0,0,0,0,0,0,0,0,0,0,0,0,0,0,0,0,0,0,0,0,0,0,0,0,0,0,0,0,0,0,0,0,0,0,0,0,0,0,0,0,0,0,0,0,0,"NO",0,0,0,0,0,null,0,0,0,0,null,"All of our coordinated community response activities have assisted us with increasing our knowledge regarding pertinent information in assisting our victim/survivors. We attend monthly SART (sexual assault response team) meetings where prosecutors, local and tribal law enforcements, SANE nurses, local advocates and probation department where we come together and collaborate. This team is beneficial because it allows our program to better understand the court process when we are assisting our victims. We also have regular contact with our local DV program's, Sable House, Center for Hope and Safety and My Sister's Place this has been extremely helpful in sharing resources and assistance when we need emergency placement. We have been attending the quarterly SATF (sexual assault task force team) meetings and currently have a application in for membership. This meeting is helpful in understanding more about policy and the legislative process and providing updated information for victim services and allows us to provide a tribal perspective and input. We consult with our social service team regularly including our Children and Family services team, which provides us with referrals and we work together to meet the needs of client and their safety. The monthly (SIT) Services Integration Team is helping in providing resources and connections for our victims. Through the CCR's we are able to building collaborative working relationships and quicker responses to referred services.",null,null,"Providing victims services is invaluable in our tribal community. Our program is fully staffed with our two advocates and a program manager, referrals continue to increase each month. Prior to having our program a good majority of our community have issues trusting service providers due to historical trauma and may not have felt comfortable reaching out to dominant culture DVSA programs. With this funding we have been able to fund for one advocate that is able to provide crisis and emotional support, transportation, safety planning, advocacy,support, information on retraining orders, and provide referrals and resources.",null,null,null,null,null,"There are many significant areas of remaining need increasing survivor's safety. One of the essential need in our communities are funding for a licensed childcare facility. In our surrounding rural communities, there are very few options for childcare, let alone options that are both affordable and trustworthy. Note our program team members our comprised of both non mandated reporters and mandated reporters, due to a professional license or employment elsewhere. More than one client has expressed fear and frustration that they need to work, but have no good options for childcare. In one instance, a mother who fled her abuser was forced to reside with extended family, who was also emotionally abusive, controlling and used corporal punishment towards her young children but it was safer than staying with her former partner. She explained how difficult it was leaving her daughters when she went to work but she had no other options. On another occasion a women reported that after fleeing her abuser, she left her daughter with in- home childcare provider, whom she suspected was physically abusing her child but also had no other option and had to go to work. We could go on sharing many similar stories, as these stories are difficult to hear, they are even more difficult for the survivors who are experiencing them. This is the reality of one of the may things victims/survivors need to think about when preparing to fleeing the abuser. When victims do get the courage to leave their abuser, they often struggle with the ability to financially support their family. Our mothers need to increase their works hours or return to the workforce to support their family. Questions such as, “how will I support my family by myself and where will we live? “How will I work and pay for childcare? These questions are huge factors in preventing women from leaving their abusers. Often our victims, do not have family support due to the abuser’s control and isolating them from friends and family for so long. If mothers are able leave, they are forced to either leave children alone, with siblings who are not much older or with unhealthy family members or friend/neighbors. Having a licensed childcare in our facility would greatly assist our victims. Not only would it remove an additional burden and the stress of locating stable and safe childcare, it would allow them to focus on rebuilding their life for themselves and their children.In addition, another area of remaining need in assisting victims is with emergency items such as car repair, often time when victims want to flee they do not have reliable transportation. Also, when victims re-locate, much of the time with children, they are not able to take all their belongings and need basic reasonable items such as a bed, sheets, table couch etc. Assisting victims with reasonable costs help with rebuilding their lives and feeling safe. Victims also need funding for security systems, typically survivors are victimized in the one place they should feel safe, their homes, so if they are able to leave the situation they want to feel safe, and a security systems assists with feeling safe.",null,"Prior to this funding we only had one Program Coordinator running the entire program including maintaining the 24- hour crisis line, 365 days a year. This funding has allowed us to expand our program and fund for a portion of one FTE Advocate. This allows us to provide more services to victim survivors in our community.  A good majority of our community have issues trusting service providers due to historical trauma and may not have felt comfortable reaching out to dominant culture DVSA programs. With this funding we have been able to provide crisis and emotional support, transportation, safety planning, advocacy,support, information on retraining orders, facilitate weekly, cultural responsive women's group and referrals. Our STOP funded program staff have been able to assist a victim with paying her rent after her abuser left, allowing a safe place for her and her children after she was left with  sole financially responsibility. We have been able to assist with emergency hotel stays and eventually transitional shelter. A woman and her child were able to flee an abusive boyfriend that was abusing victim and her daughter. Our last contact with this victim she and daughter are stable, thriving and seeking therapy and case management. Our STOP program staff were also able to assist a victim with 3 children in the home with emergency utility turn on, it had been snowing and her electricity was turned off. The victim's abuser whom was the financial provider left the house and would pay his portion of the bills. Prior to our program existence physical and sexual assault were normalized because it is so prevalent  in our community, our program is providing our tribal community information, options and safety that they did not have prior to our program's existence."]
[46080,"OR46080","2021-01-27",2020,"Confederated Tribes of Siletz Indians","Joint Siletz 00012",null,null,null,null,null,null,null,null,"GI5_OrgType_TribProg",null,"NO","YES","Kimberly","R","Lane","Confederated Tribes of Siletz Indians","200 Gwee Shut Road","Siletz","OR","97380","5.414449679E9","541-444-9696","Kimberlyl@ctsi.nsn.us","YES","All members of federally recognized tribes in our 11 county service area.",10,87,3,100,"NO",0,0,0,0,0,0,0,0,0,0,0,0,0,0,0,0,0,0,0,0,null,0,0,0,0,0,0,1,1,0,0,0,0,1,0,0,0,0,0,0,0,0,0,"NO",0,0,0,0,0,0,0,0,0,0,0,0,0,0,0,0,0,0,0,0,0,0,0,0,0,0,0,0,null,0,0,0,0,0,0,0,0,0,0,0,0,0,0,0,null,0,0,0,0,0,0,0,0,0,0,0,0,0,0,0,0,0,0,0,0,null,0,0,0,0,0,0,0,0,0,0,0,0,0,0,0,0,0,null,0,0,0,0,0,null,"NO",0,0,0,0,0,0,0,0,0,0,0,0,0,0,0,null,0,0,0,0,0,0,0,0,0,0,0,0,0,0,0,null,0,0,0,0,0,0,0,0,0,0,0,0,0,0,0,0,0,null,null,null,null,null,null,null,null,null,null,null,null,null,null,null,null,null,null,null,null,null,null,null,null,null,null,null,null,"Quarterly",null,null,null,null,"CEDARR Community Coalition",null,null,"NO",0,0,0,0,0,0,0,0,0,0,0,0,0,0,null,0,0,0,0,0,0,0,0,0,0,0,0,0,0,0,0,0,0,0,0,0,null,0,0,0,0,0,0,0,0,0,0,0,0,0,0,null,0,0,0,0,0,0,0,0,0,0,0,0,0,0,0,0,0,null,0,0,0,0,0,0,0,0,0,null,0,0,0,0,0,0,0,0,0,0,0,null,"NO",0,0,null,null,null,0,null,null,null,0,null,null,null,0,null,null,null,0,null,null,null,0,null,null,null,0,null,null,null,0,null,null,null,0,null,null,null,null,0,null,null,null,0,null,null,null,0,null,null,null,"NO",0,0,0,0,0,0,0,0,0,0,0,0,0,0,0,0,0,0,0,0,0,0,0,0,0,0,0,0,null,"NO",0,0,0,0,0,0,0,0,0,0,0,0,0,null,0,0,0,0,0,0,0,0,0,0,0,0,0,0,0,0,"NO",0,0,0,0,0,0,0,0,0,0,0,0,0,0,0,0,0,0,0,0,0,0,0,0,0,0,0,0,0,0,0,0,0,0,0,0,0,0,0,0,0,0,0,0,0,0,null,0,0,0,0,0,"YES",1,6,49,2,57,0,0,0,0,6,49,2,57,0,0,0,0,6,49,2,57,6,0,0,0,0,49,0,0,0,0,2,0,6,49,2,0,0,39,0,39,0,0,0,0,0,0,0,0,0,0,0,0,0,0,0,0,0,0,0,0,0,0,0,0,0,0,0,0,0,0,0,0,null,32,0,0,2,0,19,0,4,57,51,2,0,4,57,0,1,48,6,2,57,0,2,0,0,0,0,21,1,46,2,0,1,0,0,0,0,5,2,0,0,0,0,0,0,6,49,2,3,8,2,2,1,1,49,118,0,0,0,0,0,0,19,19,57,89,null,0,0,17,37,253,7,14,914,59,237,0,0,0,0,0,0,0,0,0,0,0,0,0,"NO",0,0,0,0,0,0,0,0,0,0,0,0,0,0,0,0,0,0,0,0,null,0,0,0,0,0,0,0,0,0,0,0,0,0,0,0,0,0,0,0,0,0,0,0,0,0,0,0,0,0,0,0,0,0,0,0,0,0,0,0,0,0,0,0,0,0,0,0,0,0,0,0,0,0,0,0,0,0,0,0,0,0,0,0,0,0,0,0,0,0,0,0,0,0,0,0,0,0,0,0,0,0,0,0,0,0,0,0,0,0,0,0,0,0,0,0,0,0,0,0,0,0,0,0,0,0,0,0,0,0,0,0,0,0,0,0,0,0,0,0,0,0,0,0,0,0,0,0,0,0,0,0,0,0,0,0,0,0,0,0,null,0,0,0,0,0,0,0,0,"NO",0,0,0,0,0,0,0,0,0,0,0,0,0,0,0,0,0,0,0,0,0,0,0,0,0,0,0,0,0,0,0,0,0,0,0,0,0,0,0,0,0,0,0,0,0,0,0,0,0,0,"NO",0,0,0,0,0,0,0,0,0,0,0,0,0,0,0,0,0,0,0,0,0,0,0,0,0,null,0,0,0,0,0,0,0,0,0,0,0,0,0,0,0,0,0,0,0,0,0,0,0,0,0,0,0,0,0,0,0,0,0,0,0,0,0,0,0,0,0,0,0,0,0,0,0,0,0,0,0,0,0,0,0,0,0,0,0,0,0,0,0,0,0,0,0,0,0,0,0,0,0,0,0,0,0,0,0,0,0,0,0,0,0,0,0,0,0,0,0,0,0,0,0,0,0,0,0,0,0,0,0,0,0,0,0,0,0,0,0,0,0,0,0,0,0,0,0,0,0,0,0,0,0,0,0,0,0,0,0,0,0,0,0,0,0,0,0,0,0,0,0,0,0,0,0,0,0,0,0,0,0,null,0,0,0,0,0,0,0,0,0,0,0,0,0,0,0,0,0,0,0,0,0,0,0,0,0,0,0,0,0,0,0,0,0,0,0,0,0,"NO",0,0,0,0,0,0,0,0,0,0,0,0,0,0,0,0,0,0,0,0,0,0,0,0,0,0,0,0,0,0,0,0,0,0,0,0,0,0,0,0,0,0,0,0,0,0,0,0,0,0,0,0,0,0,0,0,0,0,0,0,0,0,0,0,0,0,0,0,0,0,0,0,0,0,0,0,0,0,0,0,0,0,0,0,0,0,0,0,0,0,0,0,0,0,0,0,0,0,0,0,0,0,0,0,0,"NO",0,0,0,0,0,0,0,0,0,0,0,0,0,0,0,0,0,0,0,0,0,0,0,0,0,0,0,0,0,0,0,0,0,0,0,0,0,0,0,0,0,0,0,0,0,0,0,0,0,0,0,0,0,0,"NO",0,0,0,0,0,null,0,0,0,0,null,"Our Community Coalition was going strong through the begining of 2020, we were interupted with our meetings during the pandemic however the committee that hosts CEDARR has renewed its efforts and currently is recruiting 12 core sectors of representation to enliven investment and participation to serve a wider range of the community and we meet weekly.",null,null,null,null,null,null,null,null,"During the covid-19 pandemic we have seen  how precarious people's living situations are by how quickly collapse of employment, income, and healthcare affect an individuals situation. Native American /Alaskan Native survivors face that reality already, and the pandemic just added to that burden. We know resources, access to healthcare, social services,  livable income, and upward mobility are woefully lower for this population than other demographics. So when the pandemic kept going, we realized that our survivors issues didn't really change, they just were enhanced. And the biggest need that goes unanswered by funding is mental health. In recent years grants have started to make mental health counseling allowable for clients, but we realized its not just counseling and crisis peer support, its long term, community connection, and healing based activities that gives survivors hope. Because hope is something that interpersonal violence and the pandemic rob survivors of. Hope is the thing harder to obtain when you live in an actively oppressed community, body, identity. Funding needs to be about emergency services, but it also needs to be about healing and creating a center of hope. Funding for emergency services have shifted to addressing the housing crisis and increasing funds to help survivors with rent subsidies and such, and the emerging issue is now housing units. Finding a unit open, and then finding one that will accept the survivor, and then that will accept the housing assistance grants like STOP VAWA funding provides, is quite the challenge. Holding offenders accountable is still an issue that can only be addressed by increased funding towards education and prevention. Education and prevention about interpersonal violence is easy to deliver but to be able to receive and process that information one has to be able to define healthy relationsips, from romance to familial and friendship. To add to that teaching emotional competency and the five areas of safety : physical, social, moral, emotional and psychological, is critical for that education and prevention to holistically address the systemic issues that cause interpersonal violence and interupt false social narratives that perpetuate coldness and distance to these issues as a society.  Long term prevention and education programing is just one community aspect of holding offenders accountable. From a systems perspective, it starts with law enforcement and their ability and resources to acess personal violence instances and threats when encountering them and offenders. It is judges who are cold or indifferent to victims and refuse to enertain the idea, being forced to have regular reviews of their hearings for protection orders. And its funding for disposession enforcement in communities.",null,"This funding has allowed us to run a transitional housing program that meets clients needs during a global pandemic that is causing a serious housing crisis to spiral out of control. It has allowed us to provide trauma informed and harm reduction centered services throughout the toughest crisis of our generation and also guide other workers addressing other social health determinant issues, working with people remotely in large phone banking situations for services the tribe provides and talk them through how to recognize someones unsaid or implied need, how to recognize trauma, and provide programming that acted an example in how to navigate clients and patients in nothing but compounding trauma. This funding has also allowed us to serve an unprecedented amount of clients during a time when our county partners were low on resources and had to refer their clients to us at times, when we had staff turnover, and during a pandemic that caused every action a survivor took to be that much more serious, potentially lethal, and exceptionally nuanced with consequences. Because of this funding we were one of the few programs in the tribe that was able to keep working and not miss a beat or a day of work since the onset of the Oregon stay at home orders on March 17th.",null,null,null,"VAWA grant funds support emergency support services to victims of sexual assault, domestic violence, within the Siletz community.  The Domestic Violence/Sexual Assault program for the Confederated Tribes of Siletz Indians  receives other grant funds that  provides services for victims and survivors along with this grant. These funds along with other tribal funds support DVSA staff. Without the state STOP funding we would not be able to meet our high client capacity that experiences higher than average barriers to wellness and safety. This data was captured during the pandemic, staff turnover, and extreme natural disasters that continued to affect the area, the most important message in this data is that survivors are struggling to stabilize among the added barriers of our times. The number reported does not reflect the total number of survivors served under CARE especially due to the COVID funding we were able to use. Most clients from March on were impacted by covid so those funds were used to cover them."]
[46081,"OR46081","2021-02-02",2020,"Confederated Tribes of Warm Springs Oregon","WarmSprings-00015",null,null,null,null,null,null,null,null,"GI5_OrgType_TribProg",null,"NO","YES","Nancy","M","Seyler","Confederated Tribes of Warm Springs Oregon","P.O. Box C","Warm Springs","OR","97761","541-553-3300",null,"nancy.seyler@wstribes.org","YES","Confederated Tribes of Warm Springs Oregon-Warm Springs, Wasco, Paiute",58,42,0,100,"YES",1,0,0,0,0,0,0,0,0,0,0,0,0,0,0,0,0,0,0.19,0,null,0,0.19,0,0,0,0,0,1,0,0,0,0,0,0,0,0,0,0,0,0,0,0,"NO",0,0,0,0,0,0,0,0,0,0,0,0,0,0,0,0,0,0,0,0,0,0,0,0,0,0,0,0,null,0,0,0,0,0,0,0,0,0,0,0,0,0,0,0,null,0,0,0,0,0,0,0,0,0,0,0,0,0,0,0,0,0,0,0,0,null,0,0,0,0,0,0,0,0,0,0,0,0,0,0,0,0,0,null,0,0,0,0,0,null,"NO",0,0,0,0,0,0,0,0,0,0,0,0,0,0,0,null,0,0,0,0,0,0,0,0,0,0,0,0,0,0,0,null,0,0,0,0,0,0,0,0,0,0,0,0,0,0,0,0,0,null,null,null,null,null,null,null,"Weekly",null,"Monthly","Monthly",null,null,null,null,null,null,null,null,"Weekly","Monthly",null,null,"Weekly","Quarterly",null,null,null,null,null,null,"Monthly",null,null,null,null,"NO",0,0,0,0,0,0,0,0,0,0,0,0,0,0,null,0,0,0,0,0,0,0,0,0,0,0,0,0,0,0,0,0,0,0,0,0,null,0,0,0,0,0,0,0,0,0,0,0,0,0,0,null,0,0,0,0,0,0,0,0,0,0,0,0,0,0,0,0,0,null,0,0,0,0,0,0,0,0,0,null,0,0,0,0,0,0,0,0,0,0,0,null,"NO",0,0,null,null,null,0,null,null,null,0,null,null,null,0,null,null,null,0,null,null,null,0,null,null,null,0,null,null,null,0,null,null,null,0,null,null,null,null,0,null,null,null,0,null,null,null,0,null,null,null,"NO",0,0,0,0,0,0,0,0,0,0,0,0,0,0,0,0,0,0,0,0,0,0,0,0,0,0,0,0,null,"NO",0,0,0,0,0,0,0,0,0,0,0,0,0,null,0,0,0,0,0,0,0,0,0,0,0,0,0,0,0,0,"NO",0,0,0,0,0,0,0,0,0,0,0,0,0,0,0,0,0,0,0,0,0,0,0,0,0,0,0,0,0,0,0,0,0,0,0,0,0,0,0,0,0,0,0,0,0,0,null,0,0,0,0,0,"YES",1,7,5,0,12,0,0,0,0,7,5,0,12,0,0,0,0,7,5,0,12,7,0,0,0,0,5,0,0,0,0,0,0,7,5,0,0,4,2,0,6,0,0,0,0,0,0,0,0,0,0,0,0,0,0,0,0,0,0,0,0,0,0,0,0,0,0,0,0,0,0,0,0,null,12,0,0,0,0,0,0,0,12,9,3,0,0,12,3,4,5,0,0,12,0,1,0,0,0,0,12,1,1,0,1,1,0,0,0,0,3,3,0,0,0,2,0,0,7,5,0,4,4,0,0,0,0,5,5,0,0,0,0,0,0,3,3,0,0,null,0,0,0,0,0,0,0,0,0,0,68,1,1,0,0,4,3,4,3,0,0,0,0,"NO",0,0,0,0,0,0,0,0,0,0,0,0,0,0,0,0,0,0,0,0,null,0,0,0,0,0,0,0,0,0,0,0,0,0,0,0,0,0,0,0,0,0,0,0,0,0,0,0,0,0,0,0,0,0,0,0,0,0,0,0,0,0,0,0,0,0,0,0,0,0,0,0,0,0,0,0,0,0,0,0,0,0,0,0,0,0,0,0,0,0,0,0,0,0,0,0,0,0,0,0,0,0,0,0,0,0,0,0,0,0,0,0,0,0,0,0,0,0,0,0,0,0,0,0,0,0,0,0,0,0,0,0,0,0,0,0,0,0,0,0,0,0,0,0,0,0,0,0,0,0,0,0,0,0,0,0,0,0,0,0,null,0,0,0,0,0,0,0,0,"NO",0,0,0,0,0,0,0,0,0,0,0,0,0,0,0,0,0,0,0,0,0,0,0,0,0,0,0,0,0,0,0,0,0,0,0,0,0,0,0,0,0,0,0,0,0,0,0,0,0,0,"NO",0,0,0,0,0,0,0,0,0,0,0,0,0,0,0,0,0,0,0,0,0,0,0,0,0,null,0,0,0,0,0,0,0,0,0,0,0,0,0,0,0,0,0,0,0,0,0,0,0,0,0,0,0,0,0,0,0,0,0,0,0,0,0,0,0,0,0,0,0,0,0,0,0,0,0,0,0,0,0,0,0,0,0,0,0,0,0,0,0,0,0,0,0,0,0,0,0,0,0,0,0,0,0,0,0,0,0,0,0,0,0,0,0,0,0,0,0,0,0,0,0,0,0,0,0,0,0,0,0,0,0,0,0,0,0,0,0,0,0,0,0,0,0,0,0,0,0,0,0,0,0,0,0,0,0,0,0,0,0,0,0,0,0,0,0,0,0,0,0,0,0,0,0,0,0,0,0,0,0,null,0,0,0,0,0,0,0,0,0,0,0,0,0,0,0,0,0,0,0,0,0,0,0,0,0,0,0,0,0,0,0,0,0,0,0,0,0,"NO",0,0,0,0,0,0,0,0,0,0,0,0,0,0,0,0,0,0,0,0,0,0,0,0,0,0,0,0,0,0,0,0,0,0,0,0,0,0,0,0,0,0,0,0,0,0,0,0,0,0,0,0,0,0,0,0,0,0,0,0,0,0,0,0,0,0,0,0,0,0,0,0,0,0,0,0,0,0,0,0,0,0,0,0,0,0,0,0,0,0,0,0,0,0,0,0,0,0,0,0,0,0,0,0,0,"NO",0,0,0,0,0,0,0,0,0,0,0,0,0,0,0,0,0,0,0,0,0,0,0,0,0,0,0,0,0,0,0,0,0,0,0,0,0,0,0,0,0,0,0,0,0,0,0,0,0,0,0,0,0,0,"NO",0,0,0,0,0,null,0,0,0,0,null,null,null,null,"Services basically halted beginning March 23, 2020 through December 31, 2020 due to COVID-19.  Multiple community members were testing positive continuously resulting in people having to get tested and place in to 14-day isolation and or quarantine, buildings were being deep cleaned, tribal organization was entirely shut down at times and when it wasn't only essential employees reported to work (LE, Fire & Safety, Utilities).  Eventually the work force slowly increased but daily work activities were rescheduled.  The impact of the closures for emergency services was readjusted where the advocates responded by telephone only to listen and provide safety planning and what resources were available.  Fortunately this process worked.  Emergency restraining orders were filed on behalf of the victim/client through LE and granted by the on-call judge.  During the summer months and thereafter, court hearings were heard for restraining orders on Tuesday mornings as needed.",null,null,null,null,null,"Increased funding for advocate salaries and to hire at least one more full-time advocate to include the increase of emergency client services.  Our small tribal rural community is a place where every one knows your business and is related either biologically and or by culture, the victim and or suspect is your \"brother\" or \"sister\" (examples) but  not your biological brother/sister but were raised together by one of their parents or grandparent(s).  This poses a conflict of interest and inner family strife regardless if it's sexual abuse or domestic violence.",null,"Being the recipient of continuous federal grant funding to provide emergency client services.  Unfortunately COVID-19 had its impact upon our tribal community as well as throughout the world and client services were limited.March 23-May 22, 2020 the tribal organization and I.H.S. tribal depts. were shut down completely due to COVID-19 with the exception of essential services that consisted of the police and fire depts., emergency mgmt. VOCS was included with the shutdown which was the building and staff, however, the advocates have an on-call schedule and that was adhered to and adjusted.  The on-call schedule has the advocates assigned on a weekly basis where they are on call Monday through Thursday evenings 5:00 p.m.-8:00 a.m. and Friday through Sundays, 24-7.  The adjustment was the time was expanded and the on-call advocates were on 24-7 for their assigned week.  Police and fire depts. were very, very cautious and had to prepare through training and acquire required equipment the N95's, PPE, sanitizing products, etc. should they respond to 911 calls.  Priority calls were DV/SA related, deaths, accidents or the serious incidents.  When the advocate was contacted, she would speak to the victim to ensure they were ok, developed a safety plan along with if the offender had been arrested or at large.  May 25 there was a 50% return of employees but all buildings, including I.H.S. were closed to public access, it was by telephone for communication or appointments only.  This was short lived due to increase of positive cases, and everything was shut down for several weeks.50% workforce returned with staggered work hours which could be early work hours, evening hours and or weekend work hours.  Those individuals who were elders (60+ older) and or had health concerns could do remote work as long as they tracked their work and time to be submitted to their immediate supervisor, Secretary-Treasurer and payroll.July -September there were more closures on 2-week incremates depending on covid tests, and the California-Oregon fires impacted our community due to the stagnate air for 1-2 weeks.  Our main tribal community sits down in a canyon and there was no air movement, we had reddish-brown smoke 24-7 which impacted breathing.  Tribes shutdown or worked sporadically.Fortunately advocates were able to provide safety measures via phone, but when the advocate had to respond, safety measures were taken by the advocate (face mask, 6' distance, no transporting, etc.).  We were impacted in that we had family members and co-workers who tested positive and with that came 14-day isolation or quarantine, thus, the Acting VOCS Program Mgr. had to step in and cover, which also impacted her in that the victim had tested positive and she had to be isolated as well as LE who had been in contact with victim as the police dept.  When this happened then work sites are shutdown for deep cleaning that would last 1-3 days.Return to full time work at the work sites resumed in October with continued restrictions such as buildings/programs closed to the public, appointments only, telephone/Zoom connections, continued safety measures, no transportation, no travel ban, etc.",null,null,null,"Victim/client services were completed by the advocate for emergency RO's by filling it out and taking them to WSPD Dispatch who in turn called the on-call judge.  RO's remained in effect until a court hearing could be scheduled and heard when 50% of the employees returned to work.  Only then would the victim and offender be allowed in to the court room but it was encouraged to appear by phone or Zoom.  Transportation was providing a gas card for the person for their destination.Crisis was completed by telephone.","From July through December 2020 the .19 advocate position was vacant and there was a hire freeze until December when a waiver was granted to advertise leading to hiring this position."]
[46082,"OR46082","2021-01-31",2020,"Cow Creek Band of Umpqua Tribe of Indians","Joint-2019-19",null,null,null,null,null,null,null,null,"GI5_OrgType_TribProg",null,"NO","YES","Julie","A","Zuver","Cow Creek Band of Umpqua Tribe of Indians","2371 NE Stephens Street","Roseburg","OR","97470","(541)492-5240","541-492-5260","jzuver@cowcreek.com","YES","Cow Creek Band of Umpqua Tribe of Indians specifically; other Tribal member",0,100,0,100,"YES",1,0,0,0,0,0,0,0,0,0,0,0,0,0,0,0,0,0,0.17,0,null,0,0.17,0,0,0,0,1,1,0,0,0,0,0,0,0,0,1,0,0,0,1,0,"NO",0,0,0,0,0,0,0,0,0,0,0,0,0,0,0,0,0,0,0,0,0,0,0,0,0,0,0,0,null,0,0,0,0,0,0,0,0,0,0,0,0,0,0,0,null,0,0,0,0,0,0,0,0,0,0,0,0,0,0,0,0,0,0,0,0,null,0,0,0,0,0,0,0,0,0,0,0,0,0,0,0,0,0,null,0,0,0,0,0,null,"NO",0,0,0,0,0,0,0,0,0,0,0,0,0,0,0,null,0,0,0,0,0,0,0,0,0,0,0,0,0,0,0,null,0,0,0,0,0,0,0,0,0,0,0,0,0,0,0,0,0,null,null,null,"Monthly","Monthly",null,null,null,null,"Monthly","Monthly",null,null,null,null,"Monthly",null,"Monthly","Weekly",null,null,"Monthly",null,null,null,null,null,null,"Monthly",null,null,"Monthly",null,null,null,null,"NO",0,0,0,0,0,0,0,0,0,0,0,0,0,0,null,0,0,0,0,0,0,0,0,0,0,0,0,0,0,0,0,0,0,0,0,0,null,0,0,0,0,0,0,0,0,0,0,0,0,0,0,null,0,0,0,0,0,0,0,0,0,0,0,0,0,0,0,0,0,null,0,0,0,0,0,0,0,0,0,null,0,0,0,0,0,0,0,0,0,0,0,null,"YES",1,0,null,null,null,1,"Violence is Not Traditional","tribal members",null,0,null,"others in need",null,0,null,null,null,0,null,null,null,0,null,null,null,0,null,null,null,1,"TREM group sessions for trauma","tribal members",null,0,null,"others in need",null,null,0,null,null,null,0,null,null,null,0,null,null,null,"NO",0,0,0,0,0,0,0,0,0,0,0,0,0,0,0,0,0,0,0,0,0,0,0,0,0,0,0,0,null,"NO",0,0,0,0,0,0,0,0,0,0,0,0,0,null,0,0,0,0,0,0,0,0,0,0,0,0,0,0,0,0,"NO",0,0,0,0,0,0,0,0,0,0,0,0,0,0,0,0,0,0,0,0,0,0,0,0,0,0,0,0,0,0,0,0,0,0,0,0,0,0,0,0,0,0,0,0,0,0,null,0,0,0,0,0,"YES",1,0,5,0,5,0,0,0,0,0,5,0,5,0,0,0,0,0,1,0,1,0,0,0,0,0,5,0,0,0,0,0,0,0,5,0,0,0,6,0,6,0,0,0,0,0,0,0,0,0,0,0,0,0,0,0,0,0,0,0,0,0,0,0,0,0,0,0,0,0,0,0,0,null,5,0,0,0,0,0,0,0,5,4,1,0,0,5,0,0,5,0,0,5,0,0,0,0,0,0,5,0,5,0,0,0,0,0,0,0,0,0,0,0,0,0,0,0,0,5,0,1,1,2,2,0,0,1,1,0,0,0,0,0,0,1,1,0,0,null,0,0,2,4,90,3,6,300,0,0,0,0,0,0,0,1,1,1,1,0,0,0,0,"NO",0,0,0,0,0,0,0,0,0,0,0,0,0,0,0,0,0,0,0,0,null,0,0,0,0,0,0,0,0,0,0,0,0,0,0,0,0,0,0,0,0,0,0,0,0,0,0,0,0,0,0,0,0,0,0,0,0,0,0,0,0,0,0,0,0,0,0,0,0,0,0,0,0,0,0,0,0,0,0,0,0,0,0,0,0,0,0,0,0,0,0,0,0,0,0,0,0,0,0,0,0,0,0,0,0,0,0,0,0,0,0,0,0,0,0,0,0,0,0,0,0,0,0,0,0,0,0,0,0,0,0,0,0,0,0,0,0,0,0,0,0,0,0,0,0,0,0,0,0,0,0,0,0,0,0,0,0,0,0,0,null,0,0,0,0,0,0,0,0,"NO",0,0,0,0,0,0,0,0,0,0,0,0,0,0,0,0,0,0,0,0,0,0,0,0,0,0,0,0,0,0,0,0,0,0,0,0,0,0,0,0,0,0,0,0,0,0,0,0,0,0,"NO",0,0,0,0,0,0,0,0,0,0,0,0,0,0,0,0,0,0,0,0,0,0,0,0,0,null,0,0,0,0,0,0,0,0,0,0,0,0,0,0,0,0,0,0,0,0,0,0,0,0,0,0,0,0,0,0,0,0,0,0,0,0,0,0,0,0,0,0,0,0,0,0,0,0,0,0,0,0,0,0,0,0,0,0,0,0,0,0,0,0,0,0,0,0,0,0,0,0,0,0,0,0,0,0,0,0,0,0,0,0,0,0,0,0,0,0,0,0,0,0,0,0,0,0,0,0,0,0,0,0,0,0,0,0,0,0,0,0,0,0,0,0,0,0,0,0,0,0,0,0,0,0,0,0,0,0,0,0,0,0,0,0,0,0,0,0,0,0,0,0,0,0,0,0,0,0,0,0,0,null,0,0,0,0,0,0,0,0,0,0,0,0,0,0,0,0,0,0,0,0,0,0,0,0,0,0,0,0,0,0,0,0,0,0,0,0,0,"NO",0,0,0,0,0,0,0,0,0,0,0,0,0,0,0,0,0,0,0,0,0,0,0,0,0,0,0,0,0,0,0,0,0,0,0,0,0,0,0,0,0,0,0,0,0,0,0,0,0,0,0,0,0,0,0,0,0,0,0,0,0,0,0,0,0,0,0,0,0,0,0,0,0,0,0,0,0,0,0,0,0,0,0,0,0,0,0,0,0,0,0,0,0,0,0,0,0,0,0,0,0,0,0,0,0,"NO",0,0,0,0,0,0,0,0,0,0,0,0,0,0,0,0,0,0,0,0,0,0,0,0,0,0,0,0,0,0,0,0,0,0,0,0,0,0,0,0,0,0,0,0,0,0,0,0,0,0,0,0,0,0,"NO",0,0,0,0,0,null,0,0,0,0,null,"Attending the domestic violence and sexual assault task force meetings help coordinate efforts and care for Survivors.  We keep abreast of changes in the various agencies so effective referrals can be made when needed.  Law enforcement generally attends these meetings as well so we can keep abreast of any policy changes and/or changes in the way the courts are addressing these issues in our community.We staff regularly with mental health and treatment organizations where are clients receive services, such as empowerment groups and counseling or substance abuse treatment to ensure their needs are being met and they are being served in the best most appropriate way for them.We work closely with our contracted Tribal Police who report any incidences they are aware of.  We assist with obtaining Restraining Orders and attend court hearings with survivors if they choose to have us there.  This helps with community awareness of the services we have to offer.",null,null,"In this year of the pandemic we were somewhat constrained in the service of members who needed victim services.  The shut down of businesses and out office impacted all of us, including those who needed services.  Nonetheless, we continued to work remotely and meet in person when absolutely necessary, such as to assist with obtaining restraining orders, etc.  We met via phone and zoom where ever possible.  We continued to provide shelter/housing services in spite of concerns.  Although we have yet to get out support groups up and running due to the pandemic, we nonetheless received training on facilitating those groups use the TREM model in preparation for loosening of restrictions.  We lost our coordinator for this grant to medical retirement in September and we are actively recruiting for a replacement.  We have continued to serve victims she was working with through this and other grants, offering all the services we can remotely and in person if absolutely needed.  The restrictions are beginning to lessen so we are hopeful we will have a replacement soon and be up and running at full capacity soon.",null,null,null,null,null,"In our rural community there is a dire lack of shelter space.  Although we are able to provide two safe houses and transitional housing for victims, the only other entity is Peace at Home, formerly Battered Person's Advocacy.  They provide a women's shelter and, like us, do provide hotel stays when no other alternative exists.  Nonetheless, the shelter space, safe houses and transitional housing are always full and it is difficult to provide quick access to a safe place other than hotels.  The pandemic also presents challenges in placing victims and providing services, throughout the year, many agencies and courts were shut down or at a very limited capacity.  Many services went to online formats, which not everyone is able to access.  Only one treatment facility exists for batterer's intervention and we have no empowerment groups to sent folks to at this time.  Services that are available are online.  We have been able to provide laptops for some to be able to take advantage of the classes but surely there are others who cannot get that assistance. In addition we experienced horrible wildfires this year which destroyed many homes and other facilities and created dangerous breathing issues.  All of these things together have affected the economy of our area, which has been sluggish at best before the pandemic and fires, which again limits services and the capacity of services.  We look forward to a time when we can expand our victim assistance programs.  We are currently recruiting for a new individual to run this program.",null,"Our department moved into our own building which has solved a lot of issues around privacy and confidentiality.  Clients no longer have to walk through shared office space with other departments to seek assistance.  We have our own receptionist and no other departments share the space we now occupy.  It is much more private for clients.We have been able to provide some online services and some laptops to assist with online forums that are available now due to the pandemic.  We purchased and have trained personnel on the TREM model of empowerment and are planning to get that group up and running.  Materials for beading were purchased for use doing the group and many find it easier to pay attention and get something out the group when their hands are busy.  Focus on something other than painful topics can be helpful during difficult sessions.",null,null,null,null,null,"This report was prepared with data from a previous employee by an employee unfamiliar with this report.  Some of the questions were not easily understood by one who has not worked with the program.  The mistakes were unintentional and the use of someone e"]
[46083,"OR46083","2021-01-25",2020,"Domestic Violence Resource Center","Joint 2019-DVRC00019",null,null,null,null,null,null,null,null,"GI5_OrgType_VicServ_DV",null,"NO","NO","Rosemary","A","Taylor","Domestic Violence Resource Center","PO Box 494","Hillsboro","OR","97123","503-640-5352","503-906-1223","rowie@dvrc-or.org","NO",null,0,97,3,100,"YES",1,0,0,0.25,0,0,0,0,0,0,0,0,0,0,0,0,0,0,0.25,0,null,0,0.5,0,0,0,0,1,0,0,0,0,0,0,0,0,0,0,0,0,0,0,0,"NO",0,0,0,0,0,0,0,0,0,0,0,0,0,0,0,0,0,0,0,0,0,0,0,0,0,0,0,0,null,0,0,0,0,0,0,0,0,0,0,0,0,0,0,0,null,0,0,0,0,0,0,0,0,0,0,0,0,0,0,0,0,0,0,0,0,null,0,0,0,0,0,0,0,0,0,0,0,0,0,0,0,0,0,null,0,0,0,0,0,null,"NO",0,0,0,0,0,0,0,0,0,0,0,0,0,0,0,null,0,0,0,0,0,0,0,0,0,0,0,0,0,0,0,null,0,0,0,0,0,0,0,0,0,0,0,0,0,0,0,0,0,null,null,null,null,null,null,null,"Daily",null,"Daily","Weekly",null,null,null,null,null,null,null,null,null,null,null,null,null,null,null,null,null,null,"Daily",null,null,null,null,null,null,"NO",0,0,0,0,0,0,0,0,0,0,0,0,0,0,null,0,0,0,0,0,0,0,0,0,0,0,0,0,0,0,0,0,0,0,0,0,null,0,0,0,0,0,0,0,0,0,0,0,0,0,0,null,0,0,0,0,0,0,0,0,0,0,0,0,0,0,0,0,0,null,0,0,0,0,0,0,0,0,0,null,0,0,0,0,0,0,0,0,0,0,0,null,"NO",0,0,null,null,null,0,null,null,null,0,null,null,null,0,null,null,null,0,null,null,null,0,null,null,null,0,null,null,null,0,null,null,null,0,null,null,null,null,0,null,null,null,0,null,null,null,0,null,null,null,"NO",0,0,0,0,0,0,0,0,0,0,0,0,0,0,0,0,0,0,0,0,0,0,0,0,0,0,0,0,null,"NO",0,0,0,0,0,0,0,0,0,0,0,0,0,null,0,0,0,0,0,0,0,0,0,0,0,0,0,0,0,0,"NO",0,0,0,0,0,0,0,0,0,0,0,0,0,0,0,0,0,0,0,0,0,0,0,0,0,0,0,0,0,0,0,0,0,0,0,0,0,0,0,0,0,0,0,0,0,0,null,0,0,0,0,0,"YES",1,0,73,2,75,0,0,0,0,0,73,2,75,0,0,0,0,0,73,2,75,0,0,0,0,1,73,1,0,0,0,2,0,1,73,3,0,1,14,0,15,0,0,0,0,0,0,0,0,0,0,0,0,0,0,0,0,0,0,0,0,0,0,0,0,0,0,0,0,0,0,0,0,null,2,3,2,37,1,20,0,15,80,68,2,0,5,75,0,11,63,1,0,75,2,0,15,0,1,0,0,0,54,1,0,1,1,0,5,0,0,1,0,0,0,0,12,0,0,73,2,14,14,38,61,0,0,46,46,0,0,0,0,0,0,0,0,14,14,null,0,0,15,11,1575,5,4,889,2,2,65,0,0,0,0,8,8,8,8,0,0,0,0,"NO",0,0,0,0,0,0,0,0,0,0,0,0,0,0,0,0,0,0,0,0,null,0,0,0,0,0,0,0,0,0,0,0,0,0,0,0,0,0,0,0,0,0,0,0,0,0,0,0,0,0,0,0,0,0,0,0,0,0,0,0,0,0,0,0,0,0,0,0,0,0,0,0,0,0,0,0,0,0,0,0,0,0,0,0,0,0,0,0,0,0,0,0,0,0,0,0,0,0,0,0,0,0,0,0,0,0,0,0,0,0,0,0,0,0,0,0,0,0,0,0,0,0,0,0,0,0,0,0,0,0,0,0,0,0,0,0,0,0,0,0,0,0,0,0,0,0,0,0,0,0,0,0,0,0,0,0,0,0,0,0,null,0,0,0,0,0,0,0,0,"NO",0,0,0,0,0,0,0,0,0,0,0,0,0,0,0,0,0,0,0,0,0,0,0,0,0,0,0,0,0,0,0,0,0,0,0,0,0,0,0,0,0,0,0,0,0,0,0,0,0,0,"NO",0,0,0,0,0,0,0,0,0,0,0,0,0,0,0,0,0,0,0,0,0,0,0,0,0,null,0,0,0,0,0,0,0,0,0,0,0,0,0,0,0,0,0,0,0,0,0,0,0,0,0,0,0,0,0,0,0,0,0,0,0,0,0,0,0,0,0,0,0,0,0,0,0,0,0,0,0,0,0,0,0,0,0,0,0,0,0,0,0,0,0,0,0,0,0,0,0,0,0,0,0,0,0,0,0,0,0,0,0,0,0,0,0,0,0,0,0,0,0,0,0,0,0,0,0,0,0,0,0,0,0,0,0,0,0,0,0,0,0,0,0,0,0,0,0,0,0,0,0,0,0,0,0,0,0,0,0,0,0,0,0,0,0,0,0,0,0,0,0,0,0,0,0,0,0,0,0,0,0,null,0,0,0,0,0,0,0,0,0,0,0,0,0,0,0,0,0,0,0,0,0,0,0,0,0,0,0,0,0,0,0,0,0,0,0,0,0,"NO",0,0,0,0,0,0,0,0,0,0,0,0,0,0,0,0,0,0,0,0,0,0,0,0,0,0,0,0,0,0,0,0,0,0,0,0,0,0,0,0,0,0,0,0,0,0,0,0,0,0,0,0,0,0,0,0,0,0,0,0,0,0,0,0,0,0,0,0,0,0,0,0,0,0,0,0,0,0,0,0,0,0,0,0,0,0,0,0,0,0,0,0,0,0,0,0,0,0,0,0,0,0,0,0,0,"NO",0,0,0,0,0,0,0,0,0,0,0,0,0,0,0,0,0,0,0,0,0,0,0,0,0,0,0,0,0,0,0,0,0,0,0,0,0,0,0,0,0,0,0,0,0,0,0,0,0,0,0,0,0,0,"NO",0,0,0,0,0,null,0,0,0,0,null,null,null,null,null,null,null,null,null,null,"There are many areas that still have need and room for improving services.  One that comes up frequently in the counseling program is lack of access to legal assistance regarding divorce and child custody issues.  There is some assistance available but often it is not adequate to assist with the typically long and complicated process of finalizing divorce and/or custody.  The need for improving education for those who work in the legal system, especially family court is another gap we see frequently.  The psychological toll navigating these systems is often equal to if not greater than the toll of the abuse while in the relationship. Improving education around domestic violence in multiple systems that have potential power over survivors and the community at large is needed.",null,"The STOP Program funding is used to support the compensation for .5 FTE for our Bi-lingual Counselor. The Bi-lingual Counselor has continued to provide 24-week psycho-educational process groups for adults both in English and in Spanish, individual counseling to adult survivors of intimate partner violence and their children and adolescents who have experienced teen dating violence. The Spanish curriculum receives ongoing adaptations to best fit the population that is culturally appropriate, strives to be inclusive and justice informed.This position is serving the Spanish speaking community, particularly people who would otherwise have limited or no access to mental health services. This population is experiencing traumatization from domestic violence and the added layer of oppression (documentation status and access to these services due to lack of insurance and or financial ability).  It is beneficial to this community that they have continued community support via group services and individual counseling that is culturally informed and tailored from a community based perspective (as in community member serving community and understanding the population vs someone with no cultural knowledge). This program is also able to reduce barriers via financial assistance.The pandemic continues to be challenging for both program participants and staff members, despite these challenges the counseling program added an additional support group in Spanish facilitated by this staff position increasing capacity for Spanish speaking survivors.This staff position provided clinical supervision for two part-time graduate level interns during this reporting period.  This increases the program’s capacity to provide culturally specific individual, group and intake services."]
[46084,"OR46084","2021-01-15",2020,"Domestic Violence Services, Inc.","Joint-2019-DVS-00020",null,null,null,null,null,null,null,null,"GI5_OrgType_VicServ_Dual",null,"NO","NO","Kathryn","J","Chaney","Domestic Violence Services, Inc.","POB 152","Pendleton","OR","97801","5.412763322E9","5.412768958E9","kathryn@dvs-or.org","NO",null,8,89,3,100,"YES",1,0,0,0,0,0,0,0,0,0,0,0,0,0,0,0,0,0,0.59,0,null,0,0.59,0,0,0,0,1,0,0,0,0,1,0,0,0,0,0,0,0,0,0,0,"NO",0,0,0,0,0,0,0,0,0,0,0,0,0,0,0,0,0,0,0,0,0,0,0,0,0,0,0,0,null,0,0,0,0,0,0,0,0,0,0,0,0,0,0,0,null,0,0,0,0,0,0,0,0,0,0,0,0,0,0,0,0,0,0,0,0,null,0,0,0,0,0,0,0,0,0,0,0,0,0,0,0,0,0,null,0,0,0,0,0,null,"NO",0,0,0,0,0,0,0,0,0,0,0,0,0,0,0,null,0,0,0,0,0,0,0,0,0,0,0,0,0,0,0,null,0,0,0,0,0,0,0,0,0,0,0,0,0,0,0,0,0,null,"Monthly",null,"Monthly",null,"Monthly","Monthly","Weekly","Monthly","Weekly","Weekly","Weekly","Monthly","Weekly","Quarterly","Daily","Weekly","Weekly","Monthly","Weekly","Monthly","Weekly","Monthly","Weekly","Monthly",null,null,null,"Monthly","Weekly","Monthly","Monthly","Monthly",null,null,null,"NO",0,0,0,0,0,0,0,0,0,0,0,0,0,0,null,0,0,0,0,0,0,0,0,0,0,0,0,0,0,0,0,0,0,0,0,0,null,0,0,0,0,0,0,0,0,0,0,0,0,0,0,null,0,0,0,0,0,0,0,0,0,0,0,0,0,0,0,0,0,null,0,0,0,0,0,0,0,0,0,null,0,0,0,0,0,0,0,0,0,0,0,null,"NO",0,0,null,null,null,0,null,null,null,0,null,null,null,0,null,null,null,0,null,null,null,0,null,null,null,0,null,null,null,0,null,null,null,0,null,null,null,null,0,null,null,null,0,null,null,null,0,null,null,null,"NO",0,0,0,0,0,0,0,0,0,0,0,0,0,0,0,0,0,0,0,0,0,0,0,0,0,0,0,0,null,"NO",0,0,0,0,0,0,0,0,0,0,0,0,0,null,0,0,0,0,0,0,0,0,0,0,0,0,0,0,0,0,"NO",0,0,0,0,0,0,0,0,0,0,0,0,0,0,0,0,0,0,0,0,0,0,0,0,0,0,0,0,0,0,0,0,0,0,0,0,0,0,0,0,0,0,0,0,0,0,null,0,0,0,0,0,"YES",1,10,154,4,168,4,0,2,6,14,154,6,174,0,0,0,0,1,98,1,100,14,0,3,0,5,154,0,0,0,0,6,0,19,154,9,0,2,7,0,9,0,0,0,0,0,0,0,0,0,0,0,0,0,0,0,0,0,0,0,0,1,0,1,0,0,0,0,0,0,0,0,0,null,4,5,3,92,0,70,0,0,174,157,16,0,1,174,8,24,122,9,11,174,2,2,74,0,0,0,162,17,138,7,1,3,0,1,7,1,0,1,1,0,0,0,5,0,19,154,9,21,21,0,0,47,47,160,197,0,0,0,0,53,53,2,2,24,42,null,0,0,56,9,1809,0,0,0,1119,1119,0,1,0,0,0,60,0,9,0,1,0,0,0,"NO",0,0,0,0,0,0,0,0,0,0,0,0,0,0,0,0,0,0,0,0,null,0,0,0,0,0,0,0,0,0,0,0,0,0,0,0,0,0,0,0,0,0,0,0,0,0,0,0,0,0,0,0,0,0,0,0,0,0,0,0,0,0,0,0,0,0,0,0,0,0,0,0,0,0,0,0,0,0,0,0,0,0,0,0,0,0,0,0,0,0,0,0,0,0,0,0,0,0,0,0,0,0,0,0,0,0,0,0,0,0,0,0,0,0,0,0,0,0,0,0,0,0,0,0,0,0,0,0,0,0,0,0,0,0,0,0,0,0,0,0,0,0,0,0,0,0,0,0,0,0,0,0,0,0,0,0,0,0,0,0,null,0,0,0,0,0,0,0,0,"NO",0,0,0,0,0,0,0,0,0,0,0,0,0,0,0,0,0,0,0,0,0,0,0,0,0,0,0,0,0,0,0,0,0,0,0,0,0,0,0,0,0,0,0,0,0,0,0,0,0,0,"NO",0,0,0,0,0,0,0,0,0,0,0,0,0,0,0,0,0,0,0,0,0,0,0,0,0,null,0,0,0,0,0,0,0,0,0,0,0,0,0,0,0,0,0,0,0,0,0,0,0,0,0,0,0,0,0,0,0,0,0,0,0,0,0,0,0,0,0,0,0,0,0,0,0,0,0,0,0,0,0,0,0,0,0,0,0,0,0,0,0,0,0,0,0,0,0,0,0,0,0,0,0,0,0,0,0,0,0,0,0,0,0,0,0,0,0,0,0,0,0,0,0,0,0,0,0,0,0,0,0,0,0,0,0,0,0,0,0,0,0,0,0,0,0,0,0,0,0,0,0,0,0,0,0,0,0,0,0,0,0,0,0,0,0,0,0,0,0,0,0,0,0,0,0,0,0,0,0,0,0,null,0,0,0,0,0,0,0,0,0,0,0,0,0,0,0,0,0,0,0,0,0,0,0,0,0,0,0,0,0,0,0,0,0,0,0,0,0,"NO",0,0,0,0,0,0,0,0,0,0,0,0,0,0,0,0,0,0,0,0,0,0,0,0,0,0,0,0,0,0,0,0,0,0,0,0,0,0,0,0,0,0,0,0,0,0,0,0,0,0,0,0,0,0,0,0,0,0,0,0,0,0,0,0,0,0,0,0,0,0,0,0,0,0,0,0,0,0,0,0,0,0,0,0,0,0,0,0,0,0,0,0,0,0,0,0,0,0,0,0,0,0,0,0,0,"NO",0,0,0,0,0,0,0,0,0,0,0,0,0,0,0,0,0,0,0,0,0,0,0,0,0,0,0,0,0,0,0,0,0,0,0,0,0,0,0,0,0,0,0,0,0,0,0,0,0,0,0,0,0,0,"NO",0,0,0,0,0,null,0,0,0,0,null,null,null,null,null,null,null,null,null,null,"Batterers intervention programs are important for improving safety for survivors.  We participate in the Batterers Intervention Team Steering Committee.  The area has had quite a fluctuation in providers for this program.  We just approved a new provider, and we hope this will help with the accountability issue.The COVID pandemic has also hindered our access to hospital emergency departments to serve survivors.  We do provide needed items for survivors by bringing totes with useful things including our information so that the survivor can contact us for further services.Our two counties are rural/frontier which is often an obstacle for survivor access to services.  Our agency typically does significant outreach in the entire area.  The COVID pandemic has hindered our ability to reach survivors.  However, we are making good use of virtual platforms to provide important services.  The COVID crisis is worrying since it creates other barriers to survivor safety.DVS continues to participate in SART in our two counties in order to promote collaboration and cooperation with various providers and agencies.",null,"STOP Program funding allows Domestic Violence Services, Inc. to provide comprehensive and thoughtful services for survivors in Umatilla and Morrow Counties in rural eastern Oregon.  It provides funding for staff positions to provide trauma-informed advocacy for survivors in these two large rural counties.  We provide shelter for survivors within two large shelter facilities.  We staff two full-service Advocacy Centers (Hermiston and Pendleton).  We also staff three outreach Advocacy Centers in the area:  The funding allows us to provide safety planning for survivors whether through our twenty-four-hour crisis line, in shelter, groups, classes, over the phone and as walk-in clients.  We provide support groups and Life Skills classes in English and Spanish.  DVS offers Life Skills programs to assist survivors with budgeting, job search, stress management and housing search.  Survivors receive help as they develop goals for a safer future, and we offer referral as appropriate.DVS has adapted to the COVID crisis by developing expertise in virtual platform based services such as support groups and individual support.  The funding allows us to advocate for clients and assist with applying for crime victim’s assistance or obtaining restraining orders.  We provide accompaniment to court and to medical settings. We also advocate for survivors with community partners and others who may be involved as requested by the survivor.  We offer service planning, case management and support and education for survivors in shelters or as individuals who come in for services."]
[46085,"OR46085","2021-02-17",2020,"El Programa Hispano Catolico-UNICA","Joint2019-EPHC-00022",null,null,null,null,null,null,null,null,"GI5_OrgType_VicServ_Dual",null,"NO","YES","Perla","Y","Estrada","El Programa Hispano Catolico, UNICA","333 SE 223rd Ave.","Gresham","OR","97030","(503)708-6441",null,"pestrada@elprograma.org","NO",null,0,100,0,100,"NO",0,0,0,0,0,0,0,0,0,0,0,0,0,0,0,0,0,0,0,0,null,0,0,0,0,0,0,1,0,0,0,0,0,0,0,0,0,0,0,0,0,0,0,"NO",0,0,0,0,0,0,0,0,0,0,0,0,0,0,0,0,0,0,0,0,0,0,0,0,0,0,0,0,null,0,0,0,0,0,0,0,0,0,0,0,0,0,0,0,null,0,0,0,0,0,0,0,0,0,0,0,0,0,0,0,0,0,0,0,0,null,0,0,0,0,0,0,0,0,0,0,0,0,0,0,0,0,0,null,0,0,0,0,0,null,"NO",0,0,0,0,0,0,0,0,0,0,0,0,0,0,0,null,0,0,0,0,0,0,0,0,0,0,0,0,0,0,0,null,0,0,0,0,0,0,0,0,0,0,0,0,0,0,0,0,0,null,null,null,null,null,null,null,"Weekly",null,"Daily",null,null,null,null,null,"Weekly",null,"Weekly",null,"Weekly",null,"Weekly",null,null,null,null,null,"Daily",null,"Daily",null,null,null,null,null,null,"NO",0,0,0,0,0,0,0,0,0,0,0,0,0,0,null,0,0,0,0,0,0,0,0,0,0,0,0,0,0,0,0,0,0,0,0,0,null,0,0,0,0,0,0,0,0,0,0,0,0,0,0,null,0,0,0,0,0,0,0,0,0,0,0,0,0,0,0,0,0,null,0,0,0,0,0,0,0,0,0,null,0,0,0,0,0,0,0,0,0,0,0,null,"NO",0,0,null,null,null,0,null,null,null,0,null,null,null,0,null,null,null,0,null,null,null,0,null,null,null,0,null,null,null,0,null,null,null,0,null,null,null,null,0,null,null,null,0,null,null,null,0,null,null,null,"NO",0,0,0,0,0,0,0,0,0,0,0,0,0,0,0,0,0,0,0,0,0,0,0,0,0,0,0,0,null,"NO",0,0,0,0,0,0,0,0,0,0,0,0,0,null,0,0,0,0,0,0,0,0,0,0,0,0,0,0,0,0,"NO",0,0,0,0,0,0,0,0,0,0,0,0,0,0,0,0,0,0,0,0,0,0,0,0,0,0,0,0,0,0,0,0,0,0,0,0,0,0,0,0,0,0,0,0,0,0,null,0,0,0,0,0,"YES",1,0,25,0,25,0,0,0,0,0,25,0,25,0,0,0,0,0,25,0,25,0,0,0,0,0,25,0,0,0,0,0,0,0,25,0,0,0,0,0,0,0,0,0,0,0,0,0,0,0,0,0,0,0,0,0,0,0,0,0,0,0,0,0,0,0,0,0,0,0,0,0,0,null,0,0,3,22,0,0,0,0,25,23,1,0,1,25,0,1,21,2,1,25,0,0,0,0,0,0,1,0,5,0,0,7,0,0,6,0,0,5,0,0,0,0,2,0,0,25,0,1,2,1,1,1,3,10,68,0,0,3,6,2,3,0,0,10,70,null,0,0,0,0,0,0,0,0,0,0,0,0,0,0,0,0,0,0,0,0,0,0,0,"NO",0,0,0,0,0,0,0,0,0,0,0,0,0,0,0,0,0,0,0,0,null,0,0,0,0,0,0,0,0,0,0,0,0,0,0,0,0,0,0,0,0,0,0,0,0,0,0,0,0,0,0,0,0,0,0,0,0,0,0,0,0,0,0,0,0,0,0,0,0,0,0,0,0,0,0,0,0,0,0,0,0,0,0,0,0,0,0,0,0,0,0,0,0,0,0,0,0,0,0,0,0,0,0,0,0,0,0,0,0,0,0,0,0,0,0,0,0,0,0,0,0,0,0,0,0,0,0,0,0,0,0,0,0,0,0,0,0,0,0,0,0,0,0,0,0,0,0,0,0,0,0,0,0,0,0,0,0,0,0,0,null,0,0,0,0,0,0,0,0,"NO",0,0,0,0,0,0,0,0,0,0,0,0,0,0,0,0,0,0,0,0,0,0,0,0,0,0,0,0,0,0,0,0,0,0,0,0,0,0,0,0,0,0,0,0,0,0,0,0,0,0,"NO",0,0,0,0,0,0,0,0,0,0,0,0,0,0,0,0,0,0,0,0,0,0,0,0,0,null,0,0,0,0,0,0,0,0,0,0,0,0,0,0,0,0,0,0,0,0,0,0,0,0,0,0,0,0,0,0,0,0,0,0,0,0,0,0,0,0,0,0,0,0,0,0,0,0,0,0,0,0,0,0,0,0,0,0,0,0,0,0,0,0,0,0,0,0,0,0,0,0,0,0,0,0,0,0,0,0,0,0,0,0,0,0,0,0,0,0,0,0,0,0,0,0,0,0,0,0,0,0,0,0,0,0,0,0,0,0,0,0,0,0,0,0,0,0,0,0,0,0,0,0,0,0,0,0,0,0,0,0,0,0,0,0,0,0,0,0,0,0,0,0,0,0,0,0,0,0,0,0,0,null,0,0,0,0,0,0,0,0,0,0,0,0,0,0,0,0,0,0,0,0,0,0,0,0,0,0,0,0,0,0,0,0,0,0,0,0,0,"NO",0,0,0,0,0,0,0,0,0,0,0,0,0,0,0,0,0,0,0,0,0,0,0,0,0,0,0,0,0,0,0,0,0,0,0,0,0,0,0,0,0,0,0,0,0,0,0,0,0,0,0,0,0,0,0,0,0,0,0,0,0,0,0,0,0,0,0,0,0,0,0,0,0,0,0,0,0,0,0,0,0,0,0,0,0,0,0,0,0,0,0,0,0,0,0,0,0,0,0,0,0,0,0,0,0,"NO",0,0,0,0,0,0,0,0,0,0,0,0,0,0,0,0,0,0,0,0,0,0,0,0,0,0,0,0,0,0,0,0,0,0,0,0,0,0,0,0,0,0,0,0,0,0,0,0,0,0,0,0,0,0,"NO",0,0,0,0,0,null,0,0,0,0,null,null,null,null,null,null,null,null,null,null,"During this reporting period, the global challenges of COVID highlighted what we already know about the barriers to services that many Latinx communities often face when attempting to access survivor services. From basic client assistance to legal services, Latinx groups continue to face barriers while being amongst the most impacted within their communities. Many Latinx survivors saw theme selves in increased contact with their abusers as shelter in place orders were in effect. Shut down of in person services at schools, local community agencies, and community centers exacerbated the issue as these are often times locations where survivors learn of DV services to access support. With many of these basic structured no longer operating at normal capacity, Latinx survivors were left with little to no support or access to DV resources, let alone linguistically accessible resources. Additionally, because many Latinx survivors may be undocumented, fear of reaching out to law enforcement is also a barrier when attempting to obtain protection from their abusers. Lack of knowledge related to survivor rights and the legal system are only exacerbated by not being able to obtain culturally and linguistically appropriate support from law enforcement and/or their response teams whenever survivors do reach out for support from law enforcement. Offender accountability continues to be an area of concerns for many of our survivors. Often times it's very difficult to obtain support with restraining order violations due to slow response and/or law enforcement lack of understanding around domestic violence issues. Survivors have voiced beliefs that protective orders are a waste of time because their reports are not being taken seriously by law enforcement. These sentiments are often times reinforced when offender charges are reduced or right out dismissed.",null,"STOP Program funding has allowed us to provide culturally and linguistically specific domestic violence services and support to Latinx communities which are historically marginalized and under served. Funding allowed us to successfully support services that provided assistance to 25 survivors as they navigated their way through finding a safe and stable environment free of domestic violence where they could focus on healing from their trauma."]
[46086,"OR46086","2021-02-15",2020,"HAVEN From Domestic Violence","Joint2019HAVEN00024",null,null,null,null,null,null,null,null,"GI5_OrgType_VicServ_Dual",null,"NO","NO","Tara","L","Koch","HAVEN From Domestic Violence","420 E 3rd","The Dalles","OR","97058","541-296-2065","541-296-1904","tara@haventhedalles.org","YES","Confederated Tribes of Warm Springs",0,90,10,100,"YES",1,0,0,0.13,0,0,0,0,0,0,0,0,0,0,0,0,0,0,0.25,0,null,0,0.38,0,0,0,0,1,1,0,0,0,1,0,0,0,0,0,0,0,0,0,0,"NO",0,0,0,0,0,0,0,0,0,0,0,0,0,0,0,0,0,0,0,0,0,0,0,0,0,0,0,0,null,0,0,0,0,0,0,0,0,0,0,0,0,0,0,0,null,0,0,0,0,0,0,0,0,0,0,0,0,0,0,0,0,0,0,0,0,null,0,0,0,0,0,0,0,0,0,0,0,0,0,0,0,0,0,null,0,0,0,0,0,null,"NO",0,0,0,0,0,0,0,0,0,0,0,0,0,0,0,null,0,0,0,0,0,0,0,0,0,0,0,0,0,0,0,null,0,0,0,0,0,0,0,0,0,0,0,0,0,0,0,0,0,null,null,null,null,"Monthly","Weekly","Quarterly","Daily","Weekly","Daily","Weekly","Weekly","Weekly","Weekly","Monthly","Weekly","Weekly","Weekly","Monthly","Weekly","Monthly","Daily","Weekly","Weekly","Monthly","Monthly","Quarterly","Daily","Weekly","Daily","Weekly","Monthly","Weekly",null,null,null,"NO",0,0,0,0,0,0,0,0,0,0,0,0,0,0,null,0,0,0,0,0,0,0,0,0,0,0,0,0,0,0,0,0,0,0,0,0,null,0,0,0,0,0,0,0,0,0,0,0,0,0,0,null,0,0,0,0,0,0,0,0,0,0,0,0,0,0,0,0,0,null,0,0,0,0,0,0,0,0,0,null,0,0,0,0,0,0,0,0,0,0,0,null,"NO",0,0,null,null,null,0,null,null,null,0,null,null,null,0,null,null,null,0,null,null,null,0,null,null,null,0,null,null,null,0,null,null,null,0,null,null,null,null,0,null,null,null,0,null,null,null,0,null,null,null,"NO",0,0,0,0,0,0,0,0,0,0,0,0,0,0,0,0,0,0,0,0,0,0,0,0,0,0,0,0,null,"NO",0,0,0,0,0,0,0,0,0,0,0,0,0,null,0,0,0,0,0,0,0,0,0,0,0,0,0,0,0,0,"YES",1,1,0,0,0,0,0,0,0,0,0,1,0,0,0,0,1,0,0,0,0,1,0,0,0,0,1,0,0,0,0,1,0,0,0,0,0,0,0,0,0,1,0,0,0,0,null,0,0,0,0,0,"YES",1,0,220,25,245,0,0,0,0,0,220,25,245,0,0,0,0,0,220,25,245,0,2,0,2,0,220,0,0,0,0,25,0,0,222,25,2,0,57,2,59,0,0,0,0,0,0,0,0,0,0,0,0,0,0,0,0,0,0,0,0,0,0,0,0,0,0,0,0,0,0,0,0,null,9,0,4,86,4,131,1,10,245,227,16,2,0,245,25,51,167,2,0,245,2,37,197,0,38,4,245,0,146,15,0,23,5,0,31,0,0,19,4,0,1,0,1,0,0,220,25,79,620,18,247,0,0,100,1251,0,0,0,0,13,23,6,14,28,405,null,0,0,32,14,336,0,0,0,245,568,76,0,0,0,0,121,93,93,0,2,2,2,0,"NO",0,0,0,0,0,0,0,0,0,0,0,0,0,0,0,0,0,0,0,0,null,0,0,0,0,0,0,0,0,0,0,0,0,0,0,0,0,0,0,0,0,0,0,0,0,0,0,0,0,0,0,0,0,0,0,0,0,0,0,0,0,0,0,0,0,0,0,0,0,0,0,0,0,0,0,0,0,0,0,0,0,0,0,0,0,0,0,0,0,0,0,0,0,0,0,0,0,0,0,0,0,0,0,0,0,0,0,0,0,0,0,0,0,0,0,0,0,0,0,0,0,0,0,0,0,0,0,0,0,0,0,0,0,0,0,0,0,0,0,0,0,0,0,0,0,0,0,0,0,0,0,0,0,0,0,0,0,0,0,0,null,0,0,0,0,0,0,0,0,"NO",0,0,0,0,0,0,0,0,0,0,0,0,0,0,0,0,0,0,0,0,0,0,0,0,0,0,0,0,0,0,0,0,0,0,0,0,0,0,0,0,0,0,0,0,0,0,0,0,0,0,"NO",0,0,0,0,0,0,0,0,0,0,0,0,0,0,0,0,0,0,0,0,0,0,0,0,0,null,0,0,0,0,0,0,0,0,0,0,0,0,0,0,0,0,0,0,0,0,0,0,0,0,0,0,0,0,0,0,0,0,0,0,0,0,0,0,0,0,0,0,0,0,0,0,0,0,0,0,0,0,0,0,0,0,0,0,0,0,0,0,0,0,0,0,0,0,0,0,0,0,0,0,0,0,0,0,0,0,0,0,0,0,0,0,0,0,0,0,0,0,0,0,0,0,0,0,0,0,0,0,0,0,0,0,0,0,0,0,0,0,0,0,0,0,0,0,0,0,0,0,0,0,0,0,0,0,0,0,0,0,0,0,0,0,0,0,0,0,0,0,0,0,0,0,0,0,0,0,0,0,0,null,0,0,0,0,0,0,0,0,0,0,0,0,0,0,0,0,0,0,0,0,0,0,0,0,0,0,0,0,0,0,0,0,0,0,0,0,0,"NO",0,0,0,0,0,0,0,0,0,0,0,0,0,0,0,0,0,0,0,0,0,0,0,0,0,0,0,0,0,0,0,0,0,0,0,0,0,0,0,0,0,0,0,0,0,0,0,0,0,0,0,0,0,0,0,0,0,0,0,0,0,0,0,0,0,0,0,0,0,0,0,0,0,0,0,0,0,0,0,0,0,0,0,0,0,0,0,0,0,0,0,0,0,0,0,0,0,0,0,0,0,0,0,0,0,"NO",0,0,0,0,0,0,0,0,0,0,0,0,0,0,0,0,0,0,0,0,0,0,0,0,0,0,0,0,0,0,0,0,0,0,0,0,0,0,0,0,0,0,0,0,0,0,0,0,0,0,0,0,0,0,"NO",0,0,0,0,0,null,0,0,0,0,null,"HAVEN continues to further facilitate coordination of services in many of the community meetings that we attend. Specifically in the frontier counties that we serve, our role at MDTs has been to provide consultation for community partners and identify when there might be underlying power and control in a family dynamic. Consultation can be difficult, especially when small communities know many of their inhabitants and personal and professional issues can often become blurred. After continuing to model professional consultation, many of the less professional comments have lessened and the focus has become more on what services the community can provide to the families in order to build them up and support them in their success. As we know this more trauma informed support builds on the importance of healthy and safe communities. DVC in our community has undergone some positive changes and we have identified needs for training in our community and then planned for a lunchtime training based on the community needs. We are also working on creating a domestic violence response debrief in the meeting as our community has indicated such great benefits from those debriefs through the SART meetings.  HAVEN has been able to provide outreach to the large migrant community in our service area as well as the more frontier areas we serve. HAVEN has also participated in events that took place in Celilo Village and the Lone Pine In-Lieu Site, both of which are extremely small, isolated and protective Native American communities. Wasco County has had a large transition with their district attorney’s office including a new DA, loss of 2 long term prosecutors, loss of a long term victim advocate, loss of a part time victim advocate, and are now hiring all new staff. Getting the new staff connected to our agency and the way that we can work together has been a priority.",null,null,"The STOP Program funds support staff to connect with Oregon Law Center to support survivors when a particular Judge continued to not grant SA/DV/ST orders when safety was a significant issue.  Currently the Oregon Law Center makes several trips up to Wasco County to support HAVEN advocates in court.  In the last year, we have seen an increased number of participants requesting or needing higher levels of legal support related to complex divorce and custody cases when domestic, sexual, or staling violence is involved. In response to this, many more referrals and consultations needs were going toward the direction of the BLA. In order to streamline the system and better refer participants to external resources, the BLA, DSPM, and ED worked to create a more in-depth internal protocol. We also included how to request emergency financial support for things like legal consultations, filing fees, and other increased financial support of survivor needs supported by HAVEN grant funds. The protocol identified when to consult with the BLA about processes, information, and complex needs. It then moved forward to list the first resources to connect participants to including the court’s family law clerk, legal aid services, and modest means resources. For increased needs, a financial funds request could be sent to support legal consultation and potential follow up services. A major barrier is that the family law clerk locally only speaks English and utilizes interpreting services when she can for Spanish needs. This process has been difficult for participants to feel like all their needs are met and the family law clerk also has some barriers in being able to answer questions that could be legal advice. For this, HAVEN identified a warm handoff to BLA and then potential additional attorneys who are Spanish speaking locally.",null,null,null,null,null,"Some of the barriers that we have outlined above continue to be significant needs for more than those whose experiences we shared. Affordable and safe housing, bilingual and bicultural supports for legal needs outside of DVSA agencies, and free or reduced resources for those seeking civil legal resources. BLA is currently working with at least 10 individuals who have fled home because of violence and started the process of divorce and custody. In the last reporting period, she has also supported in completing the divorce process of 3 participants. Participants struggle to find anyone at the courthouse, some social service resources, causing many of them to give up. The tools of power and control that their perpetrators use are often validated after they flee. Spanish speaking participants share with BLA that they have been told that if survivors leave, their children will be taken away from them. They are told that engaging in the civil processes available for safety will tip off ICE and they will be deported. They are told that they will go to hell if they divorce the perpetrator. All of these tactics and more continue to permeate even long after they leave. Survivors continue to believe what perpetrators tell them because they do not have access to true and accurate information. Once participants finally get connected to our services and the support of the BLA, she can begin to dispel some of those lies and coercive control patterns. We can support participants in understanding that they have a say in what they want to do and we will do everything we can to support them through those processes and refer them to the resources that they need. Without the support of a bilingual and bicultural staff person, many participants either would be still looking for resources or will have been coerced into returning to unsafe homes. Our communities need to continue to prioritize bilingual and bicultural support people in all helping professions. When survivors are able to access accurate information in their own language, it can begin the process of seeking safety and healing.",null,"The funding has allowed us to hire and support the work of a bilingual and bicultural legal advocate. The funding has also been able to support in acquiring the certified immigration assistant training as well as keep her notary registration up to date. BLA brings a wealth of knowledge to those she supports as well as the staff. Some of the funding has also supported in participant’s safety planning needs. Recently the BLA supported a female Hispanic participant who had a white male neighbor. She shared with the advocate that the neighbor started and continued to exhibit harassing behavior. He would consistently yell at her and her 2 minor children when they arrived to their home. The yelling included racist content. He would wait in their driveway, and when they arrived, yell and use obscene gestures toward the family. He continued to escalate by breaking the front fence and ruining their garbage can. She would call the police to make a report and the male would consistently deny any of the above behavior. The harassment continued because all the police were able to do was leave him with a warning. BLA supported the participant in adding to additional measures to their safety plan. One of the requests was to have surveillance cameras installed. HAVEN was able to pay for this and help the participant install them. After this, the male was caught on camera pounding on the door with force that caused indentations. He tried to enter the house and the participant could be seen yelling for help. She again called the police. This time, with the evidence from the camera and the correlating damage, he was charged and arrested for the harassment and other crimes. With this participant and others who have been supported with surveillance cameras, it has consistently been a deterrent to the behavior survivors are concerned about. Another participant was recently supported by the funds from this grant funding. The participant engaged with us via the crisis line. She described fleeing from place to place for a long time. She started in Mexico with her teenage son. After being severely beaten by her perpetrator she fled to the U.S.. Her perpetrator who is active in a Mexican cartel found her in California. She then fled to Eugene, Oregon where he found her again. She then petitioned for her son to have a name change in order to further support their safety. She has been seeking support from family and friends in multiple areas, but as soon as he finds her, her perpetrator also threatens those supports. When she engaged in our services, we were able to set her up with a hotel, while she sought permanent housing. Her fear of this person is only trumped by her fear of being found by ICE and being forced back to Mexico. She fears even filling out a protection order, and even though BLA explained how that would not be a reason ICE deported her, she still does not see it as a safe option. BLA has connected her successfully with permanent housing. Because neither of them have legal documentation, they do not qualify for many services other participants can access. Therefore, we have provided food and other supports for her transportation."]
[46087,"OR46087","2021-01-28",2020,"Jackson County District Attorney's Office","VAWA-C-2020-JacksonC",null,null,null,null,null,null,null,null,"GI5_OrgType_Prosecution",null,"NO","NO","Diana","L","Hamilton","Jackson County District Attorney's Office","815 W. 10th St","Medford","OR","97501","541.608.2928","(541)608-2982","hamiltdl@jacksoncounty.org","NO",null,4,91,5,100,"YES",1,0,0,0,0,0,0,0,0,0,0,0,0,0,0,0,0,0,0.73,1.25,null,0,1.98,0,0,0,0,1,0,0,0,0,0,0,0,0,0,0,0,0,0,0,0,"NO",0,0,0,0,0,0,0,0,0,0,0,0,0,0,0,0,0,0,0,0,0,0,0,0,0,0,0,0,null,0,0,0,0,0,0,0,0,0,0,0,0,0,0,0,null,0,0,0,0,0,0,0,0,0,0,0,0,0,0,0,0,0,0,0,0,null,0,0,0,0,0,0,0,0,0,0,0,0,0,0,0,0,0,null,0,0,0,0,0,null,"NO",0,0,0,0,0,0,0,0,0,0,0,0,0,0,0,null,0,0,0,0,0,0,0,0,0,0,0,0,0,0,0,null,0,0,0,0,0,0,0,0,0,0,0,0,0,0,0,0,0,null,null,null,null,"Quarterly","Monthly","Monthly","Weekly",null,"Weekly","Monthly",null,"Quarterly",null,null,"Monthly","Quarterly","Monthly","Quarterly","Weekly","Monthly",null,null,null,null,null,null,"Monthly","Monthly","Monthly","Quarterly",null,null,null,null,null,"NO",0,0,0,0,0,0,0,0,0,0,0,0,0,0,null,0,0,0,0,0,0,0,0,0,0,0,0,0,0,0,0,0,0,0,0,0,null,0,0,0,0,0,0,0,0,0,0,0,0,0,0,null,0,0,0,0,0,0,0,0,0,0,0,0,0,0,0,0,0,null,0,0,0,0,0,0,0,0,0,null,0,0,0,0,0,0,0,0,0,0,0,null,"NO",0,0,null,null,null,0,null,null,null,0,null,null,null,0,null,null,null,0,null,null,null,0,null,null,null,0,null,null,null,0,null,null,null,0,null,null,null,null,0,null,null,null,0,null,null,null,0,null,null,null,"NO",0,0,0,0,0,0,0,0,0,0,0,0,0,0,0,0,0,0,0,0,0,0,0,0,0,0,0,0,null,"NO",0,0,0,0,0,0,0,0,0,0,0,0,0,null,0,0,0,0,0,0,0,0,0,0,0,0,0,0,0,0,"NO",0,0,0,0,0,0,0,0,0,0,0,0,0,0,0,0,0,0,0,0,0,0,0,0,0,0,0,0,0,0,0,0,0,0,0,0,0,0,0,0,0,0,0,0,0,0,null,0,0,0,0,0,"YES",1,44,749,31,824,0,0,0,0,44,749,31,824,0,0,0,0,32,603,31,666,44,0,0,0,0,749,0,0,0,0,31,0,44,749,31,0,0,0,0,0,0,0,0,0,0,0,0,0,0,0,0,0,0,0,0,0,0,0,0,0,0,0,0,0,0,0,0,0,0,0,0,0,null,2,1,16,52,2,732,0,19,824,647,177,0,0,824,15,101,614,94,0,824,2,20,0,0,1,0,592,10,513,0,3,181,0,0,56,0,11,0,0,16,0,4,0,31,44,750,31,109,109,36,36,557,740,7,7,0,0,1,1,0,0,0,0,117,117,null,0,0,0,0,0,0,0,0,0,0,3288,3,3,3,3,74,74,74,74,31,31,31,31,"NO",0,0,0,0,0,0,0,0,0,0,0,0,0,0,0,0,0,0,0,0,null,0,0,0,0,0,0,0,0,0,0,0,0,0,0,0,0,0,0,0,0,0,0,0,0,0,0,0,0,0,0,0,0,0,0,0,0,0,0,0,0,0,0,0,0,0,0,0,0,0,0,0,0,0,0,0,0,0,0,0,0,0,0,0,0,0,0,0,0,0,0,0,0,0,0,0,0,0,0,0,0,0,0,0,0,0,0,0,0,0,0,0,0,0,0,0,0,0,0,0,0,0,0,0,0,0,0,0,0,0,0,0,0,0,0,0,0,0,0,0,0,0,0,0,0,0,0,0,0,0,0,0,0,0,0,0,0,0,0,0,null,0,0,0,0,0,0,0,0,"NO",0,0,0,0,0,0,0,0,0,0,0,0,0,0,0,0,0,0,0,0,0,0,0,0,0,0,0,0,0,0,0,0,0,0,0,0,0,0,0,0,0,0,0,0,0,0,0,0,0,0,"NO",0,0,0,0,0,0,0,0,0,0,0,0,0,0,0,0,0,0,0,0,0,0,0,0,0,null,0,0,0,0,0,0,0,0,0,0,0,0,0,0,0,0,0,0,0,0,0,0,0,0,0,0,0,0,0,0,0,0,0,0,0,0,0,0,0,0,0,0,0,0,0,0,0,0,0,0,0,0,0,0,0,0,0,0,0,0,0,0,0,0,0,0,0,0,0,0,0,0,0,0,0,0,0,0,0,0,0,0,0,0,0,0,0,0,0,0,0,0,0,0,0,0,0,0,0,0,0,0,0,0,0,0,0,0,0,0,0,0,0,0,0,0,0,0,0,0,0,0,0,0,0,0,0,0,0,0,0,0,0,0,0,0,0,0,0,0,0,0,0,0,0,0,0,0,0,0,0,0,0,null,0,0,0,0,0,0,0,0,0,0,0,0,0,0,0,0,0,0,0,0,0,0,0,0,0,0,0,0,0,0,0,0,0,0,0,0,0,"NO",0,0,0,0,0,0,0,0,0,0,0,0,0,0,0,0,0,0,0,0,0,0,0,0,0,0,0,0,0,0,0,0,0,0,0,0,0,0,0,0,0,0,0,0,0,0,0,0,0,0,0,0,0,0,0,0,0,0,0,0,0,0,0,0,0,0,0,0,0,0,0,0,0,0,0,0,0,0,0,0,0,0,0,0,0,0,0,0,0,0,0,0,0,0,0,0,0,0,0,0,0,0,0,0,0,"NO",0,0,0,0,0,0,0,0,0,0,0,0,0,0,0,0,0,0,0,0,0,0,0,0,0,0,0,0,0,0,0,0,0,0,0,0,0,0,0,0,0,0,0,0,0,0,0,0,0,0,0,0,0,0,"NO",0,0,0,0,0,null,0,0,0,0,null,null,null,null,null,null,null,null,null,null,"The largest area of remaining need is housing resources. An article published in the Southern Oregon Business Journal on January 27,2020 reports on the results of study done by the Oregon Community Foundation. The article states that \" while: Oregon’s population represents 1.3% of the total U.S. population, Oregon’s homeless population represents 2.6% of the total U.S. homeless population.\" People who work with crime victims understand that victimization is a large contributor to homelessness. People who are victims of intimate partner violence cannot leave their relationships without risking homelessness and the dangers inherent in that situation. This article was published prior to the onset of COVID-19 in the US and prior to devastating forest fires that ravished the west coast in the summer of 2020. In this community, forest fires ripped through two entire towns causing the loss of over 3000 residential structures. Southern Oregon was already facing a housing crisis and then lost an additional 3000 homes. Victims of domestic and sexual assault who have nowhere to go if they leave the abuser are at increased risk for additional harm.People without children receive the least help with housing. Understandably, most social services are geared toward families with children. However, helping people get out of intimate partner violence prior to having children is immensely important. People who share children with their abusers have a much more difficult time getting free from abuse. On the other end of the spectrum, people with grown children face challenges that make it difficult to leave an abusive situation as well. Another area of remaining need in Oregon mental health services. Trauma from abuse can cause lifelong struggles with mental illness. If proper treatment is available, many people can continue on with a healthy, happy life after leaving an abusive situation. Finally education/treatment for perpetrators of domestic and sexual violence is an area of need in this community. Plenty of high-quality services exist for batterers and sex offenders in Southern Oregon, however, there is no funding for these services. So, if the offenders cannot pay for treatment they often do not receive or complete treatment. People who offer such services are not paid an appropriate wage because no one is providing them adequate compensation. Funding assistance for offenders is not seen as important by many in the general population but these services are important to a reduction in recidivism.",null,"STOP funding has allowed the program to work collaboratively between a community based private non-profit agency and the District Attorney's Office. This collaboration is allowing the STOP project to advance victims' safety by working in both the criminal and civil legal realm. The program pays for an advocate to help people through the criminal process and help people with civil protective orders. This comprehensive approach, helps to further victim safety. The program has faced many challenges this year. Of course the challenges presented by COVID-19 have been felt by all programs. However, because of STOP Grant funding we have been able to keep our advocates on board and give them the technology they need to do their jobs from home. The District Attorney based advocate was able to stay in contact with crime victims and keep them abreast of multiple continuances in their criminal cases as the courts were closed down for many months. The advocate was able to facilitate Web Ex appearances for crime victims so they did not miss out on the chance to have their voices heard in the few hearings that were occurring. The private non-profit court advocate was able to continue to assist people who were in desperate need of services as they faced untold danger from being with abusive people all the time and losing jobs and sometimes housing.The court advocate was very creative and was able to use an on-line program to continue to provide education to victims who were seeking to change the status of their protective orders. If the program did not have the STOP Grant, many people would have been facing extreme challenges with nowhere to turn. In September of 2020, Southern Oregon was ravaged by wildfires. One fire that occurred on September 8,2020 burned down most of  two entire towns. The towns of Phoenix, Talent and Butte Falls, Oregon were severely impacted by fire. Within a span of about 30 hours the community lost over 3000 residential dwelling and hundreds of businesses. The entire west coast was already facing a housing crisis with housing prices skyrocketing over the past decade. Southern Oregon already had a huge issue with homelessness prior to these tragedies. This increased the community's need for community based advocates to help them get to safety. Advocates have been working tirelessly to assist in connecting families to resources and helping them to work through the horrific traumas they have experienced."]
[46088,"OR46088","2021-01-29",2020,"Jefferson County by and through the District Attorney","JeffersDAVAP-00012",null,null,null,null,null,null,null,null,"GI5_OrgType_Prosecution",null,"NO","NO","Kenneth","H","Clark","Jefferson County Victim Assistance","129 SW E Street, Suite 10","Madras","OR","97741","541-475-4463","541-475-4512","kclark@jcda.us","NO",null,8,92,0,100,"YES",1,0,0,0,0,0,0,0,0,0,0,0,0,1,0,0,0,0,0.1,0.18,null,0,1.28,0,1,0,0,1,0,0,0,0,0,0,0,0,0,0,0,0,0,0,0,"NO",0,0,0,0,0,0,0,0,0,0,0,0,0,0,0,0,0,0,0,0,0,0,0,0,0,0,0,0,null,0,0,0,0,0,0,0,0,0,0,0,0,0,0,0,null,0,0,0,0,0,0,0,0,0,0,0,0,0,0,0,0,0,0,0,0,null,0,0,0,0,0,0,0,0,0,0,0,0,0,0,0,0,0,null,0,0,0,0,0,null,"NO",0,0,0,0,0,0,0,0,0,0,0,0,0,0,0,null,0,0,0,0,0,0,0,0,0,0,0,0,0,0,0,null,0,0,0,0,0,0,0,0,0,0,0,0,0,0,0,0,0,null,null,null,"Monthly",null,"Daily","Weekly","Daily",null,"Weekly",null,"Weekly","Weekly",null,null,null,null,"Weekly",null,"Daily","Weekly",null,null,"Daily","Weekly",null,null,"Monthly","Quarterly",null,null,"Monthly","Quarterly",null,null,null,"NO",0,0,0,0,0,0,0,0,0,0,0,0,0,0,null,0,0,0,0,0,0,0,0,0,0,0,0,0,0,0,0,0,0,0,0,0,null,0,0,0,0,0,0,0,0,0,0,0,0,0,0,null,0,0,0,0,0,0,0,0,0,0,0,0,0,0,0,0,0,null,0,0,0,0,0,0,0,0,0,null,0,0,0,0,0,0,0,0,0,0,0,null,"NO",0,0,null,null,null,0,null,null,null,0,null,null,null,0,null,null,null,0,null,null,null,0,null,null,null,0,null,null,null,0,null,null,null,0,null,null,null,null,0,null,null,null,0,null,null,null,0,null,null,null,"NO",0,0,0,0,0,0,0,0,0,0,0,0,0,0,0,0,0,0,0,0,0,0,0,0,0,0,0,0,null,"NO",0,0,0,0,0,0,0,0,0,0,0,0,0,null,0,0,0,0,0,0,0,0,0,0,0,0,0,0,0,0,"NO",0,0,0,0,0,0,0,0,0,0,0,0,0,0,0,0,0,0,0,0,0,0,0,0,0,0,0,0,0,0,0,0,0,0,0,0,0,0,0,0,0,0,0,0,0,0,null,0,0,0,0,0,"YES",1,2,15,0,17,0,0,0,0,2,15,0,17,0,0,0,0,2,9,0,11,2,0,0,0,0,15,0,0,2,15,0,0,4,30,0,0,0,3,0,3,0,0,0,0,0,0,0,0,0,0,0,0,0,0,0,0,0,0,0,0,0,0,0,0,0,0,0,0,0,0,0,0,null,5,0,0,7,0,9,0,0,21,15,2,0,0,17,0,1,15,1,0,17,1,1,1,0,0,0,17,0,12,0,2,1,0,0,2,0,0,0,0,0,0,0,0,0,2,15,0,5,9,0,0,8,97,4,9,0,0,0,0,1,1,2,2,2,2,null,0,0,3,3,12,0,0,0,12,12,3,0,0,0,0,5,0,3,0,1,0,0,0,"NO",0,0,0,0,0,0,0,0,0,0,0,0,0,0,0,0,0,0,0,0,null,0,0,0,0,0,0,0,0,0,0,0,0,0,0,0,0,0,0,0,0,0,0,0,0,0,0,0,0,0,0,0,0,0,0,0,0,0,0,0,0,0,0,0,0,0,0,0,0,0,0,0,0,0,0,0,0,0,0,0,0,0,0,0,0,0,0,0,0,0,0,0,0,0,0,0,0,0,0,0,0,0,0,0,0,0,0,0,0,0,0,0,0,0,0,0,0,0,0,0,0,0,0,0,0,0,0,0,0,0,0,0,0,0,0,0,0,0,0,0,0,0,0,0,0,0,0,0,0,0,0,0,0,0,0,0,0,0,0,0,null,0,0,0,0,0,0,0,0,"NO",0,0,0,0,0,0,0,0,0,0,0,0,0,0,0,0,0,0,0,0,0,0,0,0,0,0,0,0,0,0,0,0,0,0,0,0,0,0,0,0,0,0,0,0,0,0,0,0,0,0,"YES",1,179,6,5,167,5,5,12,1,0,0,0,0,0,0,0,12,1,0,0,0,0,0,0,0,null,0,0,0,0,0,0,0,0,0,0,0,0,0,1,0,19,4,0,0,0,0,0,24,1,0,12,0,1,0,0,0,1,15,0,0,0,0,0,0,0,0,0,0,0,0,1,0,0,0,0,0,0,1,0,0,2,0,0,0,0,0,0,2,0,0,0,0,0,0,0,0,0,0,0,0,0,0,0,0,0,0,0,0,0,0,1,0,0,0,0,0,0,1,0,0,0,0,0,0,0,0,0,0,0,0,0,0,0,0,0,0,0,0,0,0,0,0,0,0,0,0,0,0,2,0,16,0,0,0,0,0,0,18,8,0,24,0,0,1,0,0,0,33,0,0,0,0,0,0,0,0,0,0,null,0,0,0,0,0,0,0,0,0,0,12,0,75,4,1,1,0,0,1,94,0,0,0,160,0,0,0,0,0,0,0,0,0,0,0,0,0,"NO",0,0,0,0,0,0,0,0,0,0,0,0,0,0,0,0,0,0,0,0,0,0,0,0,0,0,0,0,0,0,0,0,0,0,0,0,0,0,0,0,0,0,0,0,0,0,0,0,0,0,0,0,0,0,0,0,0,0,0,0,0,0,0,0,0,0,0,0,0,0,0,0,0,0,0,0,0,0,0,0,0,0,0,0,0,0,0,0,0,0,0,0,0,0,0,0,0,0,0,0,0,0,0,0,0,"NO",0,0,0,0,0,0,0,0,0,0,0,0,0,0,0,0,0,0,0,0,0,0,0,0,0,0,0,0,0,0,0,0,0,0,0,0,0,0,0,0,0,0,0,0,0,0,0,0,0,0,0,0,0,0,"NO",0,0,0,0,0,null,0,0,0,0,null,null,null,null,null,null,null,"In process, when the Victim Assistant Advocate makes initial contact, as part of the discussion, victims are informed about protective orders.  Victims are made aware of the ability to complete some of the forms on-line if they are able to do so in a sett",null,null,"Jefferson County Victim Assistance continues to face several issues concerning improving services to victims/survivors of sexual assault, domestic/dating violence and stalking victims. These issues are isolation related to Jefferson County being entirely rural and the associated lack of transportation options in, a lack of dependable telephone service and lack of dependable mail service because of poverty and homelessness. We assist all victims of sexual assault, domestic/dating violence and stalking in a one-on-one meeting whenever possible however, with Covid-19 restrictions, a majority of our contact with victims has been by phone and/or mail. In every report of domestic violence or sexual assault, the local law enforcement agencies provide a victim rights card with information on rights/services and contact numbers and addresses. This includes information about the Victim Assistance Program on call advocate. When requested by the victim, the law enforcement officer will make contact with the on-call advocate. The on-call advocate will then contact the victim and provide assistance and/or information over the phone, and in extreme cases, arrange to meet at either the police station or the hospital with all Covid-19 protocols observed. An area of deficiency related to our small/rural location is that no public or private transportation services exist in our area.  As such, the on call advocate cannot arrange transportation to either of these locations for the victim and their children.  With regards to increasing victim/survivor safety, the degree of poverty and homelessness and rural nature of our community makes it difficult for private agencies to provide either intermediate or long term shelter options. Our sheltering options at this time exist 30 to 50 miles away and are shared with three other, larger communities. There are current efforts by our faith-based community to start a women’s shelter house. This may help with our needs when availability exists but the shelter house will have a very limited capacity.",null,"The STOP VAWA grant has allowed Jefferson County Victim Assistance to retain its bilingual DV/SA victim advocate as a full time employee. This advocate carries a full caseload in addition to the VAWA specific caseload.  With the position remaining at full time, timely, sensitive and culturally appropriate services can be offered to our most vulnerable victims. Jefferson County has a Hispanic/Latino community that makes up 20% of the population. Almost 15% of that population in Jefferson County is monolingual Spanish speaking. The loss of this position would have significantly influenced our ability to provide services to all members of our county, especially the underserved in this demographic. Additionally, the grant has provided for a 0.10 FTE Bilingual Saving Grace Advocate. For reasons only important to themselves, some victims of sexual assault, domestic/dating violence and stalking do not feel comfortable in going the courthouse for services. Saving Grace provides these victims with an important option in obtaining services. Saving Grace is also capable of directly providing victims with access to shelter and planning and resources important to their health and safety. In addition to the delineations noted above, both of the bilingual advocate positions supported by this grant are able to provide culturally competent immigration services to victims of sexual assault, domestic/dating violence and stalking.A second aspect of the benefits of this grant is the ability to have a dedicated DV/SA Prosecutor in the District Attorney’s Office.  With this specific responsibility placed on one person, there becomes a more fluid and consistent process for prosecution.  This, in part, is because the prosecutor is able to focus more attention on these cases and on their trainings to help with understanding the ever-changing landscape of the legal system.  It also creates an atmosphere of understanding with the victim advocates working with the prosecutor.  Advocates are able to anticipate the needs of the prosecutor when working on DV/SA cases and have contacts and information ready and available in a more timely fashion."]
[46089,"OR46089","2021-02-05",2020,"Klamath Crisis Center","2019-Joint-00031",null,null,null,null,null,null,null,null,"GI5_OrgType_VicServ_Dual",null,"NO","NO","wanda",null,"powless","Klamath Crisis Center","po box 1358","klamath falls","OR","97601","5.418508939E9",null,"business@martashouse.org","NO",null,100,0,0,100,"YES",1,0,0,0,0,0,0,0,0,0,0,0,0,0,0,0,0,0,0.42,0,null,0,0.42,0,0,0,0,1,0,0,0,0,0,0,0,0,0,0,0,0,0,1,0,"NO",0,0,0,0,0,0,0,0,0,0,0,0,0,0,0,0,0,0,0,0,0,0,0,0,0,0,0,0,null,0,0,0,0,0,0,0,0,0,0,0,0,0,0,0,null,0,0,0,0,0,0,0,0,0,0,0,0,0,0,0,0,0,0,0,0,null,0,0,0,0,0,0,0,0,0,0,0,0,0,0,0,0,0,null,0,0,0,0,0,null,"NO",0,0,0,0,0,0,0,0,0,0,0,0,0,0,0,null,0,0,0,0,0,0,0,0,0,0,0,0,0,0,0,null,0,0,0,0,0,0,0,0,0,0,0,0,0,0,0,0,0,null,null,null,null,null,"Weekly","Monthly","Daily","Quarterly","Daily",null,null,null,null,null,"Weekly","Quarterly","Weekly",null,"Weekly","Quarterly",null,null,"Daily","Quarterly",null,null,"Daily",null,"Daily",null,"Daily","Weekly",null,null,null,"NO",0,0,0,0,0,0,0,0,0,0,0,0,0,0,null,0,0,0,0,0,0,0,0,0,0,0,0,0,0,0,0,0,0,0,0,0,null,0,0,0,0,0,0,0,0,0,0,0,0,0,0,null,0,0,0,0,0,0,0,0,0,0,0,0,0,0,0,0,0,null,0,0,0,0,0,0,0,0,0,null,0,0,0,0,0,0,0,0,0,0,0,null,"NO",0,0,null,null,null,0,null,null,null,0,null,null,null,0,null,null,null,0,null,null,null,0,null,null,null,0,null,null,null,0,null,null,null,0,null,null,null,null,0,null,null,null,0,null,null,null,0,null,null,null,"NO",0,0,0,0,0,0,0,0,0,0,0,0,0,0,0,0,0,0,0,0,0,0,0,0,0,0,0,0,null,"NO",0,0,0,0,0,0,0,0,0,0,0,0,0,null,0,0,0,0,0,0,0,0,0,0,0,0,0,0,0,0,"NO",0,0,0,0,0,0,0,0,0,0,0,0,0,0,0,0,0,0,0,0,0,0,0,0,0,0,0,0,0,0,0,0,0,0,0,0,0,0,0,0,0,0,0,0,0,0,null,0,0,0,0,0,"YES",1,88,0,0,88,0,0,0,0,88,0,0,88,0,0,0,0,77,0,0,77,88,0,0,7,0,0,0,0,0,0,0,0,88,0,0,7,0,0,0,0,0,0,0,0,0,0,0,0,0,0,0,0,0,0,0,0,0,0,0,0,0,0,0,0,0,0,0,0,0,0,0,0,null,16,0,2,3,0,41,11,15,88,88,0,0,0,88,0,0,66,7,15,88,11,17,0,0,0,0,88,0,0,0,14,0,0,0,0,0,0,0,0,11,0,63,0,0,88,0,0,5,5,88,2194,0,0,88,1003,5,5,0,0,0,0,25,137,88,1804,null,0,0,8,0,540,16,0,4266,238,3828,0,0,0,0,0,0,0,0,0,0,0,0,0,"NO",0,0,0,0,0,0,0,0,0,0,0,0,0,0,0,0,0,0,0,0,null,0,0,0,0,0,0,0,0,0,0,0,0,0,0,0,0,0,0,0,0,0,0,0,0,0,0,0,0,0,0,0,0,0,0,0,0,0,0,0,0,0,0,0,0,0,0,0,0,0,0,0,0,0,0,0,0,0,0,0,0,0,0,0,0,0,0,0,0,0,0,0,0,0,0,0,0,0,0,0,0,0,0,0,0,0,0,0,0,0,0,0,0,0,0,0,0,0,0,0,0,0,0,0,0,0,0,0,0,0,0,0,0,0,0,0,0,0,0,0,0,0,0,0,0,0,0,0,0,0,0,0,0,0,0,0,0,0,0,0,null,0,0,0,0,0,0,0,0,"NO",0,0,0,0,0,0,0,0,0,0,0,0,0,0,0,0,0,0,0,0,0,0,0,0,0,0,0,0,0,0,0,0,0,0,0,0,0,0,0,0,0,0,0,0,0,0,0,0,0,0,"NO",0,0,0,0,0,0,0,0,0,0,0,0,0,0,0,0,0,0,0,0,0,0,0,0,0,null,0,0,0,0,0,0,0,0,0,0,0,0,0,0,0,0,0,0,0,0,0,0,0,0,0,0,0,0,0,0,0,0,0,0,0,0,0,0,0,0,0,0,0,0,0,0,0,0,0,0,0,0,0,0,0,0,0,0,0,0,0,0,0,0,0,0,0,0,0,0,0,0,0,0,0,0,0,0,0,0,0,0,0,0,0,0,0,0,0,0,0,0,0,0,0,0,0,0,0,0,0,0,0,0,0,0,0,0,0,0,0,0,0,0,0,0,0,0,0,0,0,0,0,0,0,0,0,0,0,0,0,0,0,0,0,0,0,0,0,0,0,0,0,0,0,0,0,0,0,0,0,0,0,null,0,0,0,0,0,0,0,0,0,0,0,0,0,0,0,0,0,0,0,0,0,0,0,0,0,0,0,0,0,0,0,0,0,0,0,0,0,"NO",0,0,0,0,0,0,0,0,0,0,0,0,0,0,0,0,0,0,0,0,0,0,0,0,0,0,0,0,0,0,0,0,0,0,0,0,0,0,0,0,0,0,0,0,0,0,0,0,0,0,0,0,0,0,0,0,0,0,0,0,0,0,0,0,0,0,0,0,0,0,0,0,0,0,0,0,0,0,0,0,0,0,0,0,0,0,0,0,0,0,0,0,0,0,0,0,0,0,0,0,0,0,0,0,0,"NO",0,0,0,0,0,0,0,0,0,0,0,0,0,0,0,0,0,0,0,0,0,0,0,0,0,0,0,0,0,0,0,0,0,0,0,0,0,0,0,0,0,0,0,0,0,0,0,0,0,0,0,0,0,0,"NO",0,0,0,0,0,null,0,0,0,0,null,"na",null,null,null,null,null,null,null,null,"That the loss of being able to provide that in-person response for sexual assault victims when they reported rape was really felt by our team.  We had no ability to do follow up, find out what was going on with investigation and case as we had no information tot even pursue on victim behalf.   With community shut down in all most all areas of walkin or immediate support for crisis intervention we again felt the impact of loss of connection to those who may have reached out to other agenciesWe learned that before Co-vid what we thought was strong community referrals between our program and other agencies, had gaps in process to ensure no one fell htrough the cracks.  the overall picture of islolated work from home had its draw backs as not always was it clear how to reach out or refer in a suppportive and timely manner",null,"We realized how much more we need to do to ensure that as how services are being directed to provide through remote support how we will change with the times,  what will we need to do to ensure that those expericing victimizaiton know how to access the same quaility and privacy support if they cannot reach out to agency or program by walk-in means.This funding has allowed us to connect with state and national experts on what is being done so that we can review and adopt best practices ."]
[46090,"OR46090","2021-01-26",2020,"Lake County Crisis Center","LakeCo.Crisis C00032",null,null,null,null,null,null,null,null,"GI5_OrgType_VicServ_Dual",null,"NO","NO","M Gloria",null,"Stringer","Lake County Crisis Center","726 N 1st Street (PO Box","Lakeview","OR","97630","541-947-2498","541-947-2147","lccrisiscenter@gmail.com","NO",null,0,100,0,100,"YES",1,0,0,0,0,0,0,0,0,0,0,0,0,0,0,0,0,0,0.72,0,null,0,0.72,0,0,0,0,1,0,0,0,0,0,0,0,0,0,0,0,0,0,0,0,"NO",0,0,0,0,0,0,0,0,0,0,0,0,0,0,0,0,0,0,0,0,0,0,0,0,0,0,0,0,null,0,0,0,0,0,0,0,0,0,0,0,0,0,0,0,null,0,0,0,0,0,0,0,0,0,0,0,0,0,0,0,0,0,0,0,0,null,0,0,0,0,0,0,0,0,0,0,0,0,0,0,0,0,0,null,0,0,0,0,0,null,"NO",0,0,0,0,0,0,0,0,0,0,0,0,0,0,0,null,0,0,0,0,0,0,0,0,0,0,0,0,0,0,0,null,0,0,0,0,0,0,0,0,0,0,0,0,0,0,0,0,0,null,null,null,null,null,null,null,"Weekly",null,"Weekly",null,null,"Quarterly","Weekly",null,"Weekly","Quarterly",null,null,null,null,"Weekly",null,null,null,null,null,null,null,"Weekly","Quarterly",null,null,null,null,null,"NO",0,0,0,0,0,0,0,0,0,0,0,0,0,0,null,0,0,0,0,0,0,0,0,0,0,0,0,0,0,0,0,0,0,0,0,0,null,0,0,0,0,0,0,0,0,0,0,0,0,0,0,null,0,0,0,0,0,0,0,0,0,0,0,0,0,0,0,0,0,null,0,0,0,0,0,0,0,0,0,null,0,0,0,0,0,0,0,0,0,0,0,null,"NO",0,0,null,null,null,0,null,null,null,0,null,null,null,0,null,null,null,0,null,null,null,0,null,null,null,0,null,null,null,0,null,null,null,0,null,null,null,null,0,null,null,null,0,null,null,null,0,null,null,null,"NO",0,0,0,0,0,0,0,0,0,0,0,0,0,0,0,0,0,0,0,0,0,0,0,0,0,0,0,0,null,"NO",0,0,0,0,0,0,0,0,0,0,0,0,0,null,0,0,0,0,0,0,0,0,0,0,0,0,0,0,0,0,"NO",0,0,0,0,0,0,0,0,0,0,0,0,0,0,0,0,0,0,0,0,0,0,0,0,0,0,0,0,0,0,0,0,0,0,0,0,0,0,0,0,0,0,0,0,0,0,null,0,0,0,0,0,"YES",1,0,53,0,53,0,1,0,1,0,54,0,54,0,0,0,0,0,34,0,34,0,0,0,0,0,54,3,0,0,0,0,0,0,54,3,0,0,12,0,12,0,0,0,0,0,0,0,0,0,0,0,0,0,0,0,0,0,0,0,0,0,0,1,0,0,0,0,0,0,0,0,0,null,1,0,3,1,0,41,1,7,54,47,6,0,1,54,0,1,42,4,7,54,1,4,1,0,0,0,53,0,32,0,0,10,0,0,11,0,0,0,0,0,0,0,1,0,0,54,0,17,30,8,10,5,5,27,28,0,0,0,0,1,1,2,2,39,51,null,0,0,5,2,19,0,0,0,38,65,0,0,0,0,0,11,0,2,2,0,0,0,0,"NO",0,0,0,0,0,0,0,0,0,0,0,0,0,0,0,0,0,0,0,0,null,0,0,0,0,0,0,0,0,0,0,0,0,0,0,0,0,0,0,0,0,0,0,0,0,0,0,0,0,0,0,0,0,0,0,0,0,0,0,0,0,0,0,0,0,0,0,0,0,0,0,0,0,0,0,0,0,0,0,0,0,0,0,0,0,0,0,0,0,0,0,0,0,0,0,0,0,0,0,0,0,0,0,0,0,0,0,0,0,0,0,0,0,0,0,0,0,0,0,0,0,0,0,0,0,0,0,0,0,0,0,0,0,0,0,0,0,0,0,0,0,0,0,0,0,0,0,0,0,0,0,0,0,0,0,0,0,0,0,0,null,0,0,0,0,0,0,0,0,"NO",0,0,0,0,0,0,0,0,0,0,0,0,0,0,0,0,0,0,0,0,0,0,0,0,0,0,0,0,0,0,0,0,0,0,0,0,0,0,0,0,0,0,0,0,0,0,0,0,0,0,"NO",0,0,0,0,0,0,0,0,0,0,0,0,0,0,0,0,0,0,0,0,0,0,0,0,0,null,0,0,0,0,0,0,0,0,0,0,0,0,0,0,0,0,0,0,0,0,0,0,0,0,0,0,0,0,0,0,0,0,0,0,0,0,0,0,0,0,0,0,0,0,0,0,0,0,0,0,0,0,0,0,0,0,0,0,0,0,0,0,0,0,0,0,0,0,0,0,0,0,0,0,0,0,0,0,0,0,0,0,0,0,0,0,0,0,0,0,0,0,0,0,0,0,0,0,0,0,0,0,0,0,0,0,0,0,0,0,0,0,0,0,0,0,0,0,0,0,0,0,0,0,0,0,0,0,0,0,0,0,0,0,0,0,0,0,0,0,0,0,0,0,0,0,0,0,0,0,0,0,0,null,0,0,0,0,0,0,0,0,0,0,0,0,0,0,0,0,0,0,0,0,0,0,0,0,0,0,0,0,0,0,0,0,0,0,0,0,0,"NO",0,0,0,0,0,0,0,0,0,0,0,0,0,0,0,0,0,0,0,0,0,0,0,0,0,0,0,0,0,0,0,0,0,0,0,0,0,0,0,0,0,0,0,0,0,0,0,0,0,0,0,0,0,0,0,0,0,0,0,0,0,0,0,0,0,0,0,0,0,0,0,0,0,0,0,0,0,0,0,0,0,0,0,0,0,0,0,0,0,0,0,0,0,0,0,0,0,0,0,0,0,0,0,0,0,"NO",0,0,0,0,0,0,0,0,0,0,0,0,0,0,0,0,0,0,0,0,0,0,0,0,0,0,0,0,0,0,0,0,0,0,0,0,0,0,0,0,0,0,0,0,0,0,0,0,0,0,0,0,0,0,"NO",0,0,0,0,0,null,0,0,0,0,null,null,null,null,null,null,null,null,null,null,"Areas of remaining need are; increasing bilingual staff and increasing crisis line volunteers.Bilingual staff:  The Lake County Crisis Center currently has one full-time advocate who is English only speaking.  The VAWA funded advocate is able to provide services to Hispanic clients who are limited in English proficiency by using Google Translate but sometimes this is not the best way to interact with a client who has just experienced a traumatic domestic violence incident.  The executive director currently provides most in-person services to Spanish-speaking domestic violence clients as well as to other victim categories.  A solution the executive director has discussed with the current advocate is for the advocate to find a Spanish language-learning program to enroll in that will aid in learning Spanish.Increasing crisis line volunteers:  This past year the crisis center lost two valuable crisis line volunteers; one moved out of the area and the other is unavailable until further notice due to a family death.  Having a solid number of volunteers relieves the burden of the advocate taking the crisis line after hours, leading to stress and burnout.We have an ongoing volunteer recruitment campaign via radio spots, speaking engagements and word of mouth but still have difficulty-finding volunteers.   When potential volunteers find out that they must first pass a background check and then complete so many required hours of training before they can work with clients, they lose interest.",null,"STOP Program covers 72% of the full-time advocate’s salary.  Without these funds, it might not be possible to have a full-time advocate or to have the advocate coordinate community outreach to victims/survivors who need crisis center services."]
[46091,"OR46091","2021-01-25",2020,"Lane County District Attorney's Office","LaneCo.DAVAP-00003",null,null,null,null,null,null,null,null,"GI5_OrgType_Prosecution",null,"NO","NO","Patricia",null,"Perlow","Lane County District Attorney's Office","125 E 8th Avenue","Eugene","OR","97401","(541)682-4523","(541)682-3693","patty.perlow@lanecountyor.gov","NO",null,37,63,0,100,"YES",1,0,0,0,0,0,0.63,0,0,0,0,0,0,0.43,0,0,0.01,0,0,0,null,0,1.07,1,1,1,0,0,0,0,0,0,0,0,0,0,0,0,0,0,0,0,0,"YES",1,6,0,10,0,0,0,0,0,0,0,0,0,0,316,0,0,0,0,0,0,0,0,0,0,0,0,0,null,0,326,1,1,1,0,1,1,0,0,1,0,1,0,0,null,1,1,0,1,1,0,0,1,1,1,1,1,1,1,0,0,0,1,0,0,null,0,1,0,0,1,1,1,1,1,0,0,1,0,1,1,1,0,null,0,1,0,0,0,null,"NO",0,0,0,0,0,0,0,0,0,0,0,0,0,0,0,null,0,0,0,0,0,0,0,0,0,0,0,0,0,0,0,null,0,0,0,0,0,0,0,0,0,0,0,0,0,0,0,0,0,null,"Monthly",null,null,null,"Daily","Monthly","Weekly","Monthly","Weekly","Monthly",null,null,null,null,"Weekly","Quarterly",null,null,"Daily","Weekly","Weekly",null,"Daily","Weekly",null,null,"Monthly","Monthly","Weekly","Monthly",null,null,null,null,null,"NO",0,0,0,0,0,0,0,0,0,0,0,0,0,0,null,0,0,0,0,0,0,0,0,0,0,0,0,0,0,0,0,0,0,0,0,0,null,0,0,0,0,0,0,0,0,0,0,0,0,0,0,null,0,0,0,0,0,0,0,0,0,0,0,0,0,0,0,0,0,null,0,0,0,0,0,0,0,0,0,null,0,0,0,0,0,0,0,0,0,0,0,null,"NO",0,0,null,null,null,0,null,null,null,0,null,null,null,0,null,null,null,0,null,null,null,0,null,null,null,0,null,null,null,0,null,null,null,0,null,null,null,null,0,null,null,null,0,null,null,null,0,null,null,null,"NO",0,0,0,0,0,0,0,0,0,0,0,0,0,0,0,0,0,0,0,0,0,0,0,0,0,0,0,0,null,"YES",1,0,0,0,0,0,1,0,0,0,0,0,0,null,0,0,0,0,0,1,0,0,0,1,0,0,0,0,0,0,"NO",0,0,0,0,0,0,0,0,0,0,0,0,0,0,0,0,0,0,0,0,0,0,0,0,0,0,0,0,0,0,0,0,0,0,0,0,0,0,0,0,0,0,0,0,0,0,null,0,0,0,0,0,"NO",0,0,0,0,0,0,0,0,0,0,0,0,0,0,0,0,0,0,0,0,0,0,0,0,0,0,0,0,0,0,0,0,0,0,0,0,0,0,0,0,0,0,0,0,0,0,0,0,0,0,0,0,0,0,0,0,0,0,0,0,0,0,0,0,0,0,0,0,0,0,0,0,0,null,0,0,0,0,0,0,0,0,0,0,0,0,0,0,0,0,0,0,0,0,0,0,0,0,0,0,0,0,0,0,0,0,0,0,0,0,0,0,0,0,0,0,0,0,0,0,0,0,0,0,0,0,0,0,0,0,0,0,0,0,0,0,0,0,0,null,0,0,0,0,0,0,0,0,0,0,0,0,0,0,0,0,0,0,0,0,0,0,0,"NO",0,0,0,0,0,0,0,0,0,0,0,0,0,0,0,0,0,0,0,0,null,0,0,0,0,0,0,0,0,0,0,0,0,0,0,0,0,0,0,0,0,0,0,0,0,0,0,0,0,0,0,0,0,0,0,0,0,0,0,0,0,0,0,0,0,0,0,0,0,0,0,0,0,0,0,0,0,0,0,0,0,0,0,0,0,0,0,0,0,0,0,0,0,0,0,0,0,0,0,0,0,0,0,0,0,0,0,0,0,0,0,0,0,0,0,0,0,0,0,0,0,0,0,0,0,0,0,0,0,0,0,0,0,0,0,0,0,0,0,0,0,0,0,0,0,0,0,0,0,0,0,0,0,0,0,0,0,0,0,0,null,0,0,0,0,0,0,0,0,"NO",0,0,0,0,0,0,0,0,0,0,0,0,0,0,0,0,0,0,0,0,0,0,0,0,0,0,0,0,0,0,0,0,0,0,0,0,0,0,0,0,0,0,0,0,0,0,0,0,0,0,"YES",1,957,47,0,700,36,0,254,11,0,3,0,0,0,0,0,5,0,0,247,11,0,0,0,0,"no crime occurred",2,0,0,0,0,0,0,0,0,0,0,0,0,189,1,171,0,0,6,1,0,2,370,20,0,251,21,0,15,1,0,0,308,0,0,0,0,0,1,0,0,0,1,0,0,3,0,1,0,0,0,0,4,0,0,9,1,0,1,0,0,0,11,0,0,0,0,0,0,0,0,0,0,0,0,0,0,0,0,0,0,0,0,0,0,0,0,0,0,0,0,0,0,0,0,0,0,0,0,0,0,0,0,0,0,0,0,0,0,0,0,0,0,0,0,0,0,0,0,0,0,0,0,0,0,0,0,0,0,0,0,0,0,3,0,4,0,0,0,0,0,0,7,0,0,0,0,0,0,0,0,0,0,null,0,0,0,0,0,0,0,0,0,0,212,1,438,22,1,23,2,0,2,701,0,0,0,148,2,0,0,0,0,0,0,0,0,0,0,0,0,"NO",0,0,0,0,0,0,0,0,0,0,0,0,0,0,0,0,0,0,0,0,0,0,0,0,0,0,0,0,0,0,0,0,0,0,0,0,0,0,0,0,0,0,0,0,0,0,0,0,0,0,0,0,0,0,0,0,0,0,0,0,0,0,0,0,0,0,0,0,0,0,0,0,0,0,0,0,0,0,0,0,0,0,0,0,0,0,0,0,0,0,0,0,0,0,0,0,0,0,0,0,0,0,0,0,0,"NO",0,0,0,0,0,0,0,0,0,0,0,0,0,0,0,0,0,0,0,0,0,0,0,0,0,0,0,0,0,0,0,0,0,0,0,0,0,0,0,0,0,0,0,0,0,0,0,0,0,0,0,0,0,0,"NO",0,0,0,0,0,null,0,0,0,0,null,null,null,null,null,null,null,null,null,null,"DV Investigator - Barriers consisting of lack of financial resources available for employment services, daycare and financial education limits the ability of the victim to overcome these obstacles. This will result in the victim relying on the offender to care for their fundamental needs (again).   Outlying rural communities are limited to fast response due to geographical challenges and low staffing issues for rural agencies not responding to calls for service which are not in progress. Campus SA Team - While the criminal justice system has been hit particularly hard with the pandemic, we have still been working with law enforcement to develop cases and problem solve as issues come up. What remains the most significant area of need is continuing to develop the relationships with law enforcement and sustain the partnerships that we have as natural transitions from position occur. This year has brought changes at the university staffing level, most notably, the Title IX coordinator leaving that role. When a new person takes on a position such as that, there is a learning curve and a “getting to know you” period that takes time. The institutional knowledge that comes from working in this area for so many years often leaves with the employee departing. It is up to those of us continuing to do that work.",null,"DV Investigator - The STOP Program funding has allowed Law Enforcement to follow up on cases it normally would not be able to follow up on.  Sometimes cases drag out for extensive periods of time and law enforcement resources are drained.  The STOP grant allows investigators to spend the appropriate amount of time investigating the cases, resulting in adjudication of the case in a prompt manner. Campus SA Team - We have never had two attorneys in the office who understand the dynamics of a concurrent University and police investigation as thoroughly as we do now. This institutional knowledge is extremely helpful and expanding it past the lead prosecutor is crucial to making sure this project and grant are sustainable efforts for us moving forward."]
[46092,"OR46092","2021-01-29",2020,"Marion County Victim Assistance","VAWA-C-2020-00009",null,null,null,null,null,null,null,null,"GI5_OrgType_Prosecution",null,"NO","NO","Susana","C","Escobedo","MARION COUNTY VICTIM ASSISTANCE","PO BOX 14500","SALEM","OR","97309","(503) 588-5604","503-373-4348","sescobedo@co.marion.or.us","NO",null,1,94,5,100,"YES",1,0,0,0,0,0,0,0,0,0,0,0,0,0,0,0,0.33,0,0,3,null,0,3.33,0,0,0,0,1,0,0,0,0,0,1,0,0,0,0,0,0,0,0,0,"YES",1,4,0,0,2,1,4,0,0,1,0,0,0,0,0,0,0,0,0,10,0,0,0,0,0,1,5,21,null,0,45,1,1,1,1,1,1,1,0,1,1,1,0,0,null,1,1,0,1,1,1,0,0,1,1,0,1,1,1,1,1,1,1,0,0,null,0,0,0,0,1,1,1,1,0,1,0,1,1,1,1,1,0,null,1,1,1,0,0,null,"NO",0,0,0,0,0,0,0,0,0,0,0,0,0,0,0,null,0,0,0,0,0,0,0,0,0,0,0,0,0,0,0,null,0,0,0,0,0,0,0,0,0,0,0,0,0,0,0,0,0,null,"Monthly",null,"Monthly","Quarterly","Weekly","Quarterly","Daily","Quarterly","Daily","Quarterly","Weekly",null,"Monthly",null,"Daily","Quarterly","Weekly",null,"Daily","Quarterly","Daily","Quarterly","Daily","Weekly",null,null,null,null,"Weekly","Quarterly",null,null,null,null,null,"NO",0,0,0,0,0,0,0,0,0,0,0,0,0,0,null,0,0,0,0,0,0,0,0,0,0,0,0,0,0,0,0,0,0,0,0,0,null,0,0,0,0,0,0,0,0,0,0,0,0,0,0,null,0,0,0,0,0,0,0,0,0,0,0,0,0,0,0,0,0,null,0,0,0,0,0,0,0,0,0,null,0,0,0,0,0,0,0,0,0,0,0,null,"NO",0,0,null,null,null,0,null,null,null,0,null,null,null,0,null,null,null,0,null,null,null,0,null,null,null,0,null,null,null,0,null,null,null,0,null,null,null,null,0,null,null,null,0,null,null,null,0,null,null,null,"NO",0,0,0,0,0,0,0,0,0,0,0,0,0,0,0,0,0,0,0,0,0,0,0,0,0,0,0,0,null,"NO",0,0,0,0,0,0,0,0,0,0,0,0,0,null,0,0,0,0,0,0,0,0,0,0,0,0,0,0,0,0,"NO",0,0,0,0,0,0,0,0,0,0,0,0,0,0,0,0,0,0,0,0,0,0,0,0,0,0,0,0,0,0,0,0,0,0,0,0,0,0,0,0,0,0,0,0,0,0,null,0,0,0,0,0,"YES",1,3,654,33,690,0,0,0,0,3,654,33,690,0,0,0,0,3,654,33,690,3,0,0,0,0,654,0,0,0,0,33,0,3,654,33,0,0,109,2,111,0,0,0,0,0,0,0,0,0,0,0,0,0,0,0,0,0,0,0,0,0,0,0,0,0,0,0,0,0,0,0,0,null,1,6,11,164,15,304,0,189,690,441,109,15,125,690,7,70,420,48,145,690,27,12,202,0,16,0,265,3,255,28,0,186,0,0,132,5,0,0,0,0,0,0,81,0,3,654,33,151,151,0,0,690,3349,690,858,0,0,0,0,202,202,0,0,690,1414,null,0,0,0,0,0,0,0,0,0,0,0,2,0,3,0,91,0,83,0,19,0,16,0,"NO",0,0,0,0,0,0,0,0,0,0,0,0,0,0,0,0,0,0,0,0,null,0,0,0,0,0,0,0,0,0,0,0,0,0,0,0,0,0,0,0,0,0,0,0,0,0,0,0,0,0,0,0,0,0,0,0,0,0,0,0,0,0,0,0,0,0,0,0,0,0,0,0,0,0,0,0,0,0,0,0,0,0,0,0,0,0,0,0,0,0,0,0,0,0,0,0,0,0,0,0,0,0,0,0,0,0,0,0,0,0,0,0,0,0,0,0,0,0,0,0,0,0,0,0,0,0,0,0,0,0,0,0,0,0,0,0,0,0,0,0,0,0,0,0,0,0,0,0,0,0,0,0,0,0,0,0,0,0,0,0,null,0,0,0,0,0,0,0,0,"NO",0,0,0,0,0,0,0,0,0,0,0,0,0,0,0,0,0,0,0,0,0,0,0,0,0,0,0,0,0,0,0,0,0,0,0,0,0,0,0,0,0,0,0,0,0,0,0,0,0,0,"NO",0,0,0,0,0,0,0,0,0,0,0,0,0,0,0,0,0,0,0,0,0,0,0,0,0,null,0,0,0,0,0,0,0,0,0,0,0,0,0,0,0,0,0,0,0,0,0,0,0,0,0,0,0,0,0,0,0,0,0,0,0,0,0,0,0,0,0,0,0,0,0,0,0,0,0,0,0,0,0,0,0,0,0,0,0,0,0,0,0,0,0,0,0,0,0,0,0,0,0,0,0,0,0,0,0,0,0,0,0,0,0,0,0,0,0,0,0,0,0,0,0,0,0,0,0,0,0,0,0,0,0,0,0,0,0,0,0,0,0,0,0,0,0,0,0,0,0,0,0,0,0,0,0,0,0,0,0,0,0,0,0,0,0,0,0,0,0,0,0,0,0,0,0,0,0,0,0,0,0,null,0,0,0,0,0,0,0,0,0,0,0,0,0,0,0,0,0,0,0,0,0,0,0,0,0,0,0,0,0,0,0,0,0,0,0,0,0,"NO",0,0,0,0,0,0,0,0,0,0,0,0,0,0,0,0,0,0,0,0,0,0,0,0,0,0,0,0,0,0,0,0,0,0,0,0,0,0,0,0,0,0,0,0,0,0,0,0,0,0,0,0,0,0,0,0,0,0,0,0,0,0,0,0,0,0,0,0,0,0,0,0,0,0,0,0,0,0,0,0,0,0,0,0,0,0,0,0,0,0,0,0,0,0,0,0,0,0,0,0,0,0,0,0,0,"NO",0,0,0,0,0,0,0,0,0,0,0,0,0,0,0,0,0,0,0,0,0,0,0,0,0,0,0,0,0,0,0,0,0,0,0,0,0,0,0,0,0,0,0,0,0,0,0,0,0,0,0,0,0,0,"NO",0,0,0,0,0,null,0,0,0,0,null,"There has been an improved judicial response to victims/survivors requesting protective orders. Not only has it been with judicial parties, but also non-system-based advocates. Our program has worked to reach out to our community partners and judicial partners to provide updates on our processes, especially during the ever changing covid-19 safety restrictions. Due to our communication efforts, we have established a point of contact with our courts, and helped develop a remote system to continue to provide services to victims and survivors. By having greater coordination between our program and the local judicial offices, we have continued to be present during contested hearings (Protection Orders) and the initial hearings by remote means. Our office has continued to do outreach to victims and survivors who are not directly accessing our services, but now have knowledge of our resources. These coordinated efforts ultimately continue to connect us with our community regardless of the current COVID restrictions. As a result of our continued efforts to introduce our program to judicial staff, we have not only made a valuable connection, but we’ve also participated at meetings and training hosted by them. These opportunities have allowed our program to engage in new systems so we can better understand them. The pandemic has forced many to restructure the way that they offer services, and it certainly helped push accessibility for all, specifically in regards to protective orders. What was once only available for in person submission, is now available for Online submission. Additionally we continue to engage in extensive collaborative efforts with other important  community partner programs who's focus is on community response to victims of sexual and domestic violence. We are also heavily involved in several of our local MDTs for example the Domestic Violence Council, the Sexual Assault Response Team and  the local Threat Assessment Team.",null,null,"At this time we are unable to track additional types of victimizations. The numbers is question # 31 are representative of the primary victimization documented in our cases. We have recently switched to a new case management system which had the ability to track the primary and additional victimizations in each case.",null,null,null,null,null,"Our community continues to see a high number of victims that need services and assistance to regain stability in their lives after their victimization. The need for comprehensive and accessible services keeps growing along with the number of cases and request for services experienced by our program and our community partners. Additionally the current health crisis has only heightened the needs of the community and has made providing meaningful services much more imperative then in normal year. This year our program has seen a dramatic increase in the need for crisis services, safety intervention and emergency financial resources. Unfortunately, many of our go-to local community programs were forced to close their doors or limit their accessibility due to the pandemic. As a result, victims have struggled even more to find the help and resources they need. This is especially true for victims of sexual and domestic violence as many victims are being forced to isolate with their abusers for dangerous lengths of time.A significant area of need is emergency shelter and housing. There are programs slowly being established that are providing emergency shelter for both men and women. However, our county  is one of the biggest in Oregon after Clackamas and Multnomah. Oftentimes there are simply no beds available for victims, that’s been our experience especially during the pandemic. Many shelters were forced to minimize the number of beds available for fear of exposure and to appropriately follow the 6 foot safety guidelines. Some programs have been able to strategically provide hotel vouchers for victims/survivors, but in many occasions these vouchers are only available for 24 hours. The long term housing is limited, and since late 2019 we have not had openings with the Marion County Housing Authority. Ultimately, the housing and shelter shortages cannot simply be fixed overnight, there are many who continue to push for affordable housing, for alternative houses (small homes) but coupled with a pandemic,  resources have been severely limited for survivors in our community. Additionally, there is a continued need for accessible and culturally responsive services for under-served, marginalized and/or oppressed victims. Because of the geographical area our program serves, we see this impacting the Latinx community the most. The lack of culturally responsive services continues to be one of the biggest unmet needs for the victims of this community. What we see are victims who are forced to overcome additional barriers because they don’t speak English or come from a culture other than the dominant culture. While, this project works to provide culturally responsive services, we know there are many more victims we aren’t reaching. We know there is more that needs to be done in regards to extending service accessibility to victims.",null,"Without the STOP Program funds our program would not be able to offer many of the core serves we provide to victims of domestic and sexual violence. VAWA project funding is still the sole source of funding for our Family Violence Program and is necessary to retain core services for the victims served by this project. As system based advocates we work closely with prosecutors and others within the system. The services and activities of this project help shape and strengthen a system response that is sensitive to the immediate and long-term needs of victims while still holding offenders accountable.  Our activities focus on service delivery that is inclusive of our community partners in order to provide victims with meaningful and comprehensive services.  We work to empower victims to make safe and informed choices with the goal of increasing their long-term safety.   Victims of domestic violence often struggle to find financial resources needed to survive without the support of their abuser.  We address this need for economic self-sufficiency and security by connecting them with community resources.  Our ability to adequately respond to victim needs can directly affect their ability to participate in the process and contribute to the system’s ability to hold an offender accountable.  Our services mitigate the impact on victims by preparing them ahead of time with information about what to expect in the process.  We also talk with people about their experience as a result of their victimization and prepare them for the possibility that their participation may trigger painful feelings and make plans to assist if that happens.  We work with prosecutors to help them recognize when this happens and respond appropriately.  We work with victims to develop their support networks to ensure they have the support and validation needed for the court process and in their daily personal lives. This project ensures victim advocates will support victims who choose to engage with the system or those who have not reported to police but still need guidance and support in overcoming their victimization.Additionally, with the continuation of the STOP Program funds we now had the opportunity to specifically focus more resources into expanding our outreach and services to the community. And while the pandemic caused us to make adjustments to our outreach efforts our program has already begun to connect with new community partners. One very impactfull and necessary partnership is with our local care professionals. Through our work experience we've found that the most health care professionals will come into contact with victims of DV or SA before law enforcement.  Many patients may not be forthcoming with details of the abuse, so it is important to identify the signs of abuse and be able to direct them to appropriate resources and supports. As a result of our continuing efforts to connect and engage with our community, we were able to successfully connect with the community outreach coordinator at one of the busiests and diverse clinics in the Salem area. Upon identifying a victim of DV, we were safely able to coordinate a warm hand off from the clinic to one of our advocates in the office. Not only was this done efficiently, but we were able to provide a Spanish speaking advocate as a support to the victim in a timely manner. Part of the barriers with accessing services at the DA’s office and law enforcement as a whole, are language barriers. Therefore our combined efforts to bypass the traumatic initial call into a local law enforcement agency or reception area, resulted in a less stressful hand off with support and services for the victim/survivor.",null,null,null,null,null,"Based on direction given in prior years, the data submitted on this report reflects only the services provided by the 3.3  FTE(1.3 of which where temp position continued from 2019) paid staff persons funded by this grant, which is a drastic underrepresent"]
[46093,"OR46093","2021-01-27",2020,"Multnomah County District Attorney's office","MultnomDAVAP-00008",null,null,null,null,null,null,null,null,"GI5_OrgType_Prosecution",null,"NO","NO","Emily","E","Hyde","Multnomah County District Attorney's office","1200 SW 1st Ave room 3500","Portland","OR","97204","5.039886448E9","5.039883162E9","emily.hyde@mcda.us","NO",null,0,100,0,100,"YES",1,0,0,0,0,0,0,0,0,0,0,0,0,0.98,0,0,0.02,0,0,0,null,0,1,1,1,0,0,0,0,0,0,1,0,0,0,0,0,0,0,0,0,1,0,"YES",1,4,0,0,0,0,0,2,0,0,0,0,0,1,1,0,0,8,0,0,0,0,0,0,0,7,16,0,null,0,35,1,0,0,0,0,0,0,0,0,0,0,0,0,null,0,1,0,1,0,0,0,0,0,0,0,0,1,0,0,0,0,0,0,0,null,1,0,1,1,1,1,1,1,0,1,0,1,1,0,0,0,0,null,0,0,0,0,0,null,"NO",0,0,0,0,0,0,0,0,0,0,0,0,0,0,0,null,0,0,0,0,0,0,0,0,0,0,0,0,0,0,0,null,0,0,0,0,0,0,0,0,0,0,0,0,0,0,0,0,0,null,null,null,null,null,"Weekly","Monthly","Daily","Monthly","Daily","Monthly",null,null,null,null,"Weekly",null,"Weekly",null,"Weekly","Monthly","Weekly","Monthly","Daily",null,null,null,"Weekly",null,"Weekly",null,null,null,null,null,null,"NO",0,0,0,0,0,0,0,0,0,0,0,0,0,0,null,0,0,0,0,0,0,0,0,0,0,0,0,0,0,0,0,0,0,0,0,0,null,0,0,0,0,0,0,0,0,0,0,0,0,0,0,null,0,0,0,0,0,0,0,0,0,0,0,0,0,0,0,0,0,null,0,0,0,0,0,0,0,0,0,null,0,0,0,0,0,0,0,0,0,0,0,null,"YES",1,0,null,null,null,0,null,null,null,0,null,null,null,0,null,null,null,0,null,null,null,0,null,null,null,1,"VAWA Partner Training Series-Prosecution and Advocacy","Community Partners and Law Enforcement",null,1,"VAWA:The STOP VAWA grant and MCDA","Victim Advocates",null,1,"VAWA:The STOP VAWA grant and MCDA","Prosecutors",null,"Referral form",0,null,null,null,1,"Universal VAWA Referral Form","project partners",null,0,null,null,null,"YES",1,1,0,1,0,0,1,0,1,0,1,0,1,1,0,0,1,1,1,0,1,0,0,1,0,1,1,1,"Services provided to victims.","YES",1,0,0,0,0,0,1,0,0,0,1,0,0,null,0,0,0,0,0,0,0,0,0,1,0,0,0,0,0,0,"NO",0,0,0,0,0,0,0,0,0,0,0,0,0,0,0,0,0,0,0,0,0,0,0,0,0,0,0,0,0,0,0,0,0,0,0,0,0,0,0,0,0,0,0,0,0,0,null,0,0,0,0,0,"NO",0,0,0,0,0,0,0,0,0,0,0,0,0,0,0,0,0,0,0,0,0,0,0,0,0,0,0,0,0,0,0,0,0,0,0,0,0,0,0,0,0,0,0,0,0,0,0,0,0,0,0,0,0,0,0,0,0,0,0,0,0,0,0,0,0,0,0,0,0,0,0,0,0,null,0,0,0,0,0,0,0,0,0,0,0,0,0,0,0,0,0,0,0,0,0,0,0,0,0,0,0,0,0,0,0,0,0,0,0,0,0,0,0,0,0,0,0,0,0,0,0,0,0,0,0,0,0,0,0,0,0,0,0,0,0,0,0,0,0,null,0,0,0,0,0,0,0,0,0,0,0,0,0,0,0,0,0,0,0,0,0,0,0,"NO",0,0,0,0,0,0,0,0,0,0,0,0,0,0,0,0,0,0,0,0,null,0,0,0,0,0,0,0,0,0,0,0,0,0,0,0,0,0,0,0,0,0,0,0,0,0,0,0,0,0,0,0,0,0,0,0,0,0,0,0,0,0,0,0,0,0,0,0,0,0,0,0,0,0,0,0,0,0,0,0,0,0,0,0,0,0,0,0,0,0,0,0,0,0,0,0,0,0,0,0,0,0,0,0,0,0,0,0,0,0,0,0,0,0,0,0,0,0,0,0,0,0,0,0,0,0,0,0,0,0,0,0,0,0,0,0,0,0,0,0,0,0,0,0,0,0,0,0,0,0,0,0,0,0,0,0,0,0,0,0,null,0,0,0,0,0,0,0,0,"NO",0,0,0,0,0,0,0,0,0,0,0,0,0,0,0,0,0,0,0,0,0,0,0,0,0,0,0,0,0,0,0,0,0,0,0,0,0,0,0,0,0,0,0,0,0,0,0,0,0,0,"YES",1,326,0,0,285,0,0,40,0,0,0,0,0,0,0,0,3,0,0,37,0,0,0,0,0,null,0,0,0,0,0,0,0,0,0,0,0,0,0,25,2,10,0,0,0,0,0,0,37,14,4,11,5,0,0,0,0,0,34,0,0,0,0,0,0,0,0,0,0,0,0,0,0,0,0,0,0,0,0,1,0,0,1,0,0,0,0,0,2,0,0,0,0,0,0,0,0,0,0,0,0,0,0,0,0,0,0,0,0,0,0,0,0,0,0,0,0,0,0,0,0,0,0,0,0,0,0,0,0,0,0,0,0,0,0,0,0,0,0,0,0,0,0,0,0,0,0,0,0,0,0,0,0,0,0,0,0,0,0,2,0,1,0,0,0,0,0,0,3,0,0,0,0,0,0,0,0,0,0,null,0,0,0,0,0,0,0,0,0,0,42,6,22,6,0,0,0,0,0,76,0,0,0,645,22,0,0,0,0,183,0,183,0,0,0,0,0,"NO",0,0,0,0,0,0,0,0,0,0,0,0,0,0,0,0,0,0,0,0,0,0,0,0,0,0,0,0,0,0,0,0,0,0,0,0,0,0,0,0,0,0,0,0,0,0,0,0,0,0,0,0,0,0,0,0,0,0,0,0,0,0,0,0,0,0,0,0,0,0,0,0,0,0,0,0,0,0,0,0,0,0,0,0,0,0,0,0,0,0,0,0,0,0,0,0,0,0,0,0,0,0,0,0,0,"NO",0,0,0,0,0,0,0,0,0,0,0,0,0,0,0,0,0,0,0,0,0,0,0,0,0,0,0,0,0,0,0,0,0,0,0,0,0,0,0,0,0,0,0,0,0,0,0,0,0,0,0,0,0,0,"NO",0,0,0,0,0,null,0,0,0,0,"We were pleased to see an increase in referrals to our VAWA project partners from our VAWA prosecutor, attorneys and advocates following the training events. These trainings included internal foundational training for our advocates and prosecutors on VAWA","The use of Coordinated Community Response activities will assist in providing additional services to vulnerable victims beyond what the Multnomah County District Attorney's Office (MCDA) has previously been able to provide. Five project partners have committed to enhancing responsiveness to the under-served community:-IRCO serves immigrants and refugees throughout the region including specialized services for victimized members of those communities.-Bradley Angle House serves anyone affected by domestic violence and sexual assault and provides specialty services for LGBTQ and Black survivors. -The PPB Family Services Division (FSD) works closely with law enforcement agencies, social service agencies and community-based organizations to combat crime and violence against children, senior citizens and all identified vulnerable adults and families. Specifically, FSD integrates investigative processes with information and services from community partners to streamline resources and maximize service delivery. -Project DART (Disability Awareness Resource Team) is a group of advocates and volunteers who provide direct services to people with disabilities, including court navigation services for people with disabilities who suffer caregiver abuse. -The Gateway Center provides comprehensive, survivor-centered advocacy and services in a welcoming and culturally sensitive environment. They prioritize survivors' safety, promote survivors' rights and support survivors' desires to be free from violence and abuse with over 17 on-site agencies providing DV and SA services. Underserved victim populations are specifically provided referrals to culturally appropriate safe housing resources and accommodations for court system navigation, such as interpreter services and culturally specific advocate referrals.By working with these project partners, MCDA has provided a more effective offender accountability while providing resources to vulnerable victims.",null,null,null,null,"Almost all of our cases have multiple charges involved. A majority of the felony cases have multiple felony charges as well as misdemeanor charges.  Cases rarely have only one charge.",null,null,null,"There are several significant areas of need regarding offender accountability and resources available to victims. Primarily, victims need wrap-around supportive services from a multidisciplinary team that is highly accessible and responsive to urgent and ongoing needs. These services must have the capacity to serve a large and diverse group while being responsive to individuals. In addition to services for survivors of domestic violence, we also need a system that can resolve cases in a timely manner and provide appropriate services with a high degree of supervision for domestic violence offenders. Services for offenders, as well as victims and their families need to be culturally responsive. It is also important that they address underlying or co-occurring issues such as mental health, substance abuse and cognitive issues. Multnomah County is among the most linguistically diverse counties in our state. We are fortunate to have a number of culturally specific social service providers who are able to provide services to many non-English speakers directly through bilingual staff. Many of our embedded MCDA advocates are also bilingual and bicultural, with Spanish and Russian being the most commonly used languages. There are a number of languages where we struggle to find appropriate resources and service providers available who are bilingual. There are conflicts that can arise, especially when working with victims from very small or insular communities. Although our program routinely uses interpreters, it is important to emphasize the importance and need for additional services provided directly through bilingual staff. This underscores the importance of our ongoing relationship with IRCO and other providers who offer bilingual advocacy and ensuring that the people they serve have information and access to the criminal justice system. The need for working closely with VAWA project partners to build trust and access in the system is clear. While distrust in the criminal justice system is not unique to Multnomah County, it is certainly amplified here. This year, the county saw a huge increase in demonstrations related to the criminal justice system. For victims to report the crimes committed against them, they must have a degree of trust in the police or the District Attorney’s Office.  Crimes of domestic violence oftentimes go unreported, which is one of the biggest barriers to offender accountability. It is almost impossible to prosecute an offender without victim participation on some level. Moreover, without correct information, abusers can effectively manipulate victims with threats of the criminal justice system.One critical way to gain trust is transparency. With this grant, the Multnomah County District Attorney’s Office (MCDA) strives to increase cultural competence and understanding of the criminal justice system. We are working to achieve this through work-group meetings and cross-trainings with our project partner agencies.  In the second half of the year, the Project prosecutor worked to expand on existing relationships with five project partners. These agencies specialize in assisting vulnerable community members, including immigrants and refugees, people with limited English proficiency, people with disabilities, LGBTQIA+ members, elderly individuals, the homeless population, and people of color. The Project Prosecutor scheduled and attended meetings with each of these project partners and led a collaborative meeting to discuss our year-end progress and reflect on how to improve our relationships and service delivery in 2021.",null,"The Stop Program funding allowed our office to improve services to traditionally underserved victims of domestic violence within Multnomah County. First, the funding added a full time Deputy District Attorney to the Domestic Violence Unit. By adding a Project Prosecutor, each prosecutor reduced their caseload. As a result, these prosecutors have more time to devote to their cases and individual victims. This is of particular importance as it allows prosecutors, embedded advocates and community partners to work more closely as a team to support victims. It is not uncommon for victims of domestic violence to experience pressure from family or community members when a case is being prosecuted. Further, there are many times where the victim discloses historical or ongoing abuse, tampering or violations of protective orders by the defendant. It is important for the victim's safety and the success of the case for all partners to work closely to address these issues.  The Project Prosecutor has a caseload comprised of felony charges where the victims are members of traditionally underserved groups in our community. Having a specialized caseload allows this prosecutor to provide specific attention to those that are traditionally underserved. The Project Prosecutor staffs cases with the misdemeanor attorneys and Certified Law Students to ensure vulnerable victims on these cases have access to available resources and that all members of our team are aware of and responsive to unique needs that they may have. The prosecutor also discusses trial strategy on these cases to increase offender accountability. Previously, the caseloads were too large to have a dedicated attorney that also could focus on these specific VAWA partnerships.  Additionally, the funding has enabled our office to work with project partners and establish a collaborative relationship with those who serve our community members.  The Project Prosecutor works closely with the agencies in the community to increase available information and improve collaborative working relationships.  The funding has also enabled MCDA to develop and implement a specific tracking system. The ongoing grant funding for this position will allow us to continue to improve upon our tracking system. With increased data and statistics, the DV unit has a better understanding how we are serving victims from specific groups, what is effective and where additional efforts and resources are needed. This is helpful when creating future goals and establishing additional community relationships, as it demonstrates where to focus our resources.",null,null,null,"During this reporting period, we focused heavily on relationship building with partners. This included providing internal trainings on VAWA so that our team was ready to support the goals of this grant and engage with our partner agencies. A key component to building trusted relationships is through cross-training and co-advocacy. We worked to identify point people within each agency that could assist us in developing meaningful trainings.It is through these relationships we hope to facilitate deeper conversations about fears, concerns and barriers to accessing the criminal justice system.We were able to host project partners who provided two trainings to our entire Victim Assistance team and Domestic Violence unit. We received feedback following the trainings that the information was helpful in better understanding some of the unique needs and barriers to engaging with the criminal justice system. Also an increased understanding in local resources available to meet those needs. Another indicator that these trainings were beneficial was an increase in referrals from our program to project partners. This included services through DART for an individual with disabilities, as well as several referrals to  Bradley Angle House both for Black survivors and LGBTQ survivors. We also heard positive feedback about referrals to the Gateway Center for Domestic Violence Services."]
[46094,"OR46094","2021-02-17",2020,"My Sisters' Place","MySistersPlace-00035",null,null,null,null,null,null,null,null,"GI5_OrgType_VicServ_Dual",null,"NO","NO","Amber","M","Wishoff","My Sisters' Place","PO Box 2152","Newport","OR","97365","541-574-9424","541-574-0376","amberw@mysistersplace.us","NO",null,100,0,0,100,"YES",1,0,0,0,0,0,0,0,0,0,0,0,0,0,0,0,0,0,0.44,0,null,0,0.44,0,0,0,0,1,1,0,0,0,1,0,0,0,0,0,0,0,0,0,0,"NO",0,0,0,0,0,0,0,0,0,0,0,0,0,0,0,0,0,0,0,0,0,0,0,0,0,0,0,0,null,0,0,0,0,0,0,0,0,0,0,0,0,0,0,0,null,0,0,0,0,0,0,0,0,0,0,0,0,0,0,0,0,0,0,0,0,null,0,0,0,0,0,0,0,0,0,0,0,0,0,0,0,0,0,null,0,0,0,0,0,null,"NO",0,0,0,0,0,0,0,0,0,0,0,0,0,0,0,null,0,0,0,0,0,0,0,0,0,0,0,0,0,0,0,null,0,0,0,0,0,0,0,0,0,0,0,0,0,0,0,0,0,null,null,null,"Weekly","Monthly","Monthly","Quarterly","Daily","Monthly","Daily","Weekly","Monthly",null,"Monthly",null,"Daily","Monthly","Daily","Monthly","Daily","Monthly","Daily","Monthly","Weekly","Monthly",null,null,"Daily","Monthly","Daily","Monthly","Daily","Monthly",null,null,null,"NO",0,0,0,0,0,0,0,0,0,0,0,0,0,0,null,0,0,0,0,0,0,0,0,0,0,0,0,0,0,0,0,0,0,0,0,0,null,0,0,0,0,0,0,0,0,0,0,0,0,0,0,null,0,0,0,0,0,0,0,0,0,0,0,0,0,0,0,0,0,null,0,0,0,0,0,0,0,0,0,null,0,0,0,0,0,0,0,0,0,0,0,null,"NO",0,0,null,null,null,0,null,null,null,0,null,null,null,0,null,null,null,0,null,null,null,0,null,null,null,0,null,null,null,0,null,null,null,0,null,null,null,null,0,null,null,null,0,null,null,null,0,null,null,null,"NO",0,0,0,0,0,0,0,0,0,0,0,0,0,0,0,0,0,0,0,0,0,0,0,0,0,0,0,0,null,"NO",0,0,0,0,0,0,0,0,0,0,0,0,0,null,0,0,0,0,0,0,0,0,0,0,0,0,0,0,0,0,"NO",0,0,0,0,0,0,0,0,0,0,0,0,0,0,0,0,0,0,0,0,0,0,0,0,0,0,0,0,0,0,0,0,0,0,0,0,0,0,0,0,0,0,0,0,0,0,null,0,0,0,0,0,"YES",1,185,0,0,185,0,0,0,0,185,0,0,185,0,0,0,0,31,0,0,31,185,0,0,0,18,0,0,0,15,0,0,0,218,0,0,0,0,15,0,15,0,0,0,0,0,0,0,0,0,0,0,0,0,0,0,0,0,0,0,0,0,0,0,0,0,0,0,0,0,0,0,0,null,14,1,2,20,1,122,0,25,185,166,9,5,5,185,1,11,96,12,65,185,5,10,4,0,5,0,185,47,0,0,69,0,0,12,0,0,1,0,0,12,0,44,0,0,185,0,0,15,36,38,197,5,113,45,86,3,3,6,6,12,38,28,61,73,339,null,0,0,28,8,752,6,11,331,121,386,35,3,3,3,3,0,0,0,0,0,0,0,0,"NO",0,0,0,0,0,0,0,0,0,0,0,0,0,0,0,0,0,0,0,0,null,0,0,0,0,0,0,0,0,0,0,0,0,0,0,0,0,0,0,0,0,0,0,0,0,0,0,0,0,0,0,0,0,0,0,0,0,0,0,0,0,0,0,0,0,0,0,0,0,0,0,0,0,0,0,0,0,0,0,0,0,0,0,0,0,0,0,0,0,0,0,0,0,0,0,0,0,0,0,0,0,0,0,0,0,0,0,0,0,0,0,0,0,0,0,0,0,0,0,0,0,0,0,0,0,0,0,0,0,0,0,0,0,0,0,0,0,0,0,0,0,0,0,0,0,0,0,0,0,0,0,0,0,0,0,0,0,0,0,0,null,0,0,0,0,0,0,0,0,"NO",0,0,0,0,0,0,0,0,0,0,0,0,0,0,0,0,0,0,0,0,0,0,0,0,0,0,0,0,0,0,0,0,0,0,0,0,0,0,0,0,0,0,0,0,0,0,0,0,0,0,"NO",0,0,0,0,0,0,0,0,0,0,0,0,0,0,0,0,0,0,0,0,0,0,0,0,0,null,0,0,0,0,0,0,0,0,0,0,0,0,0,0,0,0,0,0,0,0,0,0,0,0,0,0,0,0,0,0,0,0,0,0,0,0,0,0,0,0,0,0,0,0,0,0,0,0,0,0,0,0,0,0,0,0,0,0,0,0,0,0,0,0,0,0,0,0,0,0,0,0,0,0,0,0,0,0,0,0,0,0,0,0,0,0,0,0,0,0,0,0,0,0,0,0,0,0,0,0,0,0,0,0,0,0,0,0,0,0,0,0,0,0,0,0,0,0,0,0,0,0,0,0,0,0,0,0,0,0,0,0,0,0,0,0,0,0,0,0,0,0,0,0,0,0,0,0,0,0,0,0,0,null,0,0,0,0,0,0,0,0,0,0,0,0,0,0,0,0,0,0,0,0,0,0,0,0,0,0,0,0,0,0,0,0,0,0,0,0,0,"NO",0,0,0,0,0,0,0,0,0,0,0,0,0,0,0,0,0,0,0,0,0,0,0,0,0,0,0,0,0,0,0,0,0,0,0,0,0,0,0,0,0,0,0,0,0,0,0,0,0,0,0,0,0,0,0,0,0,0,0,0,0,0,0,0,0,0,0,0,0,0,0,0,0,0,0,0,0,0,0,0,0,0,0,0,0,0,0,0,0,0,0,0,0,0,0,0,0,0,0,0,0,0,0,0,0,"NO",0,0,0,0,0,0,0,0,0,0,0,0,0,0,0,0,0,0,0,0,0,0,0,0,0,0,0,0,0,0,0,0,0,0,0,0,0,0,0,0,0,0,0,0,0,0,0,0,0,0,0,0,0,0,"NO",0,0,0,0,0,null,0,0,0,0,null,null,null,null,null,null,null,null,null,null,"There is such a significant need for improvement in so many areas of our rural community. Our top identified areas of improvement are access to undeserved populations, shelter/housing, and support for sex trafficking survivors.We are seeing a huge spike in the types of complex trauma and violence in our community. It has made us continue to re-evaluate how we are supporting clients and increasing access to our most vulnerable populations. We have increased our communication with partners so both sides know what services are being offered and can pass that on to the clients we all come in contact with. We are partnering with other with the community to increase culturally sensitive services and access to information. We upgraded the staff computers to support the needs of telecommuting and give better access to survivors when our physical offices are closed or have limited hours. We found that much of the equipment was still useful so we are converting them to be accessible for clients. One of the desktop computers was added to the front waiting room at the office and three others are being added to various spaces at the shelter. They are each set up for public use, similar to how a desktop at a library might be. The intention is to provide confidential spaces where shelter residents and clients at the office will be able to meet with advocates and community partners through secure virtual platforms for case management or other needed appointments. The computers will also be of use for legal proceedings, medical appointments, language support, job searches, housing, and other client needs. We are also in the process of hiring an additional bilingual advocate. In my last report, it was stated that the rental vacancy in Lincoln County is 1%. That number is now obsolete. Since then, we have seen that number become obsolete due to economic instability, COVID, and wildfires that swept through out county at the end of the summer. Advocates continually find creative and nuanced ways to meet client housing needs and  services. The team is cohesively stretching to accommodate the multifaceted and complex challenges which they and the clients are coming up against. We have great advocates who have learned ways to help our clients navigate towards safety through the Red Cross, community programs, subsidized housing or shared housing situations as a temporary fix. We are still participating in community work groups to support the progress of solutions and make sure survivor voices are heard.We are at constantly at shelter capacity. We are doing a great deal of alternative housing options, relocation, partnering with other agencies (in and out of county), hotels, camping, and car support to meet the needs. We are looking at ways in the future to expand to another location with shelter and transitional housing options to support the needs of our community.  Our county is highly vulnerable to human trafficking for many reasons. Primarily because it runs along a major highway up the Oregon Coast and we have many industries that need inexpensive labor to run them. As a result, we serve a variety of clients experiencing labor or sex trafficking. MSP has been an active participate of our Human Trafficking Task Force (HTTF) since 2019 as one of its leading contributors. The HTTF's efforts to carefully lay a strong foundation are definitely paying off. We have seen an increase in awareness, community engagement, and partnership interaction in the last year. We are now working with the Oregon Department of Justice, Trafficking Response & Intervention Program, FBI, and Futures Without Violence on several initiatives and pilot programs. We are on a solid path to providing better support network to those who are or have experienced human trafficking in our community.",null,"The STOP Program funding has been a tremendous support to our community of survivors by aiding our shelter services and staff. This funding pays for part of our shelter manager's salary who focuses on sexual assault survivor support. The shelter advocate provides case management for SA survivors, safety planning, goal setting, helps connect them with other community resources, offers parenting information, and a wide variety of emotional support. While her time previously was spent almost exclusively at shelter, offering support to all clients there, we have expanded our scope due to COVID to unique housing solutions and hotel stays. This often means offering the same services we offer in shelter but needing to run supplies, paperwork, and food boxes to the clients where they are sheltered in place. The capacity at shelter has shifted many times in the last year due to the pandemics safety concerns. In addition to increases in services for through COVID, we also saw a huge spike in shelter needs due to the fires in our area. One third of households in that area are still displaced from the fires. The shelter and other advocates have done a tremendous job at adapting to the ever-changing circumstances in order to support survivors of sexual assault. Despite the complex challenges in our community in the last year, we have been able to offers tools, resources and support that have empowered clients to progress on their journey to safety and self-sufficiency. This wouldn't have been possible without the support of not only the grant funding but the grant coordinators."]
[46095,"OR46095","2021-02-22",2020,"NAYA Family Center Healing Circle","Joint-NAYA-00036",null,null,null,null,null,null,null,null,"GI5_OrgType_Other","Dual Victim Services - Culturally Specific Native American","NO","YES","Tawna","D","Sanchez","Native American Youth and Family Center","5135 NE Columbia BLVD","Portland","OR","97230","(503) 288-8177","5.039722495E9","tawnas@nayapdx.org","YES","urban population in Portland metro area",10,70,20,100,"YES",1,0.04,0,0,0,0,0,0,0,0,0,0,0,0,0,0,0,0,0.17,0,null,0,0.21,0,0,0,0,1,0,0,0,0,0,0,0,0,0,0,0,0,0,0,0,"NO",0,0,0,0,0,0,0,0,0,0,0,0,0,0,0,0,0,0,0,0,0,0,0,0,0,0,0,0,null,0,0,0,0,0,0,0,0,0,0,0,0,0,0,0,null,0,0,0,0,0,0,0,0,0,0,0,0,0,0,0,0,0,0,0,0,null,0,0,0,0,0,0,0,0,0,0,0,0,0,0,0,0,0,null,0,0,0,0,0,null,"NO",0,0,0,0,0,0,0,0,0,0,0,0,0,0,0,null,0,0,0,0,0,0,0,0,0,0,0,0,0,0,0,null,0,0,0,0,0,0,0,0,0,0,0,0,0,0,0,0,0,null,"Weekly","Monthly","Monthly","Monthly","Monthly","Monthly","Weekly","Monthly","Daily","Weekly","Monthly","Quarterly","Monthly","Quarterly","Weekly","Monthly",null,"Monthly","Weekly","Monthly","Weekly","Quarterly","Monthly","Quarterly",null,null,"Weekly",null,"Daily","Weekly","Monthly","Quarterly",null,null,null,"NO",0,0,0,0,0,0,0,0,0,0,0,0,0,0,null,0,0,0,0,0,0,0,0,0,0,0,0,0,0,0,0,0,0,0,0,0,null,0,0,0,0,0,0,0,0,0,0,0,0,0,0,null,0,0,0,0,0,0,0,0,0,0,0,0,0,0,0,0,0,null,0,0,0,0,0,0,0,0,0,null,0,0,0,0,0,0,0,0,0,0,0,null,"NO",0,0,null,null,null,0,null,null,null,0,null,null,null,0,null,null,null,0,null,null,null,0,null,null,null,0,null,null,null,0,null,null,null,0,null,null,null,null,0,null,null,null,0,null,null,null,0,null,null,null,"NO",0,0,0,0,0,0,0,0,0,0,0,0,0,0,0,0,0,0,0,0,0,0,0,0,0,0,0,0,null,"NO",0,0,0,0,0,0,0,0,0,0,0,0,0,null,0,0,0,0,0,0,0,0,0,0,0,0,0,0,0,0,"NO",0,0,0,0,0,0,0,0,0,0,0,0,0,0,0,0,0,0,0,0,0,0,0,0,0,0,0,0,0,0,0,0,0,0,0,0,0,0,0,0,0,0,0,0,0,0,null,0,0,0,0,0,"YES",1,5,35,10,50,0,0,0,0,5,35,10,50,0,0,0,0,2,7,2,11,5,0,0,0,0,35,0,0,0,0,10,0,5,35,10,0,0,0,0,0,0,0,0,0,0,0,0,0,0,0,0,0,0,0,0,0,0,0,0,0,0,0,0,0,0,0,0,0,0,0,0,0,null,33,0,5,3,0,9,0,0,50,48,2,0,0,50,0,4,44,2,0,50,2,6,0,1,0,0,5,4,28,8,1,3,1,0,4,1,0,0,0,0,0,0,0,0,5,35,10,8,8,0,0,1,1,10,18,0,0,0,0,0,0,2,3,40,69,null,0,0,0,0,0,0,0,0,63,77,0,0,0,0,0,0,0,0,0,0,0,0,0,"NO",0,0,0,0,0,0,0,0,0,0,0,0,0,0,0,0,0,0,0,0,null,0,0,0,0,0,0,0,0,0,0,0,0,0,0,0,0,0,0,0,0,0,0,0,0,0,0,0,0,0,0,0,0,0,0,0,0,0,0,0,0,0,0,0,0,0,0,0,0,0,0,0,0,0,0,0,0,0,0,0,0,0,0,0,0,0,0,0,0,0,0,0,0,0,0,0,0,0,0,0,0,0,0,0,0,0,0,0,0,0,0,0,0,0,0,0,0,0,0,0,0,0,0,0,0,0,0,0,0,0,0,0,0,0,0,0,0,0,0,0,0,0,0,0,0,0,0,0,0,0,0,0,0,0,0,0,0,0,0,0,null,0,0,0,0,0,0,0,0,"NO",0,0,0,0,0,0,0,0,0,0,0,0,0,0,0,0,0,0,0,0,0,0,0,0,0,0,0,0,0,0,0,0,0,0,0,0,0,0,0,0,0,0,0,0,0,0,0,0,0,0,"NO",0,0,0,0,0,0,0,0,0,0,0,0,0,0,0,0,0,0,0,0,0,0,0,0,0,null,0,0,0,0,0,0,0,0,0,0,0,0,0,0,0,0,0,0,0,0,0,0,0,0,0,0,0,0,0,0,0,0,0,0,0,0,0,0,0,0,0,0,0,0,0,0,0,0,0,0,0,0,0,0,0,0,0,0,0,0,0,0,0,0,0,0,0,0,0,0,0,0,0,0,0,0,0,0,0,0,0,0,0,0,0,0,0,0,0,0,0,0,0,0,0,0,0,0,0,0,0,0,0,0,0,0,0,0,0,0,0,0,0,0,0,0,0,0,0,0,0,0,0,0,0,0,0,0,0,0,0,0,0,0,0,0,0,0,0,0,0,0,0,0,0,0,0,0,0,0,0,0,0,null,0,0,0,0,0,0,0,0,0,0,0,0,0,0,0,0,0,0,0,0,0,0,0,0,0,0,0,0,0,0,0,0,0,0,0,0,0,"NO",0,0,0,0,0,0,0,0,0,0,0,0,0,0,0,0,0,0,0,0,0,0,0,0,0,0,0,0,0,0,0,0,0,0,0,0,0,0,0,0,0,0,0,0,0,0,0,0,0,0,0,0,0,0,0,0,0,0,0,0,0,0,0,0,0,0,0,0,0,0,0,0,0,0,0,0,0,0,0,0,0,0,0,0,0,0,0,0,0,0,0,0,0,0,0,0,0,0,0,0,0,0,0,0,0,"NO",0,0,0,0,0,0,0,0,0,0,0,0,0,0,0,0,0,0,0,0,0,0,0,0,0,0,0,0,0,0,0,0,0,0,0,0,0,0,0,0,0,0,0,0,0,0,0,0,0,0,0,0,0,0,"NO",0,0,0,0,0,null,0,0,0,0,null,"During 2020 our opportunities to be out and about in the public were halted with theonset of Covid-19 pandamic beginning early in the calendar year and into the next 2021period. While in the beginning, our focus was shifting service delivery to remoteservices, our connection with community partners grew as we all came together tosupport each other, offer additional resources, and provide avenues for futher referralcollobrations. During the last quarter of 2020 we were able to regroup a little bit as wedeveloped a stronger way to provide services, trainings, outreach virtually. We havebeen workig on having a portion of the health cirriculum in the school within our agency,planning trainings on servicing survivors with disabilitys, housing resource trainings,providing culturally specific trainings at a virtual conference in the 2021 year.",null,null,"During this reporting period, our offices were closed and advocates provided servicesremotely to clients due to teh COVID-19 pandemic. During the first half of the year, ourhotline calls were dramatically decreased. We believe this decrease is due to a largenumber of victims being quaranined at home with their abusers. Later in the year, assome restrictions were lifted or as the population grew tired of being quarantined, ourhotline calls picked up. Intensity and quantity are at a higher number than we have seenin previous years.Although numbers reported in this grant report have mainly remained steady over theyears, the Healing Circle has grown it's capacity to serve survivors through FTE notfunded through VAWA funds this year. This has increased our ability to serve survivorsreaching out through hotline calls and calls to office lines and provide deeper advocacysupport services through case management. This is reflected in the increase in hotlinecall numbers in the above statistics, but overall increase in numbers is not reflected indata reported using VAWA funding. Additionally we would like to share that when weassist with protection orders we are informed when the temporary order is granted butinformation is rarely shared regarding final order status.",null,null,null,null,null,"During 2020 financial assistance for clients was the top of the most requested item as peoplestruggled with the pandemic, isolation, and schooling children at home, losing income, losingresources. We were able to met and help many people overall through the program (outsideVAWA funded) but still had to turn people away. Motel voucher, rental assistance, and foodassistance, and child related expense funds were spent out while still having to turn awaypeople in need. We had many regional issues this reporting period on top of the pandemic,which led to many unique requests in needs. We continue to work under these trying timesinto the next reporting period. Affordable housing is a big concern as well as child care.We also saw an increase in our hotline calls in the later half of the reporting period withincreased intensity in violence. Being able to financially assist survivors with moving costs isa barrier as well.Another area that continues to be a low resources need is the need for mental healthresources. Mental Health was requested but hard to obtain in a timely manner.The Healing Circle continues to struggle to find culturally relevant mental health resourcesfor our participants. Healing Circle advocates continue to look to build their contacts withNative mental health providers. We hope to cultivate relationships that will inspire the mentalhealth workers we are able to connect with to provide pro-bono services once the fundingruns its course, while being cuturally specific.",null,"During this reporting period VAWA funding supported a 0.17 FTE advocate for the HealingCircle. During the past year this amount of FTE provided advocacy, in-home services,information and referral, transportation, courtroom advocacy and emotional support forprogram participants.VAWA funding also supported five percent of the Family Services Director's time. TheFamily Services Director sits on the agency wide leadership team and also attends severalmonthly meetings including the Tri County Advocacy Committee meeting, and the FamilyViolence Coordinating Council. Another responsibility of this position is supervising the workthe Healing Circle Manager does with the new coordinated access system in MultnomahCounty.The manager sits on the Resource Coordination Team, Coordinated Access ImplementationTeam as well as the Policy and Prcedure workgroup, McNeff's Open Doors group working tobuild capacity to serve survivors of domestic and sexual assault with physical disabilities.Due to the scarcity of housing resources for domestic violence survivors as well as the Nativecommunity in Portland we are excited to be able to participate in this system at such a highlevel and help our participants gain equitable access to this valuable resource. The Directorof Family Services also supervises all other activities of the Healing Circle Manager andmakes overall programmatic decisions regarding the direction of this program.",null,null,null,"The need for advocacy, in home services, information and referrals, transportation,courtroom advocacy, and emotional support for survivors of domestic violence, sexualassualt, and stalking are always in greater demand than funding or advocate time allows.Being able to provide culturally specific services allows for services to reach an underservedpopulation.",null,"The process required for calculating the numbers of victims served requires us to report farless than the actual numbers we document. Healing Circle staff supported by these fundsanswer hotline calls and provide many services over the phone that cannot be"]
[46096,"OR46096","2021-01-29",2020,"Oregon Attorney General's Sexual Assault Task Force","VAWA-C-2020-AGSATF",null,null,null,null,null,null,null,null,"GI5_OrgType_Other","Oregon Sexual Assault Task Force","NO","NO","Michele",null,"Roland-Schwartz","Oregon Attorney General's Sexual Assault Task Force","3625 River Road N, Suite","Keizer","OR","97303","503-990-6541","503-990-6547","michele@oregonsatf.org","NO",null,100,0,0,100,"YES",1,0,0,0,0,0,0,0,0,0,0,0,0.65,0,0,0.15,0,0,0,0,null,0,0.8,1,0,0,0,0,0,0,0,0,0,0,0,0,0,0,1,0,0,0,0,"YES",1,8,0,0,0,0,0,0,0,0,0,6,0,0,863,0,0,806,0,5,0,0,0,0,0,549,5,0,null,0,2234,1,0,1,0,0,1,1,0,1,1,0,0,0,null,0,0,0,0,0,0,0,0,0,1,0,0,1,1,1,1,1,0,0,0,null,0,0,0,0,0,0,1,1,1,0,0,1,1,1,1,1,0,null,1,1,1,0,0,null,"NO",0,0,0,0,0,0,0,0,0,0,0,0,0,0,0,null,0,0,0,0,0,0,0,0,0,0,0,0,0,0,0,null,0,0,0,0,0,0,0,0,0,0,0,0,0,0,0,0,0,null,null,null,null,null,"Monthly",null,null,null,null,"Quarterly",null,"Quarterly",null,null,null,null,null,"Quarterly","Monthly","Quarterly",null,null,null,"Monthly",null,null,null,"Monthly",null,"Monthly","Monthly",null,null,null,null,"NO",0,0,0,0,0,0,0,0,0,0,0,0,0,0,null,0,0,0,0,0,0,0,0,0,0,0,0,0,0,0,0,0,0,0,0,0,null,0,0,0,0,0,0,0,0,0,0,0,0,0,0,null,0,0,0,0,0,0,0,0,0,0,0,0,0,0,0,0,0,null,0,0,0,0,0,0,0,0,0,null,0,0,0,0,0,0,0,0,0,0,0,null,"YES",1,0,null,null,null,0,null,null,null,0,null,null,null,0,null,null,null,0,null,null,null,0,null,null,null,5,"Human Trafficking Webinars","Law Enforcement & Prosecutors","English only",3,"SART","SART members","English only",0,null,null,null,null,0,null,null,null,0,null,null,null,0,null,null,null,"NO",0,0,0,0,0,0,0,0,0,0,0,0,0,0,0,0,0,0,0,0,0,0,0,0,0,0,0,0,null,"NO",0,0,0,0,0,0,0,0,0,0,0,0,0,null,0,0,0,0,0,0,0,0,0,0,0,0,0,0,0,0,"NO",0,0,0,0,0,0,0,0,0,0,0,0,0,0,0,0,0,0,0,0,0,0,0,0,0,0,0,0,0,0,0,0,0,0,0,0,0,0,0,0,0,0,0,0,0,0,null,0,0,0,0,0,"NO",0,0,0,0,0,0,0,0,0,0,0,0,0,0,0,0,0,0,0,0,0,0,0,0,0,0,0,0,0,0,0,0,0,0,0,0,0,0,0,0,0,0,0,0,0,0,0,0,0,0,0,0,0,0,0,0,0,0,0,0,0,0,0,0,0,0,0,0,0,0,0,0,0,null,0,0,0,0,0,0,0,0,0,0,0,0,0,0,0,0,0,0,0,0,0,0,0,0,0,0,0,0,0,0,0,0,0,0,0,0,0,0,0,0,0,0,0,0,0,0,0,0,0,0,0,0,0,0,0,0,0,0,0,0,0,0,0,0,0,null,0,0,0,0,0,0,0,0,0,0,0,0,0,0,0,0,0,0,0,0,0,0,0,"NO",0,0,0,0,0,0,0,0,0,0,0,0,0,0,0,0,0,0,0,0,null,0,0,0,0,0,0,0,0,0,0,0,0,0,0,0,0,0,0,0,0,0,0,0,0,0,0,0,0,0,0,0,0,0,0,0,0,0,0,0,0,0,0,0,0,0,0,0,0,0,0,0,0,0,0,0,0,0,0,0,0,0,0,0,0,0,0,0,0,0,0,0,0,0,0,0,0,0,0,0,0,0,0,0,0,0,0,0,0,0,0,0,0,0,0,0,0,0,0,0,0,0,0,0,0,0,0,0,0,0,0,0,0,0,0,0,0,0,0,0,0,0,0,0,0,0,0,0,0,0,0,0,0,0,0,0,0,0,0,0,null,0,0,0,0,0,0,0,0,"NO",0,0,0,0,0,0,0,0,0,0,0,0,0,0,0,0,0,0,0,0,0,0,0,0,0,0,0,0,0,0,0,0,0,0,0,0,0,0,0,0,0,0,0,0,0,0,0,0,0,0,"NO",0,0,0,0,0,0,0,0,0,0,0,0,0,0,0,0,0,0,0,0,0,0,0,0,0,null,0,0,0,0,0,0,0,0,0,0,0,0,0,0,0,0,0,0,0,0,0,0,0,0,0,0,0,0,0,0,0,0,0,0,0,0,0,0,0,0,0,0,0,0,0,0,0,0,0,0,0,0,0,0,0,0,0,0,0,0,0,0,0,0,0,0,0,0,0,0,0,0,0,0,0,0,0,0,0,0,0,0,0,0,0,0,0,0,0,0,0,0,0,0,0,0,0,0,0,0,0,0,0,0,0,0,0,0,0,0,0,0,0,0,0,0,0,0,0,0,0,0,0,0,0,0,0,0,0,0,0,0,0,0,0,0,0,0,0,0,0,0,0,0,0,0,0,0,0,0,0,0,0,null,0,0,0,0,0,0,0,0,0,0,0,0,0,0,0,0,0,0,0,0,0,0,0,0,0,0,0,0,0,0,0,0,0,0,0,0,0,"NO",0,0,0,0,0,0,0,0,0,0,0,0,0,0,0,0,0,0,0,0,0,0,0,0,0,0,0,0,0,0,0,0,0,0,0,0,0,0,0,0,0,0,0,0,0,0,0,0,0,0,0,0,0,0,0,0,0,0,0,0,0,0,0,0,0,0,0,0,0,0,0,0,0,0,0,0,0,0,0,0,0,0,0,0,0,0,0,0,0,0,0,0,0,0,0,0,0,0,0,0,0,0,0,0,0,"NO",0,0,0,0,0,0,0,0,0,0,0,0,0,0,0,0,0,0,0,0,0,0,0,0,0,0,0,0,0,0,0,0,0,0,0,0,0,0,0,0,0,0,0,0,0,0,0,0,0,0,0,0,0,0,"NO",0,0,0,0,0,null,0,0,0,0,"SATF exponentially reached more participants in 2020 than the last five years combined. The reason is simple: virtual access has increased participant access to training, which we are very grateful for, and as a result will adapt our training moving forwa",null,null,null,null,null,null,null,null,null,"SATF has observed some positive change, particularly in Oregon where leaders are calling for changes in policing as it relates to the racism, sexism, homophobia, xenophobia, transphobia and other forms of bias and oppression we see survivors having to endure in order to report a crime of sexual assault or domestic violence. In many other ways, we’re seeing more areas of needed growth come to the surface. This last year has demonstrated many of the challenges that are still present in the system and victims accessing justice. Some survivors still feel a deep mistrust of and do not feel comfortable engaging with the criminal justice system. Many counties do not offer a trauma informed reporting process or alternatives for healing and justice outside of the criminal justice system.  In some counties there has been a serious response time issues for survivors reporting domestic violence and sexual assault. SATF, along with allied partners, have delved into the need for trauma informed courtrooms and court staff. The lack of trauma-informed practices has been a barrier to survivors participating in the criminal justice process. Historically there has been a barrier to cross-train judges, judicial staff, court administrators, prosecutors and law enforcement. Many people that work in those roles have not been trained about trauma. In order to lower barriers for survivors participating in the criminal justice system we must provide a more trauma informed environment and court staff.Oregon’s SARTs are at various levels of functionality, and even robust SARTs are navigating difficulty in establishing a cohesive coordinated community response, making it difficult to develop a trauma informed, multidisciplinary response. Response to incarcerated survivors is not consistent and many reporting incarcerated survivors are not taken seriously. We need to have more required and effective training for folks that work in the criminal justice system and more required collaboration between disciplines.",null,"The total number of trained virtually is 2,234 participants in Oregon. As noted previously, the virtual nature of training increased participant access exponentially. SATF is still committed to providing in-person training due to efficacy, but will adapt our offerings to a hybrid/in-person model, when it's safe to do so, to maximize access and efficacy of training. As we continue to pivot through COVID, we have been able to adapt our in person SART training to an online format. We have been able to develop and conduct online training with SARTs in the state, with a long term project focused on Multnomah County.  Historically our SART training are one half or full day, where we provide training around best practices and provide some technical support for creating foundational documents (Mission, protocol). We do some email and phone follow up, but not much. We have a standard curriculum that we adapt slightly, but is fairly consistent.Multnomah County SART project has been a much more in depth process. We have had multiple meetings with all of the partners to talk about some of the unique needs of this county's SART. We have had to take much more time and create entirely new training materials that address the specific needs of MCDA SART. We decided on 6, 2 hour in person trainings, where partners could work on foundational principles and documents. This was further complicated when COVID hit and we had to adjust this already unique training to an online format.",null,"N/A","N/A","The SART project we are working on in Multnomah County was developed to decrease barriers for survivors accessing services and improve sexual assault response overall in the county. We know that there has been a gap in providing support to survivors, particularly the most vulnerable in the community. By working with the SART we are tying to reduce the barriers for survivors to access resources, if they are reporting or not - and also ensure that every survivor has equitable access to the criminal justice system if they choose to report their assault.We also acknowledge that justice for survivors does not always mean going through the criminal justice system so we have began discussing Restorative and other forms justice that can come alongside criminal justice in the county to provide wrap around services that recognize all survivors.",null,"Question 23: We offered five separate trainings, which required the development of five separate topics under the human trafficking umbrella."]
[46097,"OR46097","2021-01-31",2020,"Oregon Department of Justice","2020-DOJ-00021",null,null,null,null,null,null,null,null,"GI5_OrgType_Prosecution",null,"NO","NO","Sarah","M","Sabri","Oregon Department of Justice","2250 McGilchrist St SE St","Salem","OR","97302","503-934-2024","503-373-1936","sarah.m.sabri@doj.state.or.us","NO",null,10,80,10,100,"NO",0,0,0,0,0,0,0,0,0,0,0,0,0,0,0,0,0,0,0,0,null,0,0,1,0,0,0,0,1,1,0,0,0,0,0,0,0,0,0,0,0,0,0,"YES",1,2,0,3,0,26,0,0,0,0,0,0,0,0,3,0,4,105,0,1,0,0,0,0,1,10,27,0,"Department of Human Services",1,181,1,1,0,1,1,0,0,1,1,0,1,0,0,null,0,1,0,1,1,0,1,0,0,1,0,0,1,1,0,0,0,1,0,0,null,0,0,0,0,0,0,0,0,0,0,0,0,0,0,0,0,0,null,0,1,0,0,0,null,"NO",0,0,0,0,0,0,0,0,0,0,0,0,0,0,0,null,0,0,0,0,0,0,0,0,0,0,0,0,0,0,0,null,0,0,0,0,0,0,0,0,0,0,0,0,0,0,0,0,0,null,null,null,null,null,null,"Quarterly",null,"Quarterly","Monthly",null,null,null,null,null,null,null,null,null,"Weekly",null,"Weekly",null,"Weekly",null,null,null,"Monthly","Quarterly",null,null,null,"Quarterly","Fatality Review Team",null,"Quarterly","NO",0,0,0,0,0,0,0,0,0,0,0,0,0,0,null,0,0,0,0,0,0,0,0,0,0,0,0,0,0,0,0,0,0,0,0,0,null,0,0,0,0,0,0,0,0,0,0,0,0,0,0,null,0,0,0,0,0,0,0,0,0,0,0,0,0,0,0,0,0,null,0,0,0,0,0,0,0,0,0,null,0,0,0,0,0,0,0,0,0,0,0,null,"NO",0,0,null,null,null,0,null,null,null,0,null,null,null,0,null,null,null,0,null,null,null,0,null,null,null,0,null,null,null,0,null,null,null,0,null,null,null,null,0,null,null,null,0,null,null,null,0,null,null,null,"NO",0,0,0,0,0,0,0,0,0,0,0,0,0,0,0,0,0,0,0,0,0,0,0,0,0,0,0,0,null,"NO",0,0,0,0,0,0,0,0,0,0,0,0,0,null,0,0,0,0,0,0,0,0,0,0,0,0,0,0,0,0,"YES",1,0,0,0,0,0,1,1,1,1,1,0,0,0,0,0,0,0,0,0,0,0,0,0,0,0,0,0,0,0,0,0,0,0,0,0,0,0,0,0,0,0,0,0,0,0,null,0,0,0,0,0,"NO",0,0,0,0,0,0,0,0,0,0,0,0,0,0,0,0,0,0,0,0,0,0,0,0,0,0,0,0,0,0,0,0,0,0,0,0,0,0,0,0,0,0,0,0,0,0,0,0,0,0,0,0,0,0,0,0,0,0,0,0,0,0,0,0,0,0,0,0,0,0,0,0,0,null,0,0,0,0,0,0,0,0,0,0,0,0,0,0,0,0,0,0,0,0,0,0,0,0,0,0,0,0,0,0,0,0,0,0,0,0,0,0,0,0,0,0,0,0,0,0,0,0,0,0,0,0,0,0,0,0,0,0,0,0,0,0,0,0,0,null,0,0,0,0,0,0,0,0,0,0,0,0,0,0,0,0,0,0,0,0,0,0,0,"NO",0,0,0,0,0,0,0,0,0,0,0,0,0,0,0,0,0,0,0,0,null,0,0,0,0,0,0,0,0,0,0,0,0,0,0,0,0,0,0,0,0,0,0,0,0,0,0,0,0,0,0,0,0,0,0,0,0,0,0,0,0,0,0,0,0,0,0,0,0,0,0,0,0,0,0,0,0,0,0,0,0,0,0,0,0,0,0,0,0,0,0,0,0,0,0,0,0,0,0,0,0,0,0,0,0,0,0,0,0,0,0,0,0,0,0,0,0,0,0,0,0,0,0,0,0,0,0,0,0,0,0,0,0,0,0,0,0,0,0,0,0,0,0,0,0,0,0,0,0,0,0,0,0,0,0,0,0,0,0,0,null,0,0,0,0,0,0,0,0,"NO",0,0,0,0,0,0,0,0,0,0,0,0,0,0,0,0,0,0,0,0,0,0,0,0,0,0,0,0,0,0,0,0,0,0,0,0,0,0,0,0,0,0,0,0,0,0,0,0,0,0,"NO",0,0,0,0,0,0,0,0,0,0,0,0,0,0,0,0,0,0,0,0,0,0,0,0,0,null,0,0,0,0,0,0,0,0,0,0,0,0,0,0,0,0,0,0,0,0,0,0,0,0,0,0,0,0,0,0,0,0,0,0,0,0,0,0,0,0,0,0,0,0,0,0,0,0,0,0,0,0,0,0,0,0,0,0,0,0,0,0,0,0,0,0,0,0,0,0,0,0,0,0,0,0,0,0,0,0,0,0,0,0,0,0,0,0,0,0,0,0,0,0,0,0,0,0,0,0,0,0,0,0,0,0,0,0,0,0,0,0,0,0,0,0,0,0,0,0,0,0,0,0,0,0,0,0,0,0,0,0,0,0,0,0,0,0,0,0,0,0,0,0,0,0,0,0,0,0,0,0,0,null,0,0,0,0,0,0,0,0,0,0,0,0,0,0,0,0,0,0,0,0,0,0,0,0,0,0,0,0,0,0,0,0,0,0,0,0,0,"NO",0,0,0,0,0,0,0,0,0,0,0,0,0,0,0,0,0,0,0,0,0,0,0,0,0,0,0,0,0,0,0,0,0,0,0,0,0,0,0,0,0,0,0,0,0,0,0,0,0,0,0,0,0,0,0,0,0,0,0,0,0,0,0,0,0,0,0,0,0,0,0,0,0,0,0,0,0,0,0,0,0,0,0,0,0,0,0,0,0,0,0,0,0,0,0,0,0,0,0,0,0,0,0,0,0,"NO",0,0,0,0,0,0,0,0,0,0,0,0,0,0,0,0,0,0,0,0,0,0,0,0,0,0,0,0,0,0,0,0,0,0,0,0,0,0,0,0,0,0,0,0,0,0,0,0,0,0,0,0,0,0,"NO",0,0,0,0,0,null,0,0,0,0,"2020 provided a number of challenges to training programs that were scheduled to occur.  Covid-19 lockdowns and stay-at-home orders and significant restrictions in the ability to gather in groups eliminated the ability for this training program to go forw","The training programs supported by this grant often bring to light places where there are gaps in victim safety and/or offender accountability.  One of the areas that has often been highlighted, has been the law enforcement, prosecution, and court recognition and enforcement of “foreign restraining orders,” specifically tribal orders.  The relationships amongst advocates, court personnel, prosecutors and law enforcement, that have been developed out of the CCR activities of these grant trainings have allowed the Domestic Violence Resource Prosecutor (DVRP) to participate in the Oregon State/ Tribal Court Forum as a guest to address the need for law enforcement agencies to properly understand their obligations to petitioners of tribal orders.  In early 2020, the DVRP conducted a number of in-person training sessions, as well as a number of virtual trainings on the issues of full faith and credit recognition of tribal orders.  While these trainings/ presentations were not directly funded by this grant, they were a natural extension of the work that is funded and supported by the grant.  The identification of the issues and the collaboration efforts necessary to facilitate these additional trainings are the result of the effectiveness of the activities of the grant funded trainings.",null,null,null,null,null,null,null,null,"There is a significant ongoing need to continue to train law enforcement, prosecutors, advocates and judges on the best practices related to trauma-informed work in all connected fields.  It is becoming increasingly commonly recognized that law enforcement response, and the criminal justice system, must better understand the effects of trauma and the effects and implications of systemic racism.  As the general public’s response to law enforcement and prosecutors has come under significant scrutiny in the last few years, this need for training and understanding of the neurobiology of trauma in how victims/ survivors may present becomes even more necessary.   Those working with victims in the criminal justice system must better understand the evolution of trauma memories and the impact that has on case development and presentation to jurors, courts and the community.  Increasing the trauma-informed response will allow for more complete investigations, better prosecutors, better community cooperation, and an increase in victim safety and offender accountability.Through this grant programs, trainings related to non-fatal strangulation have been increased, but remains a topic for which expanded and ongoing training programs are necessary.  There is still a significant amount of training that is necessary for law enforcement and the criminal justice system (as a whole) to fully understand and appreciate the lethality and risks associated with non-fatal strangulation.  This education needs to come in the form of educating law enforcement on how to investigate strangulation cases in a way that allows for prosecution to be initiated, despite the fact that in the majority of strangulation cases there is no readily visible evidence of the crime having occurred.  Training has been conducted through this grant program for prosecutors to access and utilize SANEs or forensic nurses in order to conduct examinations of strangulation victims to assure that victims are receiving adequate medical attention, but also to collect and preserve evidence that is not necessarily visible.  It is also critical to use these SANEs, forensic nurses, or other medical professionals as expert witnesses in order to educate the bench and juries of the risks of non-fatal strangulation.There needs to be ongoing consideration of statutory gaps within the context of stalking laws, which do not take into consideration the advances in technology or for the ability to collect evidence when certain technological means are used.  There is a need to improve law enforcement and prosecutor's ability and understanding of stalking offenses in order to improve investigations and improve the services provided to victims and survivors of stalking and to increase the ability to identify, apprehend and hold accountable the offenders.There remains a needs to make legislative changes and additions to Oregon statutes in order to correctly and sufficiently implement the previous legislation prohibiting the possession of firearms and ammunition to offenders that are convicted of qualifying crimes of domestic violence or stalking or who are subject to certain protection orders.  In order for these prohibitions to be correctly entered into (law enforcement) database systems and to be enforced by law enforcement and the courts, there is on ongoing need for a coordinated response from the courts, law enforcement, parole and probation, prosecutors, and state and federal agencies.  While Oregon law now requires that jurisdictions have firearm dispossession policies, there is a need for the development of best practices in this field in order to assure fair and consistent application.",null,"This program funding has allowed the Domestic Violence Resource Prosecutor program to continue to provide the only in-state, Oregon-specific domestic violence trainings available for Oregon prosecutors. Without these trainings, prosecutors would have to either go outside of the state to receive training or not receive training at all.  Many counties in Oregon do not have the funding to send prosecutors out of state for ongoing training on domestic violence issues.  Furthermore, while there is a significant value in national training programs, there is also an enormous benefit to localized trainings.  These localized programs deal with state-specific statutes and case law that directly effect how law enforcement and prosecutors do their jobs on a daily basis.  While some jurisdictions may be able to afford to periodically send prosecutors to national trainings, those training programs do not address the nuances of Oregon laws and rules of evidence.  These local training programs funded by this grant allow for prosecutors to network with fellow DV prosecutors, professionals and experts in our area.  Many of the presenters utilized for these trainings are senior prosecutors and attorneys, experienced advocates, or well-trained law enforcement officers that are local to Oregon and can therefore continue to serve as mentors throughout the years following the training attendance.  The centralized nature of these trainings, one of which is conducted in conjunction with an annual conference for prosecutors, allows for annual access to the prosecutors across the state that are doing the line work in domestic violence, dating violence, sexual assault and stalking cases.  The consistency of the grant funding to support this training has improved the quality of domestic violence prosecution in Oregon and has thereby increased victim safety and offender accountability.  In 2020, the in-person aspect of the training was not available due to restrictions surrounding the Covid-19 pandemic, however the trainings were restructured in a virtual format in order to still allow for the training material to be presented and disseminated to prosecutors.  The need for prosecutors of varying experience levels to come together annual to share experiences with judges, victims, defense attorneys, practices and procedures as well as to brainstorm better solutions or responses to changes in case law and practices is invaluable.  In 2020, this grant program supported more than 23 hours of training of more than 180 individuals, primarily prosecutors, law enforcement, probation officers and advocates.  These trainings are critical to the criminal justice system in making adjustments and improvements to increase victim safety and offender accountability.A training program on Batterer Intervention Programs in Oregon was held in September of 2020.  Evaluations from this training included feedback that this training was incredibly helpful to understanding why offenders should be required to participate in batterer intervention programs specifically (versus other types of mental health treatment programs), and that there are considerations that must be made in identifying primary and secondary aggressors in assigning treatment options.  Most people that attended the training requested follow-up training on diving deeper into the BIP curriculum, understanding the dangers of couples counseling/ anger management, and understanding the components that lead to a greater effectiveness of BIPs.In November 2020, a 3.5 day intensive training was conducted geared specifically at domestic violence prosecutors from around the state.  The experience of attendees ranged from newly employed to 15 years of experience working in a district attorney’s office.  It was attended by 27 prosecutors, and 1 law enforcement officer.  Evaluations from this training included the following responses:","1) It was helpful to understand how to reframe how we think about and speak about domestic violence.  I now think I have tools in my tool belt to have better conversations with victims.  2) The most helpful part was learning how to approach and respond wi","n/a",null,"This VAWA funded project does not include support for an FTE.  The project covers statewide training for prosecution  and law enforcement.  The Domestic Violence Resource Prosecutor (DVRP) provides this training as part of her position which is supported by other funding.",null,"Most of what this grant funding provides for is the travel and lodging expenses associated with accommodating the attendees of training programs and the travel and lodging expenses to allow members of the fatality review team to attend review sessions in"]
[46098,"OR46098","2021-01-31",2020,"Oregon Judicial Department","VAWAC-2020-OJD-00006",null,null,null,null,null,null,null,null,"GI5_OrgType_Court",null,"NO","NO","Amy","E","Benedum","OJD- Juvenile and Family Court Programs Division","1163 State Street","Salem","OR","97301","503-986-6544","503-986-5859","amy.e.benedum@ojd.state.or.us","NO",null,25,70,5,100,"YES",1,0,0.49,0,0,0,0,0,0,0,0,0,0,0,0,0.06,0.01,0,0,0,null,0,0.56000000000000005,1,0,1,0,0,1,1,0,1,0,0,0,0,1,0,0,0,0,0,0,"YES",1,2,0,2,0,0,10,0,0,0,0,0,0,0,0,0,0,0,0,0,0,0,0,0,9,0,0,0,null,0,21,0,0,0,0,1,0,0,0,0,1,1,0,0,null,0,0,0,1,1,0,0,0,1,0,0,0,0,1,0,1,0,1,0,0,null,1,0,0,0,0,0,0,0,0,0,0,0,0,1,1,1,0,null,0,1,0,0,0,null,"NO",0,0,0,0,0,0,0,0,0,0,0,0,0,0,0,null,0,0,0,0,0,0,0,0,0,0,0,0,0,0,0,null,0,0,0,0,0,0,0,0,0,0,0,0,0,0,0,0,0,null,null,"Quarterly","Monthly","Quarterly",null,"Quarterly","Daily","Weekly","Monthly","Quarterly",null,null,null,null,"Monthly","Quarterly",null,"Quarterly","Monthly","Monthly","Monthly","Quarterly","Monthly","Quarterly",null,"Quarterly","Monthly","Quarterly",null,"Quarterly","Monthly","Quarterly",null,null,null,"YES",1,0,0,0,0,0,0,0,0,0,0,0,0,0,null,0,0,0,0,0,0,0,1,0,0,0,0,0,0,0,0,0,0,0,0,1,"LE guidance- SA survivors w/warrants seeking medical care",0,0,0,0,0,0,0,0,0,0,0,0,0,0,null,0,0,1,0,0,0,1,1,1,0,1,1,0,0,0,1,1,"Virtual guide & file of FAPAs",0,0,0,0,0,0,0,0,0,null,0,0,1,0,0,0,0,0,0,0,0,null,"YES",1,0,null,null,null,0,null,null,null,0,null,null,null,1,"Stalking Benchbook","Judges",null,0,null,null,null,0,null,null,null,2,"Online guide & file instructions","Public","5",0,null,null,null,0,null,null,null,"Forms",10,"Protective Order forms","Public","5",0,null,null,null,0,null,null,null,"YES",1,0,0,1,0,1,0,0,0,0,0,0,0,0,0,0,0,0,1,0,0,0,1,0,0,0,0,0,null,"NO",0,0,0,0,0,0,0,0,0,0,0,0,0,null,0,0,0,0,0,0,0,0,0,0,0,0,0,0,0,0,"YES",1,0,0,0,1,0,0,0,0,0,0,0,0,0,0,0,0,0,0,0,0,0,0,0,0,0,0,0,0,1,0,0,0,0,0,0,0,0,0,0,0,0,0,0,1,0,null,0,0,0,0,0,"NO",0,0,0,0,0,0,0,0,0,0,0,0,0,0,0,0,0,0,0,0,0,0,0,0,0,0,0,0,0,0,0,0,0,0,0,0,0,0,0,0,0,0,0,0,0,0,0,0,0,0,0,0,0,0,0,0,0,0,0,0,0,0,0,0,0,0,0,0,0,0,0,0,0,null,0,0,0,0,0,0,0,0,0,0,0,0,0,0,0,0,0,0,0,0,0,0,0,0,0,0,0,0,0,0,0,0,0,0,0,0,0,0,0,0,0,0,0,0,0,0,0,0,0,0,0,0,0,0,0,0,0,0,0,0,0,0,0,0,0,null,0,0,0,0,0,0,0,0,0,0,0,0,0,0,0,0,0,0,0,0,0,0,0,"NO",0,0,0,0,0,0,0,0,0,0,0,0,0,0,0,0,0,0,0,0,null,0,0,0,0,0,0,0,0,0,0,0,0,0,0,0,0,0,0,0,0,0,0,0,0,0,0,0,0,0,0,0,0,0,0,0,0,0,0,0,0,0,0,0,0,0,0,0,0,0,0,0,0,0,0,0,0,0,0,0,0,0,0,0,0,0,0,0,0,0,0,0,0,0,0,0,0,0,0,0,0,0,0,0,0,0,0,0,0,0,0,0,0,0,0,0,0,0,0,0,0,0,0,0,0,0,0,0,0,0,0,0,0,0,0,0,0,0,0,0,0,0,0,0,0,0,0,0,0,0,0,0,0,0,0,0,0,0,0,0,null,0,0,0,0,0,0,0,0,"NO",0,0,0,0,0,0,0,0,0,0,0,0,0,0,0,0,0,0,0,0,0,0,0,0,0,0,0,0,0,0,0,0,0,0,0,0,0,0,0,0,0,0,0,0,0,0,0,0,0,0,"NO",0,0,0,0,0,0,0,0,0,0,0,0,0,0,0,0,0,0,0,0,0,0,0,0,0,null,0,0,0,0,0,0,0,0,0,0,0,0,0,0,0,0,0,0,0,0,0,0,0,0,0,0,0,0,0,0,0,0,0,0,0,0,0,0,0,0,0,0,0,0,0,0,0,0,0,0,0,0,0,0,0,0,0,0,0,0,0,0,0,0,0,0,0,0,0,0,0,0,0,0,0,0,0,0,0,0,0,0,0,0,0,0,0,0,0,0,0,0,0,0,0,0,0,0,0,0,0,0,0,0,0,0,0,0,0,0,0,0,0,0,0,0,0,0,0,0,0,0,0,0,0,0,0,0,0,0,0,0,0,0,0,0,0,0,0,0,0,0,0,0,0,0,0,0,0,0,0,0,0,null,0,0,0,0,0,0,0,0,0,0,0,0,0,0,0,0,0,0,0,0,0,0,0,0,0,0,0,0,0,0,0,0,0,0,0,0,0,"No",0,0,0,0,0,0,0,0,0,0,0,0,0,0,0,0,0,0,0,0,0,0,0,0,0,0,0,0,0,0,0,0,0,0,0,0,0,0,0,0,0,0,0,0,0,0,0,0,0,0,0,0,0,0,0,0,0,0,0,0,0,0,0,0,0,0,0,0,0,0,0,0,0,0,0,0,0,0,0,0,0,0,0,0,0,0,0,0,0,0,0,0,0,0,0,0,0,0,0,0,0,0,0,0,0,"NO",0,0,0,0,0,0,0,0,0,0,0,0,0,0,0,0,0,0,0,0,0,0,0,0,0,0,0,0,0,0,0,0,0,0,0,0,0,0,0,0,0,0,0,0,0,0,0,0,0,0,0,0,0,0,"NO",0,0,0,0,0,null,0,0,0,0,"Due to Covid-19, the majority of trainings scheduled for 2020 were canceled. We routinely use STOP funds to send judges to national trainings through NCJFCJ (Enhancing Judicial Skills in Domestic Violence, Teen Dating Violence, Elder Abuse). We were able","The VAWA staff counsel position funded by this grant has allowed OJD to collaborate with many governmental & non-governmental agencies to better coordinate services to victims. This grant has enabled OJD to have a VAWA point of contact within the State Court Administrator's office. Staff counsel is the OJD representative on the Oregon Department of Justice/Crime Victim and Survivor Services Division Advisory Board, the Oregon Batterer Intervention Program Advisory Board, the Protective Order Notification Project committee, the State Family Law Advisory Committee (SFLAC) & its Domestic Violence subcommittee, the Oregon Sexual Assault Task Force Criminal Justice subcommittee, and was a member of the Oregon Domestic Violence & Firearms Task Force. (The Task Force no longer officially exists due to expiration of funding, but discussions are underway to reconvene the Task Force in 2021-2.) These are multi-disciplinary groups consisting of victim advocates, legal services attorneys, prosecutors, police officers, probation officers, treatment providers, Tribal members, and judges/court staff. These collaborations have resulted in improved coordination and joint efforts in many areas involving domestic and sexual violence, elder/disabled abuse, & stalking. VAWA staff counsel monitors legislation concerning these subject areas, and provides information about these proposals to other stakeholders, the legislature, and courts. Staff counsel works with the National Council of Juvenile and Family Court Judges (NCJFCJ) and the Battered Women's Justice Project to disseminate and provide educational and training materials to courts and other stakeholders, and also works with other stakeholders to develop press releases and other materials to educate and inform the public.","VAWA staff counsel continues to work with others within OJD to revise all protection order forms for use in Oregon’s eCourt system (“Odyssey”), including interactive forms for use in online filing, and to assure that online court calendars and accessible",null,null,null,null,null,"These funds did not support specific local court activities.  Funds were used to fund the Oregon Judicial Department's .5 FTE VAWA staff counsel's position, which provides technical assistance, education and training, statewide protective order forms, dev",null,"Significant areas of need remain as before: These grants have enabled OJD to maintain a .5 FTE VAWA staff counsel position and (since the fall of 2012) a .06 FTE support staff position for the Oregon Judicial Department (OJD). Prior to 2009, the OJD Family Law Staff Counsel position and support staff were responsible for domestic and sexual violence, elder/disabled abuse, firearms, and civil stalking issues. These positions were funded through state general funds that came to OJD. However, in 2009 these positions were eliminated due to budget cuts. Since 2009, OJD has been dependent on VAWA grants to continue this work as there are no general funded positions exclusively focused on domestic/sexual violence. Significant budget cuts within the Oregon Judicial Department eliminated many of the resources that helped to support forms revisions, translations, data collection, technical assistance to the courts, and collaborative work with stakeholders. With so few resources left, funding for continued activities remains a challenge. In the Judicial Department, a large majority of general fund dollars are used to support staff positions. This is especially true for the trial courts, where for some districts as much as 95% of the budget is for Personnel Services related costs. OJD has lost 9% of Permanent FTE (169 positions) since the 2007-2009 Biennium. These reductions limited the public’s ability to file cases, seek restraining orders, and view documents. In addition, 33% of Oregon courts reduced or eliminated services for self-represented parties, who constitute the vast majority of those seeking protective orders. This makes navigating the judicial process more difficult, slower, and less understandable for the people who need the involvement of the court the most. Without VAWA grant funds, OJD would not be able to continue providing technical support, trial court support, bench tools, and many of the other activities reported herein; and would be hampered in maintaining  much of the training and education to trial courts around these issues. While funding for the Oregon Judicial Department has stabilized since 2009, the Department's permanent staff remains at approximately 91% of pre-recession levels, resulting in continued services reductions.  OJD has continued to request funding packages to reduce closure hours, reduce docket congestion, and increase resources for self-represented parties; however, they have not been approved by the Oregon Legislature.  With the past elimination of staff within the Office of the State Court Administrator, there is limited direct support for education, data analysis, and technical assistance to the trial courts in many court subject areas. Given present funding levels for the Oregon courts, additional resources remain questionable during the near term. There is also a crucial need for continued judicial and court staff training and technical assistance, particularly in light of the continuing numbers of new judges and staff as a result of retirements or employees leaving OJD. This VAWA grant helps assure that Oregon's courts provide effective, expedient and meaningful access to survivors. Future grant funding will be critical if these efforts are to continue in Oregon.",null,"None of what has been accomplished by the Oregon Judicial Department (OJD) as detailed in this report would have been possible without this funding, which has enabled continued efforts to increase victim/survivor access to justice and safety. The Oregon Judicial Department (OJD) VAWA staff attorney position funded by this grant has allowed OJD to collaborate with many governmental & non-governmental agencies to better coordinate services to survivors. This grant has enabled OJD to have a VAWA point of contact within their State Court Administrator's office, and to have representation on the Oregon Department of Justice/Crime Victim Services Division Advisory Board, the Oregon Batterer Intervention Program Advisory Board, the State Family Law Advisory Committee (SFLAC) & its Domestic Violence subcommittee, the Oregon Sexual Assault Task Force Criminal Justice subcommittee. These are multi-disciplinary groups consisting of victim advocates, legal services attorneys, prosecutors, police officers, probation officers, treatment providers, Tribal members, and judges/court staff. These collaborations have resulted in improved coordination and joint efforts in many areas involving domestic and sexual violence, elder/disabled abuse, & stalking.  Staff counsel works with the National Council of Juvenile and Family Court Judges (NCJFCJ) and the Battered Women's Justice Project to disseminate and provide educational and training materials to courts and other stakeholders, and also works with other stakeholders to develop press releases and other materials to educate and inform the public."]
[46099,"OR46099","2021-01-31",2020,"Oregon Judicial Department","VAWA-C-2020-OJD-0018",null,null,null,null,null,null,null,null,"GI5_OrgType_Court",null,"NO","NO","Amy","E","Benedum","OJD- Juvenile and Family Court Programs Division","1163 State Street","Salem","OR","97301","503-986-6544","503-986-5859","amy.e.benedum@ojd.state.or.us","YES","The project is focused on enforcement of tribal protection orders.",25,70,5,100,"NO",0,0,0,0,0,0,0,0,0,0,0,0,0,0,0,0,0,0,0,0,null,0,0,1,0,0,0,0,0,0,0,0,0,0,0,0,0,0,0,0,0,0,0,"NO",0,0,0,0,0,0,0,0,0,0,0,0,0,0,0,0,0,0,0,0,0,0,0,0,0,0,0,0,null,0,0,0,0,0,0,0,0,0,0,0,0,0,0,0,null,0,0,0,0,0,0,0,0,0,0,0,0,0,0,0,0,0,0,0,0,null,0,0,0,0,0,0,0,0,0,0,0,0,0,0,0,0,0,null,0,0,0,0,0,null,"NO",0,0,0,0,0,0,0,0,0,0,0,0,0,0,0,null,0,0,0,0,0,0,0,0,0,0,0,0,0,0,0,null,0,0,0,0,0,0,0,0,0,0,0,0,0,0,0,0,0,null,null,null,null,null,null,null,null,"Quarterly",null,null,null,null,null,null,null,null,null,null,null,"Quarterly",null,"Quarterly",null,"Quarterly",null,null,null,null,null,null,null,"Quarterly",null,null,null,"NO",0,0,0,0,0,0,0,0,0,0,0,0,0,0,null,0,0,0,0,0,0,0,0,0,0,0,0,0,0,0,0,0,0,0,0,0,null,0,0,0,0,0,0,0,0,0,0,0,0,0,0,null,0,0,0,0,0,0,0,0,0,0,0,0,0,0,0,0,0,null,0,0,0,0,0,0,0,0,0,null,0,0,0,0,0,0,0,0,0,0,0,null,"YES",1,0,null,null,null,0,null,null,null,0,null,null,null,0,null,null,null,0,null,null,null,0,null,null,null,1,"Field Guide","Law enfrocement",null,0,null,null,null,0,null,null,null,null,0,null,null,null,0,null,null,null,0,null,null,null,"NO",0,0,0,0,0,0,0,0,0,0,0,0,0,0,0,0,0,0,0,0,0,0,0,0,0,0,0,0,null,"NO",0,0,0,0,0,0,0,0,0,0,0,0,0,null,0,0,0,0,0,0,0,0,0,0,0,0,0,0,0,0,"NO",0,0,0,0,0,0,0,0,0,0,0,0,0,0,0,0,0,0,0,0,0,0,0,0,0,0,0,0,0,0,0,0,0,0,0,0,0,0,0,0,0,0,0,0,0,0,null,0,0,0,0,0,"NO",0,0,0,0,0,0,0,0,0,0,0,0,0,0,0,0,0,0,0,0,0,0,0,0,0,0,0,0,0,0,0,0,0,0,0,0,0,0,0,0,0,0,0,0,0,0,0,0,0,0,0,0,0,0,0,0,0,0,0,0,0,0,0,0,0,0,0,0,0,0,0,0,0,null,0,0,0,0,0,0,0,0,0,0,0,0,0,0,0,0,0,0,0,0,0,0,0,0,0,0,0,0,0,0,0,0,0,0,0,0,0,0,0,0,0,0,0,0,0,0,0,0,0,0,0,0,0,0,0,0,0,0,0,0,0,0,0,0,0,null,0,0,0,0,0,0,0,0,0,0,0,0,0,0,0,0,0,0,0,0,0,0,0,"NO",0,0,0,0,0,0,0,0,0,0,0,0,0,0,0,0,0,0,0,0,null,0,0,0,0,0,0,0,0,0,0,0,0,0,0,0,0,0,0,0,0,0,0,0,0,0,0,0,0,0,0,0,0,0,0,0,0,0,0,0,0,0,0,0,0,0,0,0,0,0,0,0,0,0,0,0,0,0,0,0,0,0,0,0,0,0,0,0,0,0,0,0,0,0,0,0,0,0,0,0,0,0,0,0,0,0,0,0,0,0,0,0,0,0,0,0,0,0,0,0,0,0,0,0,0,0,0,0,0,0,0,0,0,0,0,0,0,0,0,0,0,0,0,0,0,0,0,0,0,0,0,0,0,0,0,0,0,0,0,0,null,0,0,0,0,0,0,0,0,"NO",0,0,0,0,0,0,0,0,0,0,0,0,0,0,0,0,0,0,0,0,0,0,0,0,0,0,0,0,0,0,0,0,0,0,0,0,0,0,0,0,0,0,0,0,0,0,0,0,0,0,"NO",0,0,0,0,0,0,0,0,0,0,0,0,0,0,0,0,0,0,0,0,0,0,0,0,0,null,0,0,0,0,0,0,0,0,0,0,0,0,0,0,0,0,0,0,0,0,0,0,0,0,0,0,0,0,0,0,0,0,0,0,0,0,0,0,0,0,0,0,0,0,0,0,0,0,0,0,0,0,0,0,0,0,0,0,0,0,0,0,0,0,0,0,0,0,0,0,0,0,0,0,0,0,0,0,0,0,0,0,0,0,0,0,0,0,0,0,0,0,0,0,0,0,0,0,0,0,0,0,0,0,0,0,0,0,0,0,0,0,0,0,0,0,0,0,0,0,0,0,0,0,0,0,0,0,0,0,0,0,0,0,0,0,0,0,0,0,0,0,0,0,0,0,0,0,0,0,0,0,0,null,0,0,0,0,0,0,0,0,0,0,0,0,0,0,0,0,0,0,0,0,0,0,0,0,0,0,0,0,0,0,0,0,0,0,0,0,0,"NO",0,0,0,0,0,0,0,0,0,0,0,0,0,0,0,0,0,0,0,0,0,0,0,0,0,0,0,0,0,0,0,0,0,0,0,0,0,0,0,0,0,0,0,0,0,0,0,0,0,0,0,0,0,0,0,0,0,0,0,0,0,0,0,0,0,0,0,0,0,0,0,0,0,0,0,0,0,0,0,0,0,0,0,0,0,0,0,0,0,0,0,0,0,0,0,0,0,0,0,0,0,0,0,0,0,"NO",0,0,0,0,0,0,0,0,0,0,0,0,0,0,0,0,0,0,0,0,0,0,0,0,0,0,0,0,0,0,0,0,0,0,0,0,0,0,0,0,0,0,0,0,0,0,0,0,0,0,0,0,0,0,"NO",0,0,0,0,0,null,0,0,0,0,null,null,null,null,null,null,null,null,null,null,"This project was designed to address a specific problem- the recognition and enforcement of foreign protection orders, specifically tribal protection orders. This has been an area of concerns for tribal courts and the Tribal/State/Federal Court Forum. The reasons for the lack of enforcement of these orders are varied and often based on historical misunderstanding and mistrust; the effect of this is that tribal protection orders are not recognized or enforced by law enforcement. VAWA is clear that full faith and credit applies to all foreign protection orders, including tribal orders. VAWA does not require that tribal courts conform their orders to state law, or that protected persons must register their foreign orders with Oregon state courts or with Oregon state law enforcement for entry into LEDS. While the law is clear, the practice of law enforcement is not; county counsel has been wary of instructing law enforcement officers to act on foreign orders that are not entered into LEDS and cannot be verified in the field, fearing the liability of an improper arrest. This project was designed to address this \"gap\" in understanding by law enforcement and to provide them with guidance of how to enforce these foreign orders. The project does this through a two-prong approach: the creation of training materials (a written brochure and a video), and in-person trainings to law enforcement and prosecutors. Covid has paused this work, as it is not safe to film an educational video at this time.",null,"Without this funding, this project would not be possible. While we have not been able to film the educational video or to take it out on a \"training roadshow,\" we will be able to accomplish this within the grant period. Ensuring that law enforcement is trained on full faith and credit for foreign orders will have a demonstrable effect on the protection of vulnerable Oregonians. Training efforts initiated in early 2020 regarding the enforcement of full faith and credit protection orders wasn’t completed due to the statewide stay at home order during the COVID 19 pandemic.  A total of 13 statewide pre-trainings for the “Enforcement of Tribal (Foreign) Protection Orders”  occurred with a focus on law enforcement, prosecutors, advocates and community members before the stay at home order led to the cancellation of the remaining 7 trainings that were scheduled in March 2020.  The trainings will be rescheduled in 2021.     Original notification includes the release of press release and guidance:U.S. Attorney Billy J. Williams and Oregon Attorney General Ellen F. Rosenblum recently jointly issued a Official Guidance for Enforcement of Tribal Protection Orders/ \"Foreign Restraining Orders\" (hyperlinked). Tribal protection orders, referred to as foreign restraining orders under Oregon law, are civil orders of protection issued by tribal courts to prevent future domestic violence. State and federal law under the Violence Against Women Act (VAWA) require full faith and credit for these orders, meaning all states must uphold protective orders from any other state and from any tribal nation. What will this training cover? This training will cover the state and federal statutory obligations that all law enforcement officers must abide by when responding to violations of and enforcing tribal (or “foreign”) protective orders within Oregon. We will cover statutory requirements, including assessing facial validity of foreign orders, record keeping and LEDS entry information, mandatory arrest for violation of foreign protective orders, liability, and venue for enforcement and prosecution. This training will discuss the critical need for law enforcement communication and collaboration to protect Indigenous people throughout our state and the country in discussing HB 2625 (hyperlinked), passed by the Oregon Legislature in 2019, which is aimed at creating partnerships to increase reporting, identification, investigation, and rapid response to future and past cases of missing and murdered indigenous people. We will also address frequently asked questions and invite discussion about current local practices. *This 1-hour training will be repeated all around Oregon during March 2019. The presentation dates, times, and locations are below. Presenters: - Sarah Sabri, Senior Assistant Attorney General/ Domestic Violence Resource Prosecutor – Oregon Criminal Justice Division- Tim Simmons, Assistant United States Attorney/ Tribal Liaison for the US Attorney’s Office District of Oregon (not present at all trainings)- Johanna Costa, Tribal Victim Assistance Specialist, US Attorney’s Office District of Oregon (not present at all trainings)Who should attend? State, local and tribal law enforcement officers and staff; county, city, tribal prosecutors; law enforcement records staff; court administrators; dispatchers; county counsel; VAP, tribal and community-based victim advocates; and other public safety partners",null,null,null,"This subgrant did not provide grant funding support for any FTE.  The project is set up to include training to LE on the Full Faith and Credit project.  The training (and activities) conducted by the FTE (ie Juvenile ad Family Court Program Division, JD (attorney) is the central point of contact in the Office of State Court Administrator)  The other FTE is an employee of DOJ that assumed some of these duties as part of her position funded under other funding sources. This project was awarded for 2020-2023 and required OJD to have a law enforcement partnership for the grant project. Due to Covid, our original law enforcement partner, Oregon State Sheriff's Association, had to withdraw from the project. It took several months to obtain a new law enforcement partner, DPPST, and to schedule a first planning meeting. This meeting was held in September 2020 and included representatives from the state courts, tribal courts, DPSST, DOJ,  and the state bar. At this meeting, the group reviewed the written materials drafted by OJD and DOJ and outlined a script for the video project. Due to Covid, it was not possible to film the video in 2020."]
[46100,"OR46100","2021-01-29",2020,"Raphael House of Portland","Joint -2019-RH-00293",null,null,null,null,null,null,null,null,"GI5_OrgType_VicServ_DV",null,"NO","NO","Christina","N","McGovney","Raphael House of Portland","4110 SE Hawthorne Blvd. #","Portland","OR","97214","5.03243513E9","5.032312875E9","cmcgovney@raphaelhouse.com","NO",null,1,96,3,100,"YES",1,0,0,0,0,0,0,0,0,0,0,0,0,0,0,0,0,0,0.36,0,null,0,0.36,0,0,0,0,1,0,0,0,0,1,1,0,0,0,0,0,0,0,0,0,"NO",0,0,0,0,0,0,0,0,0,0,0,0,0,0,0,0,0,0,0,0,0,0,0,0,0,0,0,0,null,0,0,0,0,0,0,0,0,0,0,0,0,0,0,0,null,0,0,0,0,0,0,0,0,0,0,0,0,0,0,0,0,0,0,0,0,null,0,0,0,0,0,0,0,0,0,0,0,0,0,0,0,0,0,null,0,0,0,0,0,null,"NO",0,0,0,0,0,0,0,0,0,0,0,0,0,0,0,null,0,0,0,0,0,0,0,0,0,0,0,0,0,0,0,null,0,0,0,0,0,0,0,0,0,0,0,0,0,0,0,0,0,null,null,null,null,"Quarterly",null,"Monthly","Monthly","Monthly","Daily",null,"Monthly",null,null,null,"Daily",null,"Daily",null,"Monthly",null,"Monthly",null,"Monthly",null,null,null,"Monthly",null,"Daily",null,null,null,"employment/career resources/housing",null,null,"NO",0,0,0,0,0,0,0,0,0,0,0,0,0,0,null,0,0,0,0,0,0,0,0,0,0,0,0,0,0,0,0,0,0,0,0,0,null,0,0,0,0,0,0,0,0,0,0,0,0,0,0,null,0,0,0,0,0,0,0,0,0,0,0,0,0,0,0,0,0,null,0,0,0,0,0,0,0,0,0,null,0,0,0,0,0,0,0,0,0,0,0,null,"NO",0,0,null,null,null,0,null,null,null,0,null,null,null,0,null,null,null,0,null,null,null,0,null,null,null,0,null,null,null,0,null,null,null,0,null,null,null,null,0,null,null,null,0,null,null,null,0,null,null,null,"NO",0,0,0,0,0,0,0,0,0,0,0,0,0,0,0,0,0,0,0,0,0,0,0,0,0,0,0,0,null,"NO",0,0,0,0,0,0,0,0,0,0,0,0,0,null,0,0,0,0,0,0,0,0,0,0,0,0,0,0,0,0,"YES",1,0,0,0,0,0,0,0,0,0,0,0,0,0,0,0,0,0,0,0,0,0,0,0,0,0,0,0,0,0,0,0,0,0,0,0,0,0,0,0,0,1,0,0,0,0,null,0,0,0,0,0,"YES",1,0,11,0,11,1,94,3,98,1,105,3,109,0,0,0,0,1,105,3,109,1,0,0,0,0,105,0,0,0,0,3,0,1,105,3,0,0,18,0,18,0,0,0,0,0,0,0,0,0,0,0,0,0,0,1,0,0,0,1,0,0,0,0,0,0,0,0,0,0,0,0,0,null,1,1,3,1,1,6,0,99,112,10,0,0,99,109,0,0,10,1,98,109,1,2,1,0,1,0,0,1,105,3,0,0,0,0,1,0,0,0,0,0,0,0,0,0,1,106,3,1,2,16,50,1,1,98,98,0,0,1,3,1,1,13,16,29,482,null,0,0,11,18,3246,0,0,0,128,312,0,0,0,0,0,1,0,1,0,0,0,0,0,"NO",0,0,0,0,0,0,0,0,0,0,0,0,0,0,0,0,0,0,0,0,null,0,0,0,0,0,0,0,0,0,0,0,0,0,0,0,0,0,0,0,0,0,0,0,0,0,0,0,0,0,0,0,0,0,0,0,0,0,0,0,0,0,0,0,0,0,0,0,0,0,0,0,0,0,0,0,0,0,0,0,0,0,0,0,0,0,0,0,0,0,0,0,0,0,0,0,0,0,0,0,0,0,0,0,0,0,0,0,0,0,0,0,0,0,0,0,0,0,0,0,0,0,0,0,0,0,0,0,0,0,0,0,0,0,0,0,0,0,0,0,0,0,0,0,0,0,0,0,0,0,0,0,0,0,0,0,0,0,0,0,null,0,0,0,0,0,0,0,0,"NO",0,0,0,0,0,0,0,0,0,0,0,0,0,0,0,0,0,0,0,0,0,0,0,0,0,0,0,0,0,0,0,0,0,0,0,0,0,0,0,0,0,0,0,0,0,0,0,0,0,0,"NO",0,0,0,0,0,0,0,0,0,0,0,0,0,0,0,0,0,0,0,0,0,0,0,0,0,null,0,0,0,0,0,0,0,0,0,0,0,0,0,0,0,0,0,0,0,0,0,0,0,0,0,0,0,0,0,0,0,0,0,0,0,0,0,0,0,0,0,0,0,0,0,0,0,0,0,0,0,0,0,0,0,0,0,0,0,0,0,0,0,0,0,0,0,0,0,0,0,0,0,0,0,0,0,0,0,0,0,0,0,0,0,0,0,0,0,0,0,0,0,0,0,0,0,0,0,0,0,0,0,0,0,0,0,0,0,0,0,0,0,0,0,0,0,0,0,0,0,0,0,0,0,0,0,0,0,0,0,0,0,0,0,0,0,0,0,0,0,0,0,0,0,0,0,0,0,0,0,0,0,null,0,0,0,0,0,0,0,0,0,0,0,0,0,0,0,0,0,0,0,0,0,0,0,0,0,0,0,0,0,0,0,0,0,0,0,0,0,"NO",0,0,0,0,0,0,0,0,0,0,0,0,0,0,0,0,0,0,0,0,0,0,0,0,0,0,0,0,0,0,0,0,0,0,0,0,0,0,0,0,0,0,0,0,0,0,0,0,0,0,0,0,0,0,0,0,0,0,0,0,0,0,0,0,0,0,0,0,0,0,0,0,0,0,0,0,0,0,0,0,0,0,0,0,0,0,0,0,0,0,0,0,0,0,0,0,0,0,0,0,0,0,0,0,0,"NO",0,0,0,0,0,0,0,0,0,0,0,0,0,0,0,0,0,0,0,0,0,0,0,0,0,0,0,0,0,0,0,0,0,0,0,0,0,0,0,0,0,0,0,0,0,0,0,0,0,0,0,0,0,0,"NO",0,0,0,0,0,null,0,0,0,0,null,"The STOP Program grant funds have supported a bilingual Spanish speaking advocate who has been able to work closely with culturally specific programs in co-advocacy for survivors. Additionally, this position helps survivors navigate other systems and also cross-train systems to better serve survivors overall.  Raphael House is engaged in the Multnomah County domestic violence collaboration of systems which operates as a coordinated access system that has not only simplified how to access domestic violence services, but has developed closer relationships with other homeless and poverty programs. The Coordinated Access project has been implemented for approximately 6 years and has proven to be a positive aspect of survivors accessing shelter, where our VAWA funded position is housed. The points of entry in to the larger domestic violence system all use the same assessment tool in order to best link a survivor/family with the resource that an aspect of supporting Latinx families in shelter is connecting them to the Advocacy Center services. The weekly Latinx support group, while had to pause temporarily during Covid-19, has continued to add the supports the bilingual shelter advocate offers new shelter families whom have been otherwise isolated. Survivors have consistent access points which can help them connect to our emergency confidential location. We are more able to serve a very diverse community of survivors through this continuum of coordinated services. An aspect of this coordinated access is that the Latinx families we work with will be able to access services in a more culturally and linguistically befitting manner. This staff member works closely with culturally specific community agencies, immigration and legal services while also helping these participants navigate systems that may be even more challenging due to the additional barriers they face.",null,null,"Questions D.29B and D.33: The 198 victims partially served are crisis line callers who received crisis intervention and resource referral support but had requested emergency shelter though was not able to enter shelter through due to capacity issue or they were not screened into shelter at that time.  D.34: Race, gender and age are not collected on crisis calls so 105 in the unknown category.  D.35: Relationship is not collected on crisis calls so the total number in relationship is greater than 25% if the total number of victims.                                                                                                                                                            The Bilingual Advocate position has ensured that we provide comprehensive direct services in English and Spanish for monolingual participants or participants whose first language is Spanish. The advocate is able to provide interpretation, translation, and cultural navigational services in any given situation with participants as well as for our Spanish speaking callers on our shelter hot line. This shelter advocate is able to build relationships of trust with individuals who culturally or linguistically are often isolated and support them in successfully navigating shelter as well as external systems.  Such specialized assistance happens whenever a participant, with limited English proficiency, needs resources or aspects of safety planning such as a restraining order. The advocate explains and translates forms and participants statements. Since Covid-19 restrictions began in March 2020, most services have been provided virtually, whenever possible. Daily, this position assists within shelter; facilitating and translating our house meeting/discussion, case management, emotional support and translating necessary forms, paperwork, and information fliers. This Advocate helps facilitate conversations between residents in order to maintain a safe and communal housing environment.",null,null,null,null,null,"As a part of the domestic violence continuum of care, Raphael House works closely with the other 11 domestic violence agencies in Multnomah County, thus outreaching in these trusted and long term relationships. Many of these agencies serve a culturally specific population and we will often provide co-advocacy with them; survivors with whom they work enter our shelter or housing program through the coordinated access procedure. The main challenges we experience with coordinated access is the virtual nature of supports in 2020 due to Covid-19, and the lack of sufficient resources /funds to shelter or house the many survivors with whom we work and want to help find safe stable housing. We continue to be involved in the New Day sex trafficking collaborative along with New Avenues for Youth; an agency that is dedicated to the prevention and intervention of youth homelessness, Call to Safety; the Statewide domestic and sexual violence crisis line. This collaborative offers housing, case management and prevention services for youth who are at risk or already involved in sex trafficking. Raphael House's role in this program is to provide prevention education in high schools, particularly those at risk schools as well as community youth programs such as SMYRC, a drop-in center for LGBTQ+ youth. The opportunity to outreach to students with information about sex trafficking as it relates to healthy relationships and dating violence is a meaningful method of outreaching to youth. Multnomah County Health Department -Addictions and Mental Health Division continues to fund two Recovery Mentors who will serve domestic violence survivors who may be struggling with addiction/recovery issues; their case loads are full as they are serving the full domestic violence continuum in the County- connecting survivors to treatment and recovery services and cross training providers. One of the challenges has been building up trusting relationships with this service sector of which we have had historically rare coordinated collaborations. In the last year, the advocate is no longer stationed on-site at Gateway Center, but it still providing virtual supports through this partnership during Covid-19. As we have been a part of an OVW collaborative grant which has been building better systems of care and accessibility for survivors with disabilities, we have become acutely aware of the gaps in service delivery and partnerships. The serious lack of accessible and affordable housing in the area continues to be a constant struggle, and advocates have had to up their efforts and change their advocacy approach to respond to the housing hardships that continue to exist in our community. Adjustments to buildings, including increasing the lighting on our property, bridging service delivery relationships and assessing policy has been just a part of this on-going project. Finally, as an emergency shelter with a confidential address, we have enhanced our security systems over the years. Despite this, there are no resources within our various funding sources that recognizes this as a required aspect of providing a safe haven to survivors. In the past four years we have experienced more abusers finding our location and seeking their victims than we have seen in the 17 years prior.",null,"Raphael House of Portland's STOP Program funding helps us to provide linguistically and culturally appropriate services for survivors of domestic violence in our emergency shelter who identify as Latinx. While this is mostly virtual during Covid-19: over the phone and other technological platforms, this position is able to assist within shelter; facilitating and translating our house meeting/discussion every week, providing comprehensive strengths based case management, emotional support and translating necessary forms, paperwork, and information fliers. Having an Advocate that speaks Spanish in shelter helps residentscommunicate and relate with each other with greater success, thus assisting in a more comfortable communal living environment. This position supports our 24 hour hotline and can provide community referral to Spanish speaking callers. Shelter needs to feel as comfortable and safe for all participants and their children, thus, from a cultural standpoint, providing ethnically sensitive and familiar language/communication opportunities are essential to our daily service delivery. With the support from the STOP program funding we were able to maintain our shelter delivery model that is trauma informed and supportive of participants' needs that also takes into account the challenge of the Portland housing market and the Covid-19 pandemic when determining shelter stays. The patterns of participant needs and the limitations of our program to help meet those needs within the short shelter stay demonstrated the need for more comprehensive follow-up services. Due to the strength of our bilingual advocacy, we continue to be well connected to the culturally specific programs, specifically the Latinx service provider and maintain quality co-advocacy together for survivors and their families both in shelter and in the Advocacy Center.The STOP grant funded position has been able to support the Spanish speaking survivors and their families with navigating resources, community living and future planning such as housing, job search and building social networks. An aspect of supporting Latinx families in shelter is connecting them to the Advocacy Center services. The weekly Latinx support group, while temporarily had to pause and move into a virtual platform, has added to the supports the bilingual shelter advocate offers new shelter families whom have been otherwise isolated. This support group is primarily composed of survivors who now live independently in the community but who once lived in shelter. Their warm welcome and familiarity to the trauma and stress of having to leave a home to start fresh in a shelter where very few people speak their language has been invaluable and has built a strong supportive community over the years. The STOP funds allow us to bolster the staff ratio of bilingual support for such families to feel more at ease and safe in our services. This is particularly important in this tense climate as survivors weigh their safety, their children's safety from abuse with the fear of deportation or family separation.",null,null,null,"Raphael House of Portland is committed to providing culturally responsive services to all victim/survivors and has specifically commited to employing bilingual and bicultural advocates.  We continue to take cultural responsiveness very seriously and have had successful training, community events and programmatic adjustments due to the work of our in-house Inclusion, Diversity, Equity, and Accessibility committee. We are dedicated to working closely with organizations to enhance what we have to offer to the Latinx survivors of whom we work as well as build collaborative community response throughout the domestic violence continuum and beyond.",null,"All numbers have been adjusted (prorated) to fit the .36 FTE for this report."]
[46101,"OR46101","2021-01-11",2020,"Safe Harbors","SafeHarbors-00043",null,null,null,null,null,null,null,null,"GI5_OrgType_VicServ_Dual",null,"NO","NO","Amy","E","Stubblefield","Safe Harbors","401 NE 1st St. Suite B","Enterprise","OR","97828","541-426-4004","541-426-0206","safe@eoni.com","NO",null,100,0,0,100,"YES",1,0,0,0,0,0,0,0,0,0,0,0,0,0,0,0.01,0,0,0.12,0,null,0,0.13,0,0,0,0,1,0,0,0,0,0,0,0,0,0,0,0,0,0,0,0,"NO",0,0,0,0,0,0,0,0,0,0,0,0,0,0,0,0,0,0,0,0,0,0,0,0,0,0,0,0,null,0,0,0,0,0,0,0,0,0,0,0,0,0,0,0,null,0,0,0,0,0,0,0,0,0,0,0,0,0,0,0,0,0,0,0,0,null,0,0,0,0,0,0,0,0,0,0,0,0,0,0,0,0,0,null,0,0,0,0,0,null,"NO",0,0,0,0,0,0,0,0,0,0,0,0,0,0,0,null,0,0,0,0,0,0,0,0,0,0,0,0,0,0,0,null,0,0,0,0,0,0,0,0,0,0,0,0,0,0,0,0,0,null,null,null,null,null,null,"Monthly","Monthly","Monthly","Daily","Weekly",null,null,null,null,null,null,"Monthly","Monthly","Monthly","Monthly",null,null,"Monthly","Monthly",null,null,"Daily","Weekly",null,null,null,null,null,null,null,"NO",0,0,0,0,0,0,0,0,0,0,0,0,0,0,null,0,0,0,0,0,0,0,0,0,0,0,0,0,0,0,0,0,0,0,0,0,null,0,0,0,0,0,0,0,0,0,0,0,0,0,0,null,0,0,0,0,0,0,0,0,0,0,0,0,0,0,0,0,0,null,0,0,0,0,0,0,0,0,0,null,0,0,0,0,0,0,0,0,0,0,0,null,"NO",0,0,null,null,null,0,null,null,null,0,null,null,null,0,null,null,null,0,null,null,null,0,null,null,null,0,null,null,null,0,null,null,null,0,null,null,null,null,0,null,null,null,0,null,null,null,0,null,null,null,"NO",0,0,0,0,0,0,0,0,0,0,0,0,0,0,0,0,0,0,0,0,0,0,0,0,0,0,0,0,null,"NO",0,0,0,0,0,0,0,0,0,0,0,0,0,null,0,0,0,0,0,0,0,0,0,0,0,0,0,0,0,0,"NO",0,0,0,0,0,0,0,0,0,0,0,0,0,0,0,0,0,0,0,0,0,0,0,0,0,0,0,0,0,0,0,0,0,0,0,0,0,0,0,0,0,0,0,0,0,0,null,0,0,0,0,0,"YES",1,6,0,0,6,0,0,0,0,6,0,0,6,0,0,0,0,5,0,0,5,6,2,2,1,0,0,0,0,0,0,0,0,6,2,2,1,1,0,0,1,0,0,0,0,0,0,0,0,0,0,0,0,0,0,0,0,0,0,0,0,0,0,0,0,0,0,0,0,0,0,0,0,null,0,0,2,0,0,4,0,0,6,5,1,0,0,6,0,3,1,2,0,6,2,1,0,0,0,0,6,2,1,1,0,0,0,0,0,0,2,0,0,1,0,1,0,0,6,1,1,1,1,5,23,0,0,1,1,1,1,2,3,0,0,2,2,6,26,null,0,0,2,0,44,0,0,0,3,9,0,1,0,0,0,0,0,0,0,0,0,0,0,"NO",0,0,0,0,0,0,0,0,0,0,0,0,0,0,0,0,0,0,0,0,null,0,0,0,0,0,0,0,0,0,0,0,0,0,0,0,0,0,0,0,0,0,0,0,0,0,0,0,0,0,0,0,0,0,0,0,0,0,0,0,0,0,0,0,0,0,0,0,0,0,0,0,0,0,0,0,0,0,0,0,0,0,0,0,0,0,0,0,0,0,0,0,0,0,0,0,0,0,0,0,0,0,0,0,0,0,0,0,0,0,0,0,0,0,0,0,0,0,0,0,0,0,0,0,0,0,0,0,0,0,0,0,0,0,0,0,0,0,0,0,0,0,0,0,0,0,0,0,0,0,0,0,0,0,0,0,0,0,0,0,null,0,0,0,0,0,0,0,0,"NO",0,0,0,0,0,0,0,0,0,0,0,0,0,0,0,0,0,0,0,0,0,0,0,0,0,0,0,0,0,0,0,0,0,0,0,0,0,0,0,0,0,0,0,0,0,0,0,0,0,0,"NO",0,0,0,0,0,0,0,0,0,0,0,0,0,0,0,0,0,0,0,0,0,0,0,0,0,null,0,0,0,0,0,0,0,0,0,0,0,0,0,0,0,0,0,0,0,0,0,0,0,0,0,0,0,0,0,0,0,0,0,0,0,0,0,0,0,0,0,0,0,0,0,0,0,0,0,0,0,0,0,0,0,0,0,0,0,0,0,0,0,0,0,0,0,0,0,0,0,0,0,0,0,0,0,0,0,0,0,0,0,0,0,0,0,0,0,0,0,0,0,0,0,0,0,0,0,0,0,0,0,0,0,0,0,0,0,0,0,0,0,0,0,0,0,0,0,0,0,0,0,0,0,0,0,0,0,0,0,0,0,0,0,0,0,0,0,0,0,0,0,0,0,0,0,0,0,0,0,0,0,null,0,0,0,0,0,0,0,0,0,0,0,0,0,0,0,0,0,0,0,0,0,0,0,0,0,0,0,0,0,0,0,0,0,0,0,0,0,"NO",0,0,0,0,0,0,0,0,0,0,0,0,0,0,0,0,0,0,0,0,0,0,0,0,0,0,0,0,0,0,0,0,0,0,0,0,0,0,0,0,0,0,0,0,0,0,0,0,0,0,0,0,0,0,0,0,0,0,0,0,0,0,0,0,0,0,0,0,0,0,0,0,0,0,0,0,0,0,0,0,0,0,0,0,0,0,0,0,0,0,0,0,0,0,0,0,0,0,0,0,0,0,0,0,0,"NO",0,0,0,0,0,0,0,0,0,0,0,0,0,0,0,0,0,0,0,0,0,0,0,0,0,0,0,0,0,0,0,0,0,0,0,0,0,0,0,0,0,0,0,0,0,0,0,0,0,0,0,0,0,0,"NO",0,0,0,0,0,null,0,0,0,0,null,"These funds allow advocates to attend twice monthly SART meetings to discuss current SA cases in our community.",null,null,"the number of SA survivors served with VAWA funding decreased significantly during 2020. I believe this was directly related to COVID. With working remotely and limiting the number of staff in the office at one time, we did not see the same number of SA survivors seeking services or they met with whatever advocate was in the office and may not be funded under VAWA. This drop in numbers is reflected in the decrease in billable hours charged to the grant.",null,null,null,null,null,"• Increase rapport with our rural communityHistorically we have seen our community have a difficult time engaging with Safe Harbors. Being our progressive nature, it may be difficult for community partners to understand that we serve everyone and we are not here to victim-blame, judge, or create a bias space for people who are seeking our services. We run into many situations where people believe we are strictly providing services to women- which is false. Safe Harbors provides services to people of all sexes, genders, identities, religions, ethnic or cultural backgrounds, socioeconomic status’s, and so on and so forth. At Safe Harbors we do our very best to reach out to all parts of our community. Some of the ways in which the VAWA grant has helped, is by allowing us funds that can be used to send our mailings to every citizen in Wallowa County, as well as create brochures and pamphlets that provide information and awareness of sexual assault, domestic violence, and stalking. This area is a work in progress and there is a great need of improvement, but VAWA funds allows us to work on new ways to practice prevention and action for sexual assault, domestic violence and stalking.• Provide services to more secluded areas of the countyBecause of our rural setting, much of Wallowa County seems unreachable. We rarely find ourselves regularly going out to the more remote areas of Wallowa County. Some of these places include Troy and Imnaha. We know the barriers that many of these isolated communities experience and we are having a difficult time finding solutions for that. Many live without internet, cell service, or any means to call the 24hr crisis line. Even when victims in these areas do have a means for reaching out to Safe Harbors, law enforcement, or other emergency services the wait for someone to reach them can be as long as two hours. • Build rapport and trust with victims of sexual assault, domestic violence, and stalkingVictims of sexual assault, domestic violence, and stalking often find it difficult to report or even seek services in Wallowa County. Because of our smaller community, it’s often believed that their abuser will be able to find out that they have sought after services. The tight-knit group that is Wallowa County, has played into fear of reporting for victims; “someone always knows someone else’s business.”. But we try to remind each victim and survivor that comes to us that we are dedicated to keeping their identity completely confidential. Even with reminders to the community there is still fear surrounded around parking outside of our office or safe house, someone noticing them walking in, or concerns another employee would disclose that they are seeking services. Even after we build trust within our clients there is also the issue of reporting. Fear of reporting is huge, and it still rings true that reporting can be just as traumatic as the original incident of which they are reporting. Because of this, we regularly offer training to law enforcement and other community partners, so just like us, they will be prepared to provide the best trauma informed care and trauma informed interviewing. • Create healthy relationships between teens and parents to promote understanding and trauma informed parenting after an assaultCurrently, we see the relationships between parents and teens fail because of lack of trust and fear of judgment. It is a norm to have teens express to staff members and volunteers of Safe Harbors that they fear disclosing to their parents; some of which stems from lack of trauma informed parenting- they fear their choice to report or not report will then be taken from them, or there may be judgment surrounded in the teen’s sexual orientation and/or gender identity. Our VAWA fund has allowed us to focus on underserved communities like teens, but we’re still seeing parent to teen relationships struggle- regardless of us providing a safe space for disclosure or reporting. We are als","having a difficult time reintegrating back into the school systems due to Covid-19. Previously, we were very active in our schools, even having office hours in Joseph. But because of the global pandemic we have had to find alternative ways to meet with te","70. Prior to the STOP funding that VAWA has allowed, Safe Harbors was limited to only domestic violence services. And while we are aware sexual assault can be a product of intimate partner violence, sexual assault is still relevant for other relationships. We know that sexual assault literally affects every demographic, and in such high numbers, that it’s often studied and reported by the CDC. Because of this issue we realize the need for resources and services for victims and survivors of sexual assault. STOP funding has allowed us to implement these services into our agency as well as train sexual assault specific advocates. So, what do some of these services look like?MEDICAL ACCOMPANIMENT- Working with victims of sexual assault we understand the need for support during exams. Safe Harbors has worked very hard to schedule an on-call advocate 24/7. Our local hospital will often offer our services to victims if there is a disclosure following an assault. Because of VAWA we have been able to train several staff members more extensively on sexual assault and how to provide advocacy to those requesting a rape kit. Always at the permission of the survivor, we can provide support prior to, during, and after this exam- wwhich we understand can be uncomfortable and re-traumatizing. We also offer our services to clients that are seeking support during dental visits, gynecological visits, or any other exams that the survivor feels could be triggering. COURT ACCOMPANIMENT- Following an assault, some victims may be finding themselves trying to navigate the courts system. Maybe they are thinking about reporting, or wanting to seek more security from pressing charges or getting a protection order. Safe Harbors views protection orders as an emergency need and through VAWA funding we have been able to assist victims in filling out a protection order and being supportive as they work through the temporary order, potentially contested PO’s, being present in the courtroom if they find themselves on the stand, and post judicial process. ONGOING SUPPORT- Safe Harbors can now offer more extensive support to victims of sexual assaults through our regularly scheduled support groups. These groups include Empowerment Class, Survivor Circle, our Gym group, LGBTQIA+ Community Council, and Queer Youth Program. We know some of these spaces might not have been originally created for the purpose of sexual assault victims only, but with our training we are now able to navigate the advocacy that surrounds supporting a victim, should a disclosure happen during one of these support groups. These groups are intended to promote health coping skills,  provide tools to reintegrate into a society after forced isolation, create a safe space to work through trauma among supportive and understanding peers, and engage in alternative healing activities like art and yoga."]
[46102,"OR46102","2021-01-29",2020,"Salem Police Department's Domestic Violence Response Team","VAWA-C-2020-SalemPD-","22",null,null,null,null,null,null,null,"GI5_OrgType_LawEnforce",null,"NO","NO","Emily","M","Collins","Salem Police Department's Domestic Violence Response Team","333 Division St NE","Salem","OR","97301","503-588-6499","503-588-6004","ecollins@cityofsalem.net","NO",null,2,97,1,100,"YES",1,0,0,0,0,0,0,0,0,0,0,0,0.9,0,0,0,0,0,0,0.5,null,0,1.4,1,0,1,0,1,0,0,0,0,1,0,0,0,0,0,0,0,0,0,0,"YES",1,9,0,0,0,0,0,0,10,0,0,0,0,0,110,0,4,8,0,0,0,0,0,0,0,0,16,0,null,0,148,1,0,1,1,1,1,0,0,1,1,1,0,0,null,0,1,0,1,1,1,1,0,0,1,1,0,0,1,0,0,0,1,0,0,null,0,0,0,0,0,0,0,0,0,0,0,0,0,0,0,0,0,null,1,1,1,0,0,null,"NO",0,0,0,0,0,0,0,0,0,0,0,0,0,0,0,null,0,0,0,0,0,0,0,0,0,0,0,0,0,0,0,null,0,0,0,0,0,0,0,0,0,0,0,0,0,0,0,0,0,null,null,null,"Monthly","Monthly","Monthly","Monthly","Daily","Monthly","Daily","Monthly",null,"Monthly","Monthly","Monthly","Daily","Monthly","Monthly","Monthly","Daily","Weekly","Weekly","Monthly","Daily","Weekly",null,null,"Monthly","Monthly","Weekly","Monthly",null,null,null,null,null,"NO",0,0,0,0,0,0,0,0,0,0,0,0,0,0,null,0,0,0,0,0,0,0,0,0,0,0,0,0,0,0,0,0,0,0,0,0,null,0,0,0,0,0,0,0,0,0,0,0,0,0,0,null,0,0,0,0,0,0,0,0,0,0,0,0,0,0,0,0,0,null,0,0,0,0,0,0,0,0,0,null,0,0,0,0,0,0,0,0,0,0,0,null,"NO",0,0,null,null,null,0,null,null,null,0,null,null,null,0,null,null,null,0,null,null,null,0,null,null,null,0,null,null,null,0,null,null,null,0,null,null,null,null,0,null,null,null,0,null,null,null,0,null,null,null,"NO",0,0,0,0,0,0,0,0,0,0,0,0,0,0,0,0,0,0,0,0,0,0,0,0,0,0,0,0,null,"NO",0,0,0,0,0,0,0,0,0,0,0,0,0,null,0,0,0,0,0,0,0,0,0,0,0,0,0,0,0,0,"NO",0,0,0,0,0,0,0,0,0,0,0,0,0,0,0,0,0,0,0,0,0,0,0,0,0,0,0,0,0,0,0,0,0,0,0,0,0,0,0,0,0,0,0,0,0,0,null,0,0,0,0,0,"YES",1,7,414,5,426,0,0,0,0,7,414,5,426,0,0,0,0,7,408,5,420,7,6,0,0,10,414,7,0,0,4,5,0,17,424,12,0,0,12,0,12,0,0,0,0,0,0,0,0,0,0,0,0,0,0,0,0,0,0,0,0,0,0,0,0,0,0,0,0,0,0,0,0,null,2,5,1,64,2,38,0,314,426,353,73,0,0,426,1,77,318,20,10,426,3,2,46,1,16,0,0,8,272,10,1,76,0,2,68,2,4,0,1,0,0,1,1,0,16,417,13,13,13,0,0,7,8,387,390,0,0,0,0,0,0,0,0,29,31,null,0,0,0,0,0,0,0,0,55,208,1,0,0,0,0,0,0,0,0,0,0,0,0,"NO",0,0,0,0,0,0,0,0,0,0,0,0,0,0,0,0,0,0,0,0,null,0,0,0,0,0,0,0,0,0,0,0,0,0,0,0,0,0,0,0,0,0,0,0,0,0,0,0,0,0,0,0,0,0,0,0,0,0,0,0,0,0,0,0,0,0,0,0,0,0,0,0,0,0,0,0,0,0,0,0,0,0,0,0,0,0,0,0,0,0,0,0,0,0,0,0,0,0,0,0,0,0,0,0,0,0,0,0,0,0,0,0,0,0,0,0,0,0,0,0,0,0,0,0,0,0,0,0,0,0,0,0,0,0,0,0,0,0,0,0,0,0,0,0,0,0,0,0,0,0,0,0,0,0,0,0,0,0,0,0,null,0,0,0,0,0,0,0,0,"NO",0,0,0,0,0,0,0,0,0,0,0,0,0,0,0,0,0,0,0,0,0,0,0,0,0,0,0,0,0,0,0,0,0,0,0,0,0,0,0,0,0,0,0,0,0,0,0,0,0,0,"NO",0,0,0,0,0,0,0,0,0,0,0,0,0,0,0,0,0,0,0,0,0,0,0,0,0,null,0,0,0,0,0,0,0,0,0,0,0,0,0,0,0,0,0,0,0,0,0,0,0,0,0,0,0,0,0,0,0,0,0,0,0,0,0,0,0,0,0,0,0,0,0,0,0,0,0,0,0,0,0,0,0,0,0,0,0,0,0,0,0,0,0,0,0,0,0,0,0,0,0,0,0,0,0,0,0,0,0,0,0,0,0,0,0,0,0,0,0,0,0,0,0,0,0,0,0,0,0,0,0,0,0,0,0,0,0,0,0,0,0,0,0,0,0,0,0,0,0,0,0,0,0,0,0,0,0,0,0,0,0,0,0,0,0,0,0,0,0,0,0,0,0,0,0,0,0,0,0,0,0,null,0,0,0,0,0,0,0,0,0,0,0,0,0,0,0,0,0,0,0,0,0,0,0,0,0,0,0,0,0,0,0,0,0,0,0,0,0,"NO",0,0,0,0,0,0,0,0,0,0,0,0,0,0,0,0,0,0,0,0,0,0,0,0,0,0,0,0,0,0,0,0,0,0,0,0,0,0,0,0,0,0,0,0,0,0,0,0,0,0,0,0,0,0,0,0,0,0,0,0,0,0,0,0,0,0,0,0,0,0,0,0,0,0,0,0,0,0,0,0,0,0,0,0,0,0,0,0,0,0,0,0,0,0,0,0,0,0,0,0,0,0,0,0,0,"NO",0,0,0,0,0,0,0,0,0,0,0,0,0,0,0,0,0,0,0,0,0,0,0,0,0,0,0,0,0,0,0,0,0,0,0,0,0,0,0,0,0,0,0,0,0,0,0,0,0,0,0,0,0,0,"NO",0,0,0,0,0,null,0,0,0,0,"Due to COVID guidelines, our training and education opportunities have been greatly reduced.  However, Salem Police Department has continued to hire new police officers and so we have continued to provide DV-specific training to new recruits (14 in total)",null,null,null,null,null,null,null,null,null,"Our program's answer to this question does not fluctuate much from year to year.  Coming from a victim service program based in a criminal justice system (law enforcement), I see the most significant remaining need to be continued funding allowing agencies to stabilize or expand the programs they currently have in place.  More specifically I see a need for agencies that respond to provide immediate information and resources to victims of domestic violence, sexual assault, and stalking to eventually, thanks to continued funding, reach even more victims including those that currently go un-served, including no charges, \"non-typical\" domestic crimes, immigrant victims, etc.  The goal would be to provide information early enough in the cycle to help break it befre the need arises for police and the court's involvement.  Another remaining need I see is to provide a way to have even more community involvement, from combatting myths of domestic violence and the trap of vicitm blaming which would allow more victims to come forward and report their abuse, to having more resources and programs providing assistance to victims in their efforts to gain independence from their abuser.  This funding is also needed to develop or porvide educational training on the dynamics of domestic vioelnce, sexual assault, stalking, and human trafficking, and to create programs within smaller rural communities that currently do not have the resources. Without federal government funding, we will see successfulprograms closing down.  Increasing offender accountability and victim safety go hand in hand.  I see the lack of this accountability to be a problem which must be addressed at every step in the criminal justice system, and at this time, the entire system lacks the resources to hold all offenders accountable as they should be, and then to further enforce that accountability; from arrest to the end of an offender's sentence.  If we work towards creating a victim orientated system instead of an offender orientated system, with vicitm rights and safety as a center focus, then we might see some much needed change within our criminal justice system and the risks that victims encounter regarding their safety and participation in criminal reporting and proceedings.  Additionally, I see education on domestic violence, sexual assault, human trafficking, and stalking to be a great need for everyone in a position that comes in contact with a victim; from victim advocates to police officers, to prosecutors, to Judges, and then to parole and probation officers.  Without additional mandated training and the funding to provide such training, our system will continue to re-victimize survivors.  Although the community I work in, and even more specifically the law enforcement department I work with, is quite progressive in the area of victim advocacy, resources, and the justice system, I still see the effects the lack of education has on victims, from their reluctance to report abuse to their unwillingness to cooperate with prosecution.  I know that in rural counties/communities, where they lack the resources and funding, this becomes an even greater issue.",null,"Ultimately because of the funding we receive, we have been able to provide specialized victim services by a highly trained advocate team.  Our agency and our City did not have the funding to begin this program without the help of STOP grant funds, and does not have the resources to continue funding the entire program to the extent that it has been developed without the assistance of continued grant funds.  Unfortunately domestic violence, sexual assault, and stalking has not stopped, but we have been fortunate enough to be able to expand our services to reach more vicitms.  Without our grant, we would not have the steady funding needed to employ a full-time program coordinator and part-time program assistant.  Since 1997, funding has allowed the program to grow from one victim advocate to one and a half paid victim advoctes and an average volunteer base of 16+ trained advocates.  The expansion of our volunteers has allowed our program to reach hundreds of more victims than one advocate could do alone.  The funding allows the Coordinator to oversee the operation of the advocate team, including recruiting, training, and providing on-going supervision of our volunteer staff and half-time paid assistant, reviewing all domestic related police reports and addressing concerns as necessary, as well as maintaining the emergency 911 cell phone program.  The grant funding allows the Coordinator to be involved in providing domestic violence trainings to community members, other community agencies, and other employees with the Salem Police Department, as well as the ability to attend various group meetings with other agencies to maintain on-going cooperative community partnerships.  Having someone available in the office at many times who has the main priority of seeing to the needs of victims, and having someone to run and maintain the program are two areas of service that would greatly suffer without grant funding.",null,null,null,null,null,"We routinely have a higher number of male victims served due to providing services to anyone that is identified as the victim at the time of law enforcement contact/investigation.  This often means we are providing services to \"non-typical\" domestic viole"]
[46103,"OR46103","2021-01-26",2020,"Saving Grace Imagine Life Without Violence","Saving-Grace-00045",null,null,null,null,null,null,null,null,"GI5_OrgType_VicServ_Dual",null,"NO","NO","Cassi",null,"MacQueen","Saving Grace Imagine Life Without Violence","1004 NW Milwaukee Ave, St","Bend","OR","97703","541-382-9227","541-330-5067","sarah.m@saving-grace.org, trish.m@saving-grace.org","NO",null,4,93,3,100,"YES",1,0,0,0,0,0,0,0,0.5,0,0,0,0,0,0,0,0,0,0.66,0,null,0,1.1599999999999999,0,0,0,0,1,0,0,0,0,0,0,0,0,0,0,0,0,0,0,0,"NO",0,0,0,0,0,0,0,0,0,0,0,0,0,0,0,0,0,0,0,0,0,0,0,0,0,0,0,0,null,0,0,0,0,0,0,0,0,0,0,0,0,0,0,0,null,0,0,0,0,0,0,0,0,0,0,0,0,0,0,0,0,0,0,0,0,null,0,0,0,0,0,0,0,0,0,0,0,0,0,0,0,0,0,null,0,0,0,0,0,null,"NO",0,0,0,0,0,0,0,0,0,0,0,0,0,0,0,null,0,0,0,0,0,0,0,0,0,0,0,0,0,0,0,null,0,0,0,0,0,0,0,0,0,0,0,0,0,0,0,0,0,null,null,null,"Weekly",null,"Weekly",null,"Daily","Monthly",null,null,"Weekly","Monthly","Monthly",null,"Daily",null,"Daily","Monthly","Weekly",null,"Weekly","Monthly","Weekly","Monthly","Monthly",null,null,null,"Monthly","Monthly","Monthly","Quarterly",null,null,null,"NO",0,0,0,0,0,0,0,0,0,0,0,0,0,0,null,0,0,0,0,0,0,0,0,0,0,0,0,0,0,0,0,0,0,0,0,0,null,0,0,0,0,0,0,0,0,0,0,0,0,0,0,null,0,0,0,0,0,0,0,0,0,0,0,0,0,0,0,0,0,null,0,0,0,0,0,0,0,0,0,null,0,0,0,0,0,0,0,0,0,0,0,null,"NO",0,0,null,null,null,0,null,null,null,0,null,null,null,0,null,null,null,0,null,null,null,0,null,null,null,0,null,null,null,0,null,null,null,0,null,null,null,null,0,null,null,null,0,null,null,null,0,null,null,null,"NO",0,0,0,0,0,0,0,0,0,0,0,0,0,0,0,0,0,0,0,0,0,0,0,0,0,0,0,0,null,"NO",0,0,0,0,0,0,0,0,0,0,0,0,0,null,0,0,0,0,0,0,0,0,0,0,0,0,0,0,0,0,"NO",0,0,0,0,0,0,0,0,0,0,0,0,0,0,0,0,0,0,0,0,0,0,0,0,0,0,0,0,0,0,0,0,0,0,0,0,0,0,0,0,0,0,0,0,0,0,null,0,0,0,0,0,"YES",1,4,104,4,112,0,0,0,0,4,104,4,112,0,0,0,0,4,104,4,112,4,0,0,0,0,104,2,0,0,0,4,0,4,104,6,0,0,13,2,15,0,0,0,0,0,0,0,0,0,0,0,0,0,0,0,0,0,0,0,0,0,0,0,0,0,0,0,0,0,0,0,0,null,2,2,1,6,0,80,1,22,114,111,1,0,0,112,0,10,98,4,0,112,0,2,1,0,1,0,23,1,102,2,0,0,0,0,2,2,2,0,0,1,0,0,0,0,4,104,4,84,150,93,181,5,5,72,84,0,0,0,0,0,0,4,4,56,60,null,0,0,4,3,18,0,0,0,111,113,0,2,0,1,0,54,0,35,0,7,0,5,0,"NO",0,0,0,0,0,0,0,0,0,0,0,0,0,0,0,0,0,0,0,0,null,0,0,0,0,0,0,0,0,0,0,0,0,0,0,0,0,0,0,0,0,0,0,0,0,0,0,0,0,0,0,0,0,0,0,0,0,0,0,0,0,0,0,0,0,0,0,0,0,0,0,0,0,0,0,0,0,0,0,0,0,0,0,0,0,0,0,0,0,0,0,0,0,0,0,0,0,0,0,0,0,0,0,0,0,0,0,0,0,0,0,0,0,0,0,0,0,0,0,0,0,0,0,0,0,0,0,0,0,0,0,0,0,0,0,0,0,0,0,0,0,0,0,0,0,0,0,0,0,0,0,0,0,0,0,0,0,0,0,0,null,0,0,0,0,0,0,0,0,"NO",0,0,0,0,0,0,0,0,0,0,0,0,0,0,0,0,0,0,0,0,0,0,0,0,0,0,0,0,0,0,0,0,0,0,0,0,0,0,0,0,0,0,0,0,0,0,0,0,0,0,"NO",0,0,0,0,0,0,0,0,0,0,0,0,0,0,0,0,0,0,0,0,0,0,0,0,0,null,0,0,0,0,0,0,0,0,0,0,0,0,0,0,0,0,0,0,0,0,0,0,0,0,0,0,0,0,0,0,0,0,0,0,0,0,0,0,0,0,0,0,0,0,0,0,0,0,0,0,0,0,0,0,0,0,0,0,0,0,0,0,0,0,0,0,0,0,0,0,0,0,0,0,0,0,0,0,0,0,0,0,0,0,0,0,0,0,0,0,0,0,0,0,0,0,0,0,0,0,0,0,0,0,0,0,0,0,0,0,0,0,0,0,0,0,0,0,0,0,0,0,0,0,0,0,0,0,0,0,0,0,0,0,0,0,0,0,0,0,0,0,0,0,0,0,0,0,0,0,0,0,0,null,0,0,0,0,0,0,0,0,0,0,0,0,0,0,0,0,0,0,0,0,0,0,0,0,0,0,0,0,0,0,0,0,0,0,0,0,0,"NO",0,0,0,0,0,0,0,0,0,0,0,0,0,0,0,0,0,0,0,0,0,0,0,0,0,0,0,0,0,0,0,0,0,0,0,0,0,0,0,0,0,0,0,0,0,0,0,0,0,0,0,0,0,0,0,0,0,0,0,0,0,0,0,0,0,0,0,0,0,0,0,0,0,0,0,0,0,0,0,0,0,0,0,0,0,0,0,0,0,0,0,0,0,0,0,0,0,0,0,0,0,0,0,0,0,"NO",0,0,0,0,0,0,0,0,0,0,0,0,0,0,0,0,0,0,0,0,0,0,0,0,0,0,0,0,0,0,0,0,0,0,0,0,0,0,0,0,0,0,0,0,0,0,0,0,0,0,0,0,0,0,"NO",0,0,0,0,0,null,0,0,0,0,null,"Survivors are at a tremendous disadvantage in civil court hearings when the perpetrator has obtain legal counsel and the survivor doesn’t have an attorney.  Meetings and referrals between Legal Aid professionals have increased the amount of legal representation survivors can access in contested protection order, divorce and custody hearings.",null,null,"The percentages for FTE in question 9 reflect .50 for our Legal Advocate and .66 for our Program Manager, aka Shelter Manager. Over the last 4 quarters the Shelter Manager's average FTE was .72 until the very last 2 months of the period when we had a staff change and the new Shelter Manager's FTE was approx .46. This drops the average for Program Manager FTE to .66.",null,null,null,null,null,"• Housing remains the biggest area of need: low vacancy, lack of affordable housing for anyone without financial assistance. Being houseless adds a huge barrier to helping survivors get safe and become independent.  • Increased numbers of high risk and high lethality situations, in part due to COVID and related stressors.  This necessitates working closely with law enforcement and the DA’s Office to ensure coordinated response to victim safety and offender accountability.",null,"• There is a continual need to address client services and adapt in-shelter support (and staffing) due to evolving recommendations during COVID and keeping shelter a safe space.  This includes creative problem-solving with shelter capacity and placing families in motels, establishing COVID prevention practices in shelter and office, adapting services to be provided via phone and video call for clients outside of shelter, and determining when in-person services are required while also maintaining client and staff safety.• The STOP program has supported the shelter emergency manager’s work, which spans supporting advocate staff at shelter, working with shelter residents and their children, and resolving facility issues.  The confidential nature of the shelter, with a state-of-the-art security system, requires a watchful eye to keep residents safe.  The shelter manager has also supported the children’s advocate who provides respite care for shelter residents’ children.  Respite care allows moms to leave the shelter and meet with other social service providers, attend appointments, and seek employment or housing.  The children receive expert support from an advocate trained in trauma response for children specifically. • The STOP program also supports Saving Grace’s legal advocacy program.  The legal advocate’s ability to specialize in helping self-petitioners with restraining orders, divorce and custody paperwork helps fill the tremendous legal gap there is in our community.",null,null,null,"Due to demand for more training from human professionals on the dynamics of DV/SA and protections available to survivors, funded staff provided a training that included both information about the dynamics of abuse and current legal protections for survivors.  This training gave human resources professionals information they hadn’t previously been aware of, including legal rights of survivors in the workplace.Regarding Question 31, it's become apparent that we don't have many clients marked as presenting with more than one victimization. We believe this is a training issue with the advocates who now do their own data entry in the Osnium database. We are planning to work closely with the advocates regarding how to properly capture this information in the database."]
[46104,"OR46104","2021-02-17",2020,"Sexual Assault Resource Center (SARC)","2019-SARC-00047",null,null,null,null,null,null,null,null,"GI5_OrgType_Community",null,"NO","NO","Michele",null,"White","SARC","4900 SW Griffith Drive, S","Beaverton","OR","97005","5.0362691E9","5.036269122E9","michelew@sarcoregon.org","NO",null,100,0,0,100,"YES",1,0,0,0,0,0,0,0,0,0,0,0,0,0,0,0,0,0,0.5,0,null,0,0.5,0,0,0,0,1,0,0,0,0,0,0,0,0,0,0,0,0,0,0,0,"NO",0,0,0,0,0,0,0,0,0,0,0,0,0,0,0,0,0,0,0,0,0,0,0,0,0,0,0,0,null,0,0,0,0,0,0,0,0,0,0,0,0,0,0,0,null,0,0,0,0,0,0,0,0,0,0,0,0,0,0,0,0,0,0,0,0,null,0,0,0,0,0,0,0,0,0,0,0,0,0,0,0,0,0,null,0,0,0,0,0,null,"NO",0,0,0,0,0,0,0,0,0,0,0,0,0,0,0,null,0,0,0,0,0,0,0,0,0,0,0,0,0,0,0,null,0,0,0,0,0,0,0,0,0,0,0,0,0,0,0,0,0,null,null,null,null,null,null,null,null,null,null,"Quarterly",null,null,null,null,"Monthly",null,"Weekly","Quarterly","Weekly",null,null,"Quarterly","Monthly",null,null,null,null,"Quarterly",null,null,null,null,"Culturally specific DV/SA agency",null,null,"NO",0,0,0,0,0,0,0,0,0,0,0,0,0,0,null,0,0,0,0,0,0,0,0,0,0,0,0,0,0,0,0,0,0,0,0,0,null,0,0,0,0,0,0,0,0,0,0,0,0,0,0,null,0,0,0,0,0,0,0,0,0,0,0,0,0,0,0,0,0,null,0,0,0,0,0,0,0,0,0,null,0,0,0,0,0,0,0,0,0,0,0,null,"NO",0,0,null,null,null,0,null,null,null,0,null,null,null,0,null,null,null,0,null,null,null,0,null,null,null,0,null,null,null,0,null,null,null,0,null,null,null,null,0,null,null,null,0,null,null,null,0,null,null,null,"NO",0,0,0,0,0,0,0,0,0,0,0,0,0,0,0,0,0,0,0,0,0,0,0,0,0,0,0,0,null,"NO",0,0,0,0,0,0,0,0,0,0,0,0,0,null,0,0,0,0,0,0,0,0,0,0,0,0,0,0,0,0,"NO",0,0,0,0,0,0,0,0,0,0,0,0,0,0,0,0,0,0,0,0,0,0,0,0,0,0,0,0,0,0,0,0,0,0,0,0,0,0,0,0,0,0,0,0,0,0,null,0,0,0,0,0,"YES",1,343,0,0,343,0,0,0,0,343,0,0,343,1,1,0,2,173,0,0,173,343,0,0,0,0,0,0,0,0,0,0,0,343,0,0,0,11,0,0,11,0,0,0,0,0,0,0,0,0,0,0,0,0,0,0,0,0,0,0,0,0,0,0,0,0,1,0,0,0,0,0,0,null,3,1,10,53,2,62,0,212,343,164,12,0,167,343,131,70,141,1,0,343,0,0,25,0,7,0,0,25,0,0,11,0,0,19,0,0,83,0,0,18,0,187,0,0,343,0,0,8,8,158,632,47,100,242,520,0,0,10,10,0,0,4,4,140,250,null,0,0,0,0,0,0,0,0,0,0,0,0,0,0,0,0,0,0,0,0,0,0,0,"NO",0,0,0,0,0,0,0,0,0,0,0,0,0,0,0,0,0,0,0,0,null,0,0,0,0,0,0,0,0,0,0,0,0,0,0,0,0,0,0,0,0,0,0,0,0,0,0,0,0,0,0,0,0,0,0,0,0,0,0,0,0,0,0,0,0,0,0,0,0,0,0,0,0,0,0,0,0,0,0,0,0,0,0,0,0,0,0,0,0,0,0,0,0,0,0,0,0,0,0,0,0,0,0,0,0,0,0,0,0,0,0,0,0,0,0,0,0,0,0,0,0,0,0,0,0,0,0,0,0,0,0,0,0,0,0,0,0,0,0,0,0,0,0,0,0,0,0,0,0,0,0,0,0,0,0,0,0,0,0,0,null,0,0,0,0,0,0,0,0,"NO",0,0,0,0,0,0,0,0,0,0,0,0,0,0,0,0,0,0,0,0,0,0,0,0,0,0,0,0,0,0,0,0,0,0,0,0,0,0,0,0,0,0,0,0,0,0,0,0,0,0,"NO",0,0,0,0,0,0,0,0,0,0,0,0,0,0,0,0,0,0,0,0,0,0,0,0,0,null,0,0,0,0,0,0,0,0,0,0,0,0,0,0,0,0,0,0,0,0,0,0,0,0,0,0,0,0,0,0,0,0,0,0,0,0,0,0,0,0,0,0,0,0,0,0,0,0,0,0,0,0,0,0,0,0,0,0,0,0,0,0,0,0,0,0,0,0,0,0,0,0,0,0,0,0,0,0,0,0,0,0,0,0,0,0,0,0,0,0,0,0,0,0,0,0,0,0,0,0,0,0,0,0,0,0,0,0,0,0,0,0,0,0,0,0,0,0,0,0,0,0,0,0,0,0,0,0,0,0,0,0,0,0,0,0,0,0,0,0,0,0,0,0,0,0,0,0,0,0,0,0,0,null,0,0,0,0,0,0,0,0,0,0,0,0,0,0,0,0,0,0,0,0,0,0,0,0,0,0,0,0,0,0,0,0,0,0,0,0,0,"NO",0,0,0,0,0,0,0,0,0,0,0,0,0,0,0,0,0,0,0,0,0,0,0,0,0,0,0,0,0,0,0,0,0,0,0,0,0,0,0,0,0,0,0,0,0,0,0,0,0,0,0,0,0,0,0,0,0,0,0,0,0,0,0,0,0,0,0,0,0,0,0,0,0,0,0,0,0,0,0,0,0,0,0,0,0,0,0,0,0,0,0,0,0,0,0,0,0,0,0,0,0,0,0,0,0,"NO",0,0,0,0,0,0,0,0,0,0,0,0,0,0,0,0,0,0,0,0,0,0,0,0,0,0,0,0,0,0,0,0,0,0,0,0,0,0,0,0,0,0,0,0,0,0,0,0,0,0,0,0,0,0,"NO",0,0,0,0,0,null,0,0,0,0,null,null,null,null,null,null,null,null,null,null,"Quite honestly, the system needs more money, more consistent funding of programs rather than start-up investments in projects that sound new and innovative, and fewer reporting requirements. We are expected to serve thousands of people each year on shoestring budgets, requiring us to make the difficult choice to either pay staff living wages but forcing them to carry caseloads in the hundreds because we can't hire enough staff at those wages, or pay staff as close to minimum wage as possible so we can hire more staff so caseloads are lower, resulting in staff working two and sometimes three jobs to make ends meet. Grant funds rarely pay for managerial or administrative staff, resulting in a tiny pool of unrestricted funds that needs to cover salaries for management, fundraising, bookkeeping, IT, and administrative support, not to mention things like insurance, recruiting expenses, recognition gifts for staff and volunteers, and meeting expenses. Reporting requirements are different for every grant and even supposedly comprehensive databases like Osnium do little to actually make reporting easier (and those, too, aren't paid for by grants), and staff spend as much or more time trying to manage data entry and reporting as they do providing actual services. This results in staff who enter the field idealistic and passionate about helping people, and leave after a few years burned out, cynical, and, often, in even more debt because the salaries nonprofits can pay can't help them pay down the student loans they had to take out to get the education to do these jobs. That anyone remains in this field after more than a few years is nothing short of a miracle. The system cannot depend on the generosity of donors -- especially when changes in tax law make donation less appealing to major donors -- or volunteers, when all over the country the middle class is increasingly just another term for the working poor who work multiple jobs to be able to pay for food and rent and don't have time or energy to volunteer. If the government truly wants to improve services, give us the funds to pay staff like the dedicated professionals they are, to hire enough staff to provide the services needed, and reduce the paperwork/data collection and reporting requirements placed on social service agencies.",null,"STOP funding allowed us to retain .5 of a Crisis Intervention Program manager, but were not able to expand programming with this funding."]
[46105,"OR46105","2021-01-30",2020,"Sexual Assault Support Services","Joint-2019-SASS-0048",null,null,null,null,null,null,null,null,"GI5_OrgType_VicServ_SA",null,"NO","NO","Ann",null,"Mortenson","Sexual Assault Support Services","591 W 19th Avenue","Eugene","OR","97401","5.414849791E9","5.413423696E9","fiscaladmin@sass-lane.org","NO",null,95,4,1,100,"YES",1,0,0,0,0,0,0,0,0,0,0,0,0,0,0,0,0,0,0.73,0,null,0,0.73,0,0,0,0,1,0,0,0,0,0,1,0,0,0,0,0,0,0,0,0,"NO",0,0,0,0,0,0,0,0,0,0,0,0,0,0,0,0,0,0,0,0,0,0,0,0,0,0,0,0,null,0,0,0,0,0,0,0,0,0,0,0,0,0,0,0,null,0,0,0,0,0,0,0,0,0,0,0,0,0,0,0,0,0,0,0,0,null,0,0,0,0,0,0,0,0,0,0,0,0,0,0,0,0,0,null,0,0,0,0,0,null,"NO",0,0,0,0,0,0,0,0,0,0,0,0,0,0,0,null,0,0,0,0,0,0,0,0,0,0,0,0,0,0,0,null,0,0,0,0,0,0,0,0,0,0,0,0,0,0,0,0,0,null,null,null,null,null,null,null,null,null,"Weekly",null,null,null,null,null,"Monthly",null,"Weekly",null,null,null,null,null,null,null,null,null,null,null,"Weekly",null,"Monthly",null,null,null,null,"NO",0,0,0,0,0,0,0,0,0,0,0,0,0,0,null,0,0,0,0,0,0,0,0,0,0,0,0,0,0,0,0,0,0,0,0,0,null,0,0,0,0,0,0,0,0,0,0,0,0,0,0,null,0,0,0,0,0,0,0,0,0,0,0,0,0,0,0,0,0,null,0,0,0,0,0,0,0,0,0,null,0,0,0,0,0,0,0,0,0,0,0,null,"NO",0,0,null,null,null,0,null,null,null,0,null,null,null,0,null,null,null,0,null,null,null,0,null,null,null,0,null,null,null,0,null,null,null,0,null,null,null,null,0,null,null,null,0,null,null,null,0,null,null,null,"NO",0,0,0,0,0,0,0,0,0,0,0,0,0,0,0,0,0,0,0,0,0,0,0,0,0,0,0,0,null,"NO",0,0,0,0,0,0,0,0,0,0,0,0,0,null,0,0,0,0,0,0,0,0,0,0,0,0,0,0,0,0,"NO",0,0,0,0,0,0,0,0,0,0,0,0,0,0,0,0,0,0,0,0,0,0,0,0,0,0,0,0,0,0,0,0,0,0,0,0,0,0,0,0,0,0,0,0,0,0,null,0,0,0,0,0,"YES",1,301,12,2,315,0,0,0,0,301,12,2,315,0,0,0,0,130,10,2,142,301,7,2,4,4,12,0,0,1,1,2,0,306,20,4,4,30,2,0,32,0,0,0,0,0,0,0,0,0,0,0,0,0,0,0,0,0,0,0,0,0,0,0,0,0,0,0,0,0,0,0,0,null,0,0,2,3,0,37,3,270,315,135,8,6,166,315,8,12,34,27,234,315,9,35,2,0,1,4,9,36,14,1,29,2,0,0,0,0,21,0,0,2,0,213,0,1,301,16,2,0,0,0,0,0,0,32,44,0,0,0,0,0,0,0,0,315,430,null,0,0,0,0,0,0,0,0,315,431,0,0,0,0,0,0,0,0,0,0,0,0,0,"NO",0,0,0,0,0,0,0,0,0,0,0,0,0,0,0,0,0,0,0,0,null,0,0,0,0,0,0,0,0,0,0,0,0,0,0,0,0,0,0,0,0,0,0,0,0,0,0,0,0,0,0,0,0,0,0,0,0,0,0,0,0,0,0,0,0,0,0,0,0,0,0,0,0,0,0,0,0,0,0,0,0,0,0,0,0,0,0,0,0,0,0,0,0,0,0,0,0,0,0,0,0,0,0,0,0,0,0,0,0,0,0,0,0,0,0,0,0,0,0,0,0,0,0,0,0,0,0,0,0,0,0,0,0,0,0,0,0,0,0,0,0,0,0,0,0,0,0,0,0,0,0,0,0,0,0,0,0,0,0,0,null,0,0,0,0,0,0,0,0,"NO",0,0,0,0,0,0,0,0,0,0,0,0,0,0,0,0,0,0,0,0,0,0,0,0,0,0,0,0,0,0,0,0,0,0,0,0,0,0,0,0,0,0,0,0,0,0,0,0,0,0,"NO",0,0,0,0,0,0,0,0,0,0,0,0,0,0,0,0,0,0,0,0,0,0,0,0,0,null,0,0,0,0,0,0,0,0,0,0,0,0,0,0,0,0,0,0,0,0,0,0,0,0,0,0,0,0,0,0,0,0,0,0,0,0,0,0,0,0,0,0,0,0,0,0,0,0,0,0,0,0,0,0,0,0,0,0,0,0,0,0,0,0,0,0,0,0,0,0,0,0,0,0,0,0,0,0,0,0,0,0,0,0,0,0,0,0,0,0,0,0,0,0,0,0,0,0,0,0,0,0,0,0,0,0,0,0,0,0,0,0,0,0,0,0,0,0,0,0,0,0,0,0,0,0,0,0,0,0,0,0,0,0,0,0,0,0,0,0,0,0,0,0,0,0,0,0,0,0,0,0,0,null,0,0,0,0,0,0,0,0,0,0,0,0,0,0,0,0,0,0,0,0,0,0,0,0,0,0,0,0,0,0,0,0,0,0,0,0,0,"NO",0,0,0,0,0,0,0,0,0,0,0,0,0,0,0,0,0,0,0,0,0,0,0,0,0,0,0,0,0,0,0,0,0,0,0,0,0,0,0,0,0,0,0,0,0,0,0,0,0,0,0,0,0,0,0,0,0,0,0,0,0,0,0,0,0,0,0,0,0,0,0,0,0,0,0,0,0,0,0,0,0,0,0,0,0,0,0,0,0,0,0,0,0,0,0,0,0,0,0,0,0,0,0,0,0,"NO",0,0,0,0,0,0,0,0,0,0,0,0,0,0,0,0,0,0,0,0,0,0,0,0,0,0,0,0,0,0,0,0,0,0,0,0,0,0,0,0,0,0,0,0,0,0,0,0,0,0,0,0,0,0,"NO",0,0,0,0,0,null,0,0,0,0,null,null,null,null,null,null,null,null,null,null,"There are many significant areas of remaining need, with regard to improving services to survivors of sexual assault, increasing survivors safety and enhancing community response. The on-going needs include: more trauma informed, trained and certified SANEs; more bilingual staff in hospitals, law enforcement, DHS and fellow community service providers; more linguistically and culturally appropriate materials from a variety of responders and service providers; more training for responders on cultural humility and awareness of trauma informed best practices; more training on explicit bias and its impact on survivors of sexual violence; more emergency shelter and more affordable long term/transitional housing.  The pandemic has exacerbated these issues and continues to be a barrier in survivors accessing services including medical care and advocacy.",null,"STOP VAWA funding provides SASS agency stability and allows program staff to conduct outreach to underserved, marginalized and oppressed communities as well as provide crisis intervention and advocacy services to survivors of sexual violence.  Without the stability that STOP VAWA funding provides, SASS would be unable to serve as many sexual violence survivors, their partners, friends and families with crisis intervention and advocacy services; additionally, SASS would be unable to conduct outreach to ensure meaningful access to all survivors.",null,null,null,null,null,"During 2020 with the close of direct services, survivors were limited to phone advocacy.  As we operate a 24-hour crisis line, the calls were more spread throughout the day rather than defined drop-in hours.  Though our call volume as a whole did not incr"]
[46106,"OR46106","2021-01-05",2020,"The Klamath Tribes","Joint-2019-Klamath T",null,null,null,null,null,null,null,null,"GI5_OrgType_TribProg",null,"NO","YES","Aryel",null,"Harrington","The Klamath Tribes","PO Box 436, 501 S Chiloqu","Chiloquin","OR","97624","541-783-2219","541-783-7783","aryel.harrington@klamathtribes.com","YES","The Klamath Tribes, other Tribal members or those that identify as Native.",23,77,0,100,"YES",1,0,0,0,0,0,0,0,0,0,0,0,0,0,0,0,0,0,0.5,0,null,0,0.5,0,0,0,0,1,1,0,0,0,0,0,0,0,0,0,0,0,0,0,0,"NO",0,0,0,0,0,0,0,0,0,0,0,0,0,0,0,0,0,0,0,0,0,0,0,0,0,0,0,0,null,0,0,0,0,0,0,0,0,0,0,0,0,0,0,0,null,0,0,0,0,0,0,0,0,0,0,0,0,0,0,0,0,0,0,0,0,null,0,0,0,0,0,0,0,0,0,0,0,0,0,0,0,0,0,null,0,0,0,0,0,null,"NO",0,0,0,0,0,0,0,0,0,0,0,0,0,0,0,null,0,0,0,0,0,0,0,0,0,0,0,0,0,0,0,null,0,0,0,0,0,0,0,0,0,0,0,0,0,0,0,0,0,null,null,null,null,null,null,null,"Daily",null,"Daily","Weekly",null,null,null,null,null,null,null,null,null,null,null,null,null,"Monthly",null,null,"Daily","Weekly","Weekly","Monthly","Weekly","Weekly",null,null,null,"NO",0,0,0,0,0,0,0,0,0,0,0,0,0,0,null,0,0,0,0,0,0,0,0,0,0,0,0,0,0,0,0,0,0,0,0,0,null,0,0,0,0,0,0,0,0,0,0,0,0,0,0,null,0,0,0,0,0,0,0,0,0,0,0,0,0,0,0,0,0,null,0,0,0,0,0,0,0,0,0,null,0,0,0,0,0,0,0,0,0,0,0,null,"NO",0,0,null,null,null,0,null,null,null,0,null,null,null,0,null,null,null,0,null,null,null,0,null,null,null,0,null,null,null,0,null,null,null,0,null,null,null,null,0,null,null,null,0,null,null,null,0,null,null,null,"NO",0,0,0,0,0,0,0,0,0,0,0,0,0,0,0,0,0,0,0,0,0,0,0,0,0,0,0,0,null,"NO",0,0,0,0,0,0,0,0,0,0,0,0,0,null,0,0,0,0,0,0,0,0,0,0,0,0,0,0,0,0,"NO",0,0,0,0,0,0,0,0,0,0,0,0,0,0,0,0,0,0,0,0,0,0,0,0,0,0,0,0,0,0,0,0,0,0,0,0,0,0,0,0,0,0,0,0,0,0,null,0,0,0,0,0,"YES",1,9,30,0,39,0,0,0,0,9,30,0,39,0,0,0,0,9,30,0,39,9,0,0,0,0,30,0,0,0,0,0,0,9,30,0,0,0,7,0,7,0,0,0,0,0,0,0,0,0,0,0,0,0,0,0,0,0,0,0,0,0,0,0,0,0,0,0,0,0,0,0,0,null,39,0,0,0,0,0,0,0,39,34,3,2,0,39,0,5,26,8,0,39,4,13,0,4,0,0,39,8,16,0,0,11,0,0,0,0,0,0,0,0,0,1,3,0,9,30,0,26,44,0,0,5,5,39,39,0,0,1,1,0,0,12,72,39,557,null,0,0,0,0,0,0,0,0,39,323,0,0,0,0,0,7,0,3,0,0,0,0,0,"NO",0,0,0,0,0,0,0,0,0,0,0,0,0,0,0,0,0,0,0,0,null,0,0,0,0,0,0,0,0,0,0,0,0,0,0,0,0,0,0,0,0,0,0,0,0,0,0,0,0,0,0,0,0,0,0,0,0,0,0,0,0,0,0,0,0,0,0,0,0,0,0,0,0,0,0,0,0,0,0,0,0,0,0,0,0,0,0,0,0,0,0,0,0,0,0,0,0,0,0,0,0,0,0,0,0,0,0,0,0,0,0,0,0,0,0,0,0,0,0,0,0,0,0,0,0,0,0,0,0,0,0,0,0,0,0,0,0,0,0,0,0,0,0,0,0,0,0,0,0,0,0,0,0,0,0,0,0,0,0,0,null,0,0,0,0,0,0,0,0,"NO",0,0,0,0,0,0,0,0,0,0,0,0,0,0,0,0,0,0,0,0,0,0,0,0,0,0,0,0,0,0,0,0,0,0,0,0,0,0,0,0,0,0,0,0,0,0,0,0,0,0,"NO",0,0,0,0,0,0,0,0,0,0,0,0,0,0,0,0,0,0,0,0,0,0,0,0,0,null,0,0,0,0,0,0,0,0,0,0,0,0,0,0,0,0,0,0,0,0,0,0,0,0,0,0,0,0,0,0,0,0,0,0,0,0,0,0,0,0,0,0,0,0,0,0,0,0,0,0,0,0,0,0,0,0,0,0,0,0,0,0,0,0,0,0,0,0,0,0,0,0,0,0,0,0,0,0,0,0,0,0,0,0,0,0,0,0,0,0,0,0,0,0,0,0,0,0,0,0,0,0,0,0,0,0,0,0,0,0,0,0,0,0,0,0,0,0,0,0,0,0,0,0,0,0,0,0,0,0,0,0,0,0,0,0,0,0,0,0,0,0,0,0,0,0,0,0,0,0,0,0,0,null,0,0,0,0,0,0,0,0,0,0,0,0,0,0,0,0,0,0,0,0,0,0,0,0,0,0,0,0,0,0,0,0,0,0,0,0,0,"NO",0,0,0,0,0,0,0,0,0,0,0,0,0,0,0,0,0,0,0,0,0,0,0,0,0,0,0,0,0,0,0,0,0,0,0,0,0,0,0,0,0,0,0,0,0,0,0,0,0,0,0,0,0,0,0,0,0,0,0,0,0,0,0,0,0,0,0,0,0,0,0,0,0,0,0,0,0,0,0,0,0,0,0,0,0,0,0,0,0,0,0,0,0,0,0,0,0,0,0,0,0,0,0,0,0,"NO",0,0,0,0,0,0,0,0,0,0,0,0,0,0,0,0,0,0,0,0,0,0,0,0,0,0,0,0,0,0,0,0,0,0,0,0,0,0,0,0,0,0,0,0,0,0,0,0,0,0,0,0,0,0,"NO",0,0,0,0,0,null,0,0,0,0,null,"The Healing Winds Domestic Violence Victims Case Manager attends daily and weekly program meetings and monthly department meetings.  The Domestic Violence Victims Case Manager provides intensive case management for services and referrals and protection orders for almost all victims of the Healing Winds Domestic & Sexual Violence Program.  The Case Manager also provides transportation for clients to/from appointments.",null,null,null,null,null,null,null,null,"Klamath County has shifted to using \"Alternative Sentencing\" for offenders.  Concerns for victims have been made known at the monthly KCDVRU meeting but these concerns have not been taken seriously or ignored.We have also recently seen domestic violence calls where the victim has a warrant so she is arrested instead of the offender because the point of one being arrested is to separate them (not to stop a crime but to separate them) or to have the decision made to not charge an offender with the crime that he has committed because we don't have misdemeanor probation officers so he wouldn't be supervised any way. Victims are being arrested for \"mutual combat\".We have also seen an increase of protection order violations ignored or if law enforcement comes out to the victim's location and takes a statement from them the report doesn't make it to the DA's Office for prosecution. We have been speaking with the investigator at the DA's Office to follow up with the victim on the violations (this new step that we are doing with the investigator is helping victims feel a lot more supported by the system). We are still seeing protection orders not enforced. Law enforcement just tell the offender to leave the area and don't come back. Soon as the officer leaves the offender comes back. We have had victims being told by law enforcement that they will be arrested as a nuisance caller when they call every time the protection order is violated.",null,"The 2019 and 2020 Joint grant funding allowed for the continuation of the Klamath Tribes Healing Winds Domestic & Sexual Violence Program located under Klamath Tribes Social Services in the Klamath Tribes Administration building.  Funding has been able to provide continued employment for the Program Caseworker and has allowed continued support for survivors.  The funding helps maintain the program services for victims of domestic violence, sexual assault, dating violence, stalking, human trafficking and elder abuse.  Those services are as follows:• crisis intervention• safety plans & arrangements• assessment & referral services• referral for support counseling• domestic violence/family violence, sexual assault, dating violence, stalking, human trafficking & elder abuse awareness education• advocacy services for survivors of domestic & sexual violence (including trafficking)• advocacy services for survivors of elder abuse, dating violence & stalking• court advocacy services stemming from domestic violence/family violence, sexual assault, dating violence, stalking, human trafficking & elder abuse• assistance obtaining & renewing protection orders• facilitate cultural support and gathering groups and/or referrals for support groups for women• referrals for safe shelter & housing or relocation• culturally therapeutic activities• Direct support services for victims of domestic violence/family violence, sexual assault, dating violence, stalking, human trafficking & elder abuse (Housing, emergency shelter, relocation utilities, transportation, etc.)",null,null,null,null,null,"Most of the victims served during this reporting period by the Domestic Violence Case Manager were single women or women who do not have physical custody of their children. The Case Manager worked with 3 women with children during this reporting period."]
[46107,"OR46107","2021-01-29",2020,"The SAFE Project","56",null,null,null,null,null,null,null,null,"GI5_OrgType_VicServ_Dual",null,"NO","NO","Rachael","F","Espy","The SAFE Project","1681 Newmark Ave","Coos Bay","OR","97420","5.418881048E9","5.418881359E9","respy@stopabusecoos.org","NO",null,15,84,1,100,"YES",1,0,0,0,0,0,0,0,0,0,0,0,0,0,0,0,0,0,0.41,0,null,0,0.41,0,0,0,0,0,0,0,0,0,1,1,0,0,0,0,0,0,0,0,0,"NO",0,0,0,0,0,0,0,0,0,0,0,0,0,0,0,0,0,0,0,0,0,0,0,0,0,0,0,0,null,0,0,0,0,0,0,0,0,0,0,0,0,0,0,0,null,0,0,0,0,0,0,0,0,0,0,0,0,0,0,0,0,0,0,0,0,null,0,0,0,0,0,0,0,0,0,0,0,0,0,0,0,0,0,null,0,0,0,0,0,null,"NO",0,0,0,0,0,0,0,0,0,0,0,0,0,0,0,null,0,0,0,0,0,0,0,0,0,0,0,0,0,0,0,null,0,0,0,0,0,0,0,0,0,0,0,0,0,0,0,0,0,null,null,null,"Daily","Weekly","Monthly",null,"Daily",null,"Daily","Weekly","Weekly","Quarterly","Weekly",null,"Daily",null,"Daily","Quarterly","Daily",null,"Weekly",null,"Weekly",null,null,null,"Weekly",null,null,"Quarterly","Weekly","Monthly",null,null,null,"NO",0,0,0,0,0,0,0,0,0,0,0,0,0,0,null,0,0,0,0,0,0,0,0,0,0,0,0,0,0,0,0,0,0,0,0,0,null,0,0,0,0,0,0,0,0,0,0,0,0,0,0,null,0,0,0,0,0,0,0,0,0,0,0,0,0,0,0,0,0,null,0,0,0,0,0,0,0,0,0,null,0,0,0,0,0,0,0,0,0,0,0,null,"NO",0,0,null,null,null,0,null,null,null,0,null,null,null,0,null,null,null,0,null,null,null,0,null,null,null,0,null,null,null,0,null,null,null,0,null,null,null,null,0,null,null,null,0,null,null,null,0,null,null,null,"NO",0,0,0,0,0,0,0,0,0,0,0,0,0,0,0,0,0,0,0,0,0,0,0,0,0,0,0,0,null,"NO",0,0,0,0,0,0,0,0,0,0,0,0,0,null,0,0,0,0,0,0,0,0,0,0,0,0,0,0,0,0,"NO",0,0,0,0,0,0,0,0,0,0,0,0,0,0,0,0,0,0,0,0,0,0,0,0,0,0,0,0,0,0,0,0,0,0,0,0,0,0,0,0,0,0,0,0,0,0,null,0,0,0,0,0,"YES",1,88,512,9,609,4,15,0,19,92,527,9,628,0,0,0,0,62,457,6,525,92,6,0,1,94,527,0,0,0,0,9,0,186,533,9,1,6,94,0,100,0,0,0,0,0,0,0,0,0,0,0,0,0,0,1,0,0,0,0,0,1,0,1,0,0,0,0,0,0,0,0,0,null,22,0,2,19,4,465,48,68,628,566,56,4,2,628,18,108,378,64,60,628,2,68,1,4,0,0,603,52,324,7,10,59,0,14,14,0,14,9,2,2,0,0,128,0,92,534,9,136,215,65,284,152,152,628,715,0,0,17,19,0,0,34,46,12,16,null,0,0,171,14,4589,2,1,1021,402,412,9,4,0,4,0,167,0,127,0,2,0,1,0,"NO",0,0,0,0,0,0,0,0,0,0,0,0,0,0,0,0,0,0,0,0,null,0,0,0,0,0,0,0,0,0,0,0,0,0,0,0,0,0,0,0,0,0,0,0,0,0,0,0,0,0,0,0,0,0,0,0,0,0,0,0,0,0,0,0,0,0,0,0,0,0,0,0,0,0,0,0,0,0,0,0,0,0,0,0,0,0,0,0,0,0,0,0,0,0,0,0,0,0,0,0,0,0,0,0,0,0,0,0,0,0,0,0,0,0,0,0,0,0,0,0,0,0,0,0,0,0,0,0,0,0,0,0,0,0,0,0,0,0,0,0,0,0,0,0,0,0,0,0,0,0,0,0,0,0,0,0,0,0,0,0,null,0,0,0,0,0,0,0,0,"NO",0,0,0,0,0,0,0,0,0,0,0,0,0,0,0,0,0,0,0,0,0,0,0,0,0,0,0,0,0,0,0,0,0,0,0,0,0,0,0,0,0,0,0,0,0,0,0,0,0,0,"NO",0,0,0,0,0,0,0,0,0,0,0,0,0,0,0,0,0,0,0,0,0,0,0,0,0,null,0,0,0,0,0,0,0,0,0,0,0,0,0,0,0,0,0,0,0,0,0,0,0,0,0,0,0,0,0,0,0,0,0,0,0,0,0,0,0,0,0,0,0,0,0,0,0,0,0,0,0,0,0,0,0,0,0,0,0,0,0,0,0,0,0,0,0,0,0,0,0,0,0,0,0,0,0,0,0,0,0,0,0,0,0,0,0,0,0,0,0,0,0,0,0,0,0,0,0,0,0,0,0,0,0,0,0,0,0,0,0,0,0,0,0,0,0,0,0,0,0,0,0,0,0,0,0,0,0,0,0,0,0,0,0,0,0,0,0,0,0,0,0,0,0,0,0,0,0,0,0,0,0,null,0,0,0,0,0,0,0,0,0,0,0,0,0,0,0,0,0,0,0,0,0,0,0,0,0,0,0,0,0,0,0,0,0,0,0,0,0,"NO",0,0,0,0,0,0,0,0,0,0,0,0,0,0,0,0,0,0,0,0,0,0,0,0,0,0,0,0,0,0,0,0,0,0,0,0,0,0,0,0,0,0,0,0,0,0,0,0,0,0,0,0,0,0,0,0,0,0,0,0,0,0,0,0,0,0,0,0,0,0,0,0,0,0,0,0,0,0,0,0,0,0,0,0,0,0,0,0,0,0,0,0,0,0,0,0,0,0,0,0,0,0,0,0,0,"NO",0,0,0,0,0,0,0,0,0,0,0,0,0,0,0,0,0,0,0,0,0,0,0,0,0,0,0,0,0,0,0,0,0,0,0,0,0,0,0,0,0,0,0,0,0,0,0,0,0,0,0,0,0,0,"NO",0,0,0,0,0,null,0,0,0,0,null,null,null,null,null,null,null,null,null,null,"Remaining areas of need for for our small rural community continue to be improving relationships between local law enforcement and re establishing Sexual Assault Response Team meetings, which had been planned for March of 2020 but with the pandemic everthing was palced on hold. Additional remaining needs include the extreme barriers like transportation and accesability to affordable housing, although we have received specific housing funding, we expect it to run out in the next quarter. Housing funds are definitely one of the greatest needs for survivors in our area.",null,"This funding allows our agency to have a dedicated SA lead advocate position to attend SA specific trainings and bring back information to our agency regarding best practice techniques for advocating for SA survivors"]
[46108,"OR46108","2021-01-21",2020,"The Salvation Army West Women's and Children's Shelter","Joint-2019-00054",null,null,null,null,null,null,null,null,"GI5_OrgType_VicServ_DV",null,"YES","YES","Cynthia",null,"Miguel","The Salvation Army West Women's and Children's Shelter","P.O. Box 2398","Portland","OR","97208","5.037313916E9","5.032391257E9","cynthia.miguel@usw.salvationarmy.org","YES","Sioux, Cherokee, Chippewa, Pyramid Lake, Yakama, Warm Springs, Pauite, etc.",0,100,0,100,"YES",1,0,0,0,0,0,0,0,0,0,0,0,0,0,0,0,0,0,0.34,0,null,0,0.34,0,0,0,0,1,1,0,0,0,1,0,0,0,1,0,0,0,0,1,1,"NO",0,0,0,0,0,0,0,0,0,0,0,0,0,0,0,0,0,0,0,0,0,0,0,0,0,0,0,0,null,0,0,0,0,0,0,0,0,0,0,0,0,0,0,0,null,0,0,0,0,0,0,0,0,0,0,0,0,0,0,0,0,0,0,0,0,null,0,0,0,0,0,0,0,0,0,0,0,0,0,0,0,0,0,null,0,0,0,0,0,null,"NO",0,0,0,0,0,0,0,0,0,0,0,0,0,0,0,null,0,0,0,0,0,0,0,0,0,0,0,0,0,0,0,null,0,0,0,0,0,0,0,0,0,0,0,0,0,0,0,0,0,null,"Monthly","Quarterly","Monthly","Quarterly","Monthly","Monthly","Monthly","Monthly","Daily","Monthly","Weekly","Quarterly","Weekly","Monthly","Weekly","Monthly","Weekly","Monthly","Weekly","Quarterly","Weekly","Quarterly","Monthly","Quarterly",null,null,"Monthly","Quarterly","Weekly","Monthly","Weekly","Monthly",null,null,null,"NO",0,0,0,0,0,0,0,0,0,0,0,0,0,0,null,0,0,0,0,0,0,0,0,0,0,0,0,0,0,0,0,0,0,0,0,0,null,0,0,0,0,0,0,0,0,0,0,0,0,0,0,null,0,0,0,0,0,0,0,0,0,0,0,0,0,0,0,0,0,null,0,0,0,0,0,0,0,0,0,null,0,0,0,0,0,0,0,0,0,0,0,null,"NO",0,0,null,null,null,0,null,null,null,0,null,null,null,0,null,null,null,0,null,null,null,0,null,null,null,0,null,null,null,0,null,null,null,0,null,null,null,null,0,null,null,null,0,null,null,null,0,null,null,null,"NO",0,0,0,0,0,0,0,0,0,0,0,0,0,0,0,0,0,0,0,0,0,0,0,0,0,0,0,0,null,"NO",0,0,0,0,0,0,0,0,0,0,0,0,0,null,0,0,0,0,0,0,0,0,0,0,0,0,0,0,0,0,"NO",0,0,0,0,0,0,0,0,0,0,0,0,0,0,0,0,0,0,0,0,0,0,0,0,0,0,0,0,0,0,0,0,0,0,0,0,0,0,0,0,0,0,0,0,0,0,null,0,0,0,0,0,"YES",1,0,14,0,14,0,9,0,9,0,23,0,23,0,0,0,0,0,23,0,23,0,0,0,0,7,23,0,0,0,0,0,0,7,23,0,0,0,22,0,22,0,0,0,0,0,0,0,0,0,0,0,0,0,0,1,0,0,0,0,0,0,0,0,0,0,0,0,0,0,0,0,0,null,20,0,0,1,1,1,0,0,23,23,0,0,0,23,0,3,10,1,9,23,1,9,0,0,0,0,4,0,14,0,0,0,0,0,0,0,0,0,0,0,0,0,9,0,0,23,0,2,7,0,0,0,0,23,23,0,0,0,0,0,0,10,20,14,14,null,0,0,14,22,3234,0,0,0,50,60,9,0,0,0,0,2,2,2,2,0,0,0,0,"NO",0,0,0,0,0,0,0,0,0,0,0,0,0,0,0,0,0,0,0,0,null,0,0,0,0,0,0,0,0,0,0,0,0,0,0,0,0,0,0,0,0,0,0,0,0,0,0,0,0,0,0,0,0,0,0,0,0,0,0,0,0,0,0,0,0,0,0,0,0,0,0,0,0,0,0,0,0,0,0,0,0,0,0,0,0,0,0,0,0,0,0,0,0,0,0,0,0,0,0,0,0,0,0,0,0,0,0,0,0,0,0,0,0,0,0,0,0,0,0,0,0,0,0,0,0,0,0,0,0,0,0,0,0,0,0,0,0,0,0,0,0,0,0,0,0,0,0,0,0,0,0,0,0,0,0,0,0,0,0,0,null,0,0,0,0,0,0,0,0,"NO",0,0,0,0,0,0,0,0,0,0,0,0,0,0,0,0,0,0,0,0,0,0,0,0,0,0,0,0,0,0,0,0,0,0,0,0,0,0,0,0,0,0,0,0,0,0,0,0,0,0,"NO",0,0,0,0,0,0,0,0,0,0,0,0,0,0,0,0,0,0,0,0,0,0,0,0,0,null,0,0,0,0,0,0,0,0,0,0,0,0,0,0,0,0,0,0,0,0,0,0,0,0,0,0,0,0,0,0,0,0,0,0,0,0,0,0,0,0,0,0,0,0,0,0,0,0,0,0,0,0,0,0,0,0,0,0,0,0,0,0,0,0,0,0,0,0,0,0,0,0,0,0,0,0,0,0,0,0,0,0,0,0,0,0,0,0,0,0,0,0,0,0,0,0,0,0,0,0,0,0,0,0,0,0,0,0,0,0,0,0,0,0,0,0,0,0,0,0,0,0,0,0,0,0,0,0,0,0,0,0,0,0,0,0,0,0,0,0,0,0,0,0,0,0,0,0,0,0,0,0,0,null,0,0,0,0,0,0,0,0,0,0,0,0,0,0,0,0,0,0,0,0,0,0,0,0,0,0,0,0,0,0,0,0,0,0,0,0,0,"NO",0,0,0,0,0,0,0,0,0,0,0,0,0,0,0,0,0,0,0,0,0,0,0,0,0,0,0,0,0,0,0,0,0,0,0,0,0,0,0,0,0,0,0,0,0,0,0,0,0,0,0,0,0,0,0,0,0,0,0,0,0,0,0,0,0,0,0,0,0,0,0,0,0,0,0,0,0,0,0,0,0,0,0,0,0,0,0,0,0,0,0,0,0,0,0,0,0,0,0,0,0,0,0,0,0,"NO",0,0,0,0,0,0,0,0,0,0,0,0,0,0,0,0,0,0,0,0,0,0,0,0,0,0,0,0,0,0,0,0,0,0,0,0,0,0,0,0,0,0,0,0,0,0,0,0,0,0,0,0,0,0,"NO",0,0,0,0,0,null,0,0,0,0,null,null,null,null,null,null,null,null,null,null,"The most significant need is safe, affordable housing for victim/survivors who have escaped domestic violence.  Housing shortages puts housing out of reach for most survivors who are experiencing financial problems as they regain economic independence.  Also, the economic impact of COVID-19 was especially hard on women and minorities.  COVID19 related unemployment hit women and minorities hardest, especially during the last year.    In addition, legal assistance for victims is extremely expensive and difficult to access.  Legal assistance for complex matters such as interstate custody is very hard to find.  COVID-19 also impacted the ability of women to prosecute their abusers and to obtain legal protections.  More action is needed to increase offender accountability, especially on tribal lands where jurisdiction issues hinder prosecutions.  The VAWA funded employee participates in groups to enhance offender accountability, especially regarding advocacy groups who support the Missing and Murdered Indigenous Women of the Pacific Northwest region.",null,"The STOP Program provides funding for the VAWA employee who is Native American and devotes much of her time to providing services to Indigenous Women escaping domestic violence.  Several of the VAWA victims in this report come from reservations in the Northwest.  Tribal leaders relocate families to Portland for their safety.   Our VAWA employee created an email notification system to alert relevant tribal leaders to shelter openings and events.  The VAWA employee has created a line of communication and referral pathway with the Siletz CARE Domestic Violence Program, NARA (Native American Rehabilitation Assn.) NAYA (Native American Youth Association) and The Tribal Resource Tool.  In addition, the STOP funded employee provides educational materials and relevant information regarding Indigenous specific issues to all staff members at The West.  STOP funding is truly appreciated and is used to staff a very dedicated employee."]
[46109,"OR46109","2021-01-30",2020,"Volunteers of America Home Free","joint-2019-VOA-00056",null,null,null,null,null,null,null,null,"GI5_OrgType_VicServ_DV",null,"YES","NO","Jenny",null,"Woodson","Volunteers of America Home Free","3910 SE Stark St","Portland","OR","97214","503-802-0492",null,"jwoodson@voaor.org","NO",null,0,100,0,100,"YES",1,0,0,0,0,0,0,0,0,0,0,0,0,0,0,0,0,0,0.3,0,null,0,0.3,0,0,0,0,1,0,0,0,0,0,0,0,0,0,0,0,0,0,0,0,"NO",0,0,0,0,0,0,0,0,0,0,0,0,0,0,0,0,0,0,0,0,0,0,0,0,0,0,0,0,null,0,0,0,0,0,0,0,0,0,0,0,0,0,0,0,null,0,0,0,0,0,0,0,0,0,0,0,0,0,0,0,0,0,0,0,0,null,0,0,0,0,0,0,0,0,0,0,0,0,0,0,0,0,0,null,0,0,0,0,0,null,"NO",0,0,0,0,0,0,0,0,0,0,0,0,0,0,0,null,0,0,0,0,0,0,0,0,0,0,0,0,0,0,0,null,0,0,0,0,0,0,0,0,0,0,0,0,0,0,0,0,0,null,null,null,"Monthly","Quarterly",null,null,"Weekly","Monthly","Daily","Monthly","Monthly","Monthly","Monthly","Monthly","Weekly","Monthly","Weekly","Monthly","Monthly","Monthly","Weekly","Monthly","Monthly","Monthly",null,null,"Monthly","Quarterly","Daily","Monthly",null,null,null,null,null,"NO",0,0,0,0,0,0,0,0,0,0,0,0,0,0,null,0,0,0,0,0,0,0,0,0,0,0,0,0,0,0,0,0,0,0,0,0,null,0,0,0,0,0,0,0,0,0,0,0,0,0,0,null,0,0,0,0,0,0,0,0,0,0,0,0,0,0,0,0,0,null,0,0,0,0,0,0,0,0,0,null,0,0,0,0,0,0,0,0,0,0,0,null,"NO",0,0,null,null,null,0,null,null,null,0,null,null,null,0,null,null,null,0,null,null,null,0,null,null,null,0,null,null,null,0,null,null,null,0,null,null,null,null,0,null,null,null,0,null,null,null,0,null,null,null,"NO",0,0,0,0,0,0,0,0,0,0,0,0,0,0,0,0,0,0,0,0,0,0,0,0,0,0,0,0,null,"NO",0,0,0,0,0,0,0,0,0,0,0,0,0,null,0,0,0,0,0,0,0,0,0,0,0,0,0,0,0,0,"NO",0,0,0,0,0,0,0,0,0,0,0,0,0,0,0,0,0,0,0,0,0,0,0,0,0,0,0,0,0,0,0,0,0,0,0,0,0,0,0,0,0,0,0,0,0,0,null,0,0,0,0,0,"YES",1,0,13,0,13,0,0,0,0,0,13,0,13,0,0,0,0,0,13,0,13,0,0,0,0,0,13,0,0,0,0,0,0,0,13,0,0,0,16,0,16,0,0,0,0,0,0,0,0,0,0,0,0,0,0,0,0,0,0,0,0,0,0,0,0,0,0,0,0,0,0,0,0,null,0,0,8,0,0,5,0,0,13,12,1,0,0,13,0,0,13,0,0,13,0,0,0,0,0,0,0,0,13,0,0,0,0,0,0,0,0,0,0,0,0,0,0,0,0,13,0,2,2,0,0,0,0,13,26,0,0,0,0,0,0,0,0,13,226,null,0,0,0,0,0,13,16,3804,434,516,0,1,0,1,0,89,0,74,0,35,0,29,0,"NO",0,0,0,0,0,0,0,0,0,0,0,0,0,0,0,0,0,0,0,0,null,0,0,0,0,0,0,0,0,0,0,0,0,0,0,0,0,0,0,0,0,0,0,0,0,0,0,0,0,0,0,0,0,0,0,0,0,0,0,0,0,0,0,0,0,0,0,0,0,0,0,0,0,0,0,0,0,0,0,0,0,0,0,0,0,0,0,0,0,0,0,0,0,0,0,0,0,0,0,0,0,0,0,0,0,0,0,0,0,0,0,0,0,0,0,0,0,0,0,0,0,0,0,0,0,0,0,0,0,0,0,0,0,0,0,0,0,0,0,0,0,0,0,0,0,0,0,0,0,0,0,0,0,0,0,0,0,0,0,0,null,0,0,0,0,0,0,0,0,"NO",0,0,0,0,0,0,0,0,0,0,0,0,0,0,0,0,0,0,0,0,0,0,0,0,0,0,0,0,0,0,0,0,0,0,0,0,0,0,0,0,0,0,0,0,0,0,0,0,0,0,"NO",0,0,0,0,0,0,0,0,0,0,0,0,0,0,0,0,0,0,0,0,0,0,0,0,0,null,0,0,0,0,0,0,0,0,0,0,0,0,0,0,0,0,0,0,0,0,0,0,0,0,0,0,0,0,0,0,0,0,0,0,0,0,0,0,0,0,0,0,0,0,0,0,0,0,0,0,0,0,0,0,0,0,0,0,0,0,0,0,0,0,0,0,0,0,0,0,0,0,0,0,0,0,0,0,0,0,0,0,0,0,0,0,0,0,0,0,0,0,0,0,0,0,0,0,0,0,0,0,0,0,0,0,0,0,0,0,0,0,0,0,0,0,0,0,0,0,0,0,0,0,0,0,0,0,0,0,0,0,0,0,0,0,0,0,0,0,0,0,0,0,0,0,0,0,0,0,0,0,0,null,0,0,0,0,0,0,0,0,0,0,0,0,0,0,0,0,0,0,0,0,0,0,0,0,0,0,0,0,0,0,0,0,0,0,0,0,0,"NO",0,0,0,0,0,0,0,0,0,0,0,0,0,0,0,0,0,0,0,0,0,0,0,0,0,0,0,0,0,0,0,0,0,0,0,0,0,0,0,0,0,0,0,0,0,0,0,0,0,0,0,0,0,0,0,0,0,0,0,0,0,0,0,0,0,0,0,0,0,0,0,0,0,0,0,0,0,0,0,0,0,0,0,0,0,0,0,0,0,0,0,0,0,0,0,0,0,0,0,0,0,0,0,0,0,"NO",0,0,0,0,0,0,0,0,0,0,0,0,0,0,0,0,0,0,0,0,0,0,0,0,0,0,0,0,0,0,0,0,0,0,0,0,0,0,0,0,0,0,0,0,0,0,0,0,0,0,0,0,0,0,"NO",0,0,0,0,0,null,0,0,0,0,null,null,null,null,"Related to question 34: we asked the other demographic questions, but none of the 13 survivors answered affirmatively. We use the VAWA award to pay personnel costs and the accompanying indirect rate for our Emergency and Transitional Services advocate. Part of her position is supporting semi-long term housing participants and the other portion of her job is within our emergency services component. Due to COVID she assisted families with short term housing assistance (the 13 individual survivors). The majority of her time was spent withing our Emergency Services Department answering our crisis line and assisting some on our restraining order hotline - new with the start of the pandemic. #37: We are not part of the final hearing, the number of orders granted are confirmed, there may have been more granted.",null,null,null,null,null,"Fortunately, feel like services have maintained, despite the significant impact COVID has had on the economy, community, and survivor safety. Most advocates have spent this past year focused on immediate needs related to the changes COVID has brought into their lives. Additionally, staff are spending their work days in home. The are listening to survivors with escalated violence and abuse in isolation. Our most significant struggle is related to not having a enough resources to support staff, our services, and survivors at the level needed. We continuously struggle with staff retention, often due to pay. Turn over is making it difficult on our long term participants, some of them have had multiple advocates. We don't have the budget for support services or general advocacy - meaning advocates with project specific activities have to help out when possible. The project specific funding streams help us explore new and innovative practices but it can be difficult to continue this funding after grants end. Our community partners, government and other nonprofits, are also experiencing significant turn over and budget restraints. This reduces available resources for survivors and consistency with service providers.",null,"The STOP funding helps support one of Home Free's core services. Home Free has been working the Housing First model since 2003 to proved survivors with safe, supportive housing. The STOP Program has allowed us to have consistency in this programming and considering many of the participants are long term, this is very important.",null,"n/a"]
[46110,"OR46110","2021-01-27",2020,"WOMENSPACE","Womenspace - 00058",null,null,null,null,null,null,null,null,"GI5_OrgType_VicServ_DV",null,"NO","NO","Toni",null,"Ryan","WOMENSPACE","1577 Pearl Street, 2nd Fl","Eugene","OR","97401","(541) 485 8232",null,"tonir@womenspaceinc.org","NO",null,0,100,0,100,"YES",1,0,0,0,0,0,0,0,0,0,0,0,0,0,0,0,0,0,0.38,0,null,0,0.38,0,0,0,0,1,0,0,0,0,0,0,0,0,0,0,0,0,0,0,0,"NO",0,0,0,0,0,0,0,0,0,0,0,0,0,0,0,0,0,0,0,0,0,0,0,0,0,0,0,0,null,0,0,0,0,0,0,0,0,0,0,0,0,0,0,0,null,0,0,0,0,0,0,0,0,0,0,0,0,0,0,0,0,0,0,0,0,null,0,0,0,0,0,0,0,0,0,0,0,0,0,0,0,0,0,null,0,0,0,0,0,null,"NO",0,0,0,0,0,0,0,0,0,0,0,0,0,0,0,null,0,0,0,0,0,0,0,0,0,0,0,0,0,0,0,null,0,0,0,0,0,0,0,0,0,0,0,0,0,0,0,0,0,null,null,null,null,null,null,null,"Daily",null,"Daily","Monthly",null,null,null,null,"Daily","Monthly","Daily",null,"Daily",null,"Daily",null,null,null,null,null,"Monthly",null,"Daily","Monthly",null,null,null,null,null,"NO",0,0,0,0,0,0,0,0,0,0,0,0,0,0,null,0,0,0,0,0,0,0,0,0,0,0,0,0,0,0,0,0,0,0,0,0,null,0,0,0,0,0,0,0,0,0,0,0,0,0,0,null,0,0,0,0,0,0,0,0,0,0,0,0,0,0,0,0,0,null,0,0,0,0,0,0,0,0,0,null,0,0,0,0,0,0,0,0,0,0,0,null,"NO",0,0,null,null,null,0,null,null,null,0,null,null,null,0,null,null,null,0,null,null,null,0,null,null,null,0,null,null,null,0,null,null,null,0,null,null,null,null,0,null,null,null,0,null,null,null,0,null,null,null,"NO",0,0,0,0,0,0,0,0,0,0,0,0,0,0,0,0,0,0,0,0,0,0,0,0,0,0,0,0,null,"NO",0,0,0,0,0,0,0,0,0,0,0,0,0,null,0,0,0,0,0,0,0,0,0,0,0,0,0,0,0,0,"NO",0,0,0,0,0,0,0,0,0,0,0,0,0,0,0,0,0,0,0,0,0,0,0,0,0,0,0,0,0,0,0,0,0,0,0,0,0,0,0,0,0,0,0,0,0,0,null,0,0,0,0,0,"YES",1,0,13,0,13,0,0,0,0,0,13,0,13,0,0,0,0,0,13,0,13,0,0,0,0,0,13,0,0,0,0,0,0,0,13,0,0,0,1,0,1,0,0,0,0,0,0,0,0,0,0,0,0,0,0,0,0,0,0,0,0,0,0,0,0,0,0,0,0,0,0,0,0,null,0,0,0,3,0,9,0,1,13,12,1,0,0,13,0,2,10,1,0,13,0,1,2,0,1,0,2,0,8,0,0,0,0,0,0,0,0,0,0,0,0,0,5,0,0,13,0,1,1,2,10,0,0,6,18,0,0,0,0,0,0,0,0,9,22,null,0,0,0,0,0,0,0,0,15,15,0,0,0,0,0,0,0,0,0,0,0,0,0,"NO",0,0,0,0,0,0,0,0,0,0,0,0,0,0,0,0,0,0,0,0,null,0,0,0,0,0,0,0,0,0,0,0,0,0,0,0,0,0,0,0,0,0,0,0,0,0,0,0,0,0,0,0,0,0,0,0,0,0,0,0,0,0,0,0,0,0,0,0,0,0,0,0,0,0,0,0,0,0,0,0,0,0,0,0,0,0,0,0,0,0,0,0,0,0,0,0,0,0,0,0,0,0,0,0,0,0,0,0,0,0,0,0,0,0,0,0,0,0,0,0,0,0,0,0,0,0,0,0,0,0,0,0,0,0,0,0,0,0,0,0,0,0,0,0,0,0,0,0,0,0,0,0,0,0,0,0,0,0,0,0,null,0,0,0,0,0,0,0,0,"NO",0,0,0,0,0,0,0,0,0,0,0,0,0,0,0,0,0,0,0,0,0,0,0,0,0,0,0,0,0,0,0,0,0,0,0,0,0,0,0,0,0,0,0,0,0,0,0,0,0,0,"NO",0,0,0,0,0,0,0,0,0,0,0,0,0,0,0,0,0,0,0,0,0,0,0,0,0,null,0,0,0,0,0,0,0,0,0,0,0,0,0,0,0,0,0,0,0,0,0,0,0,0,0,0,0,0,0,0,0,0,0,0,0,0,0,0,0,0,0,0,0,0,0,0,0,0,0,0,0,0,0,0,0,0,0,0,0,0,0,0,0,0,0,0,0,0,0,0,0,0,0,0,0,0,0,0,0,0,0,0,0,0,0,0,0,0,0,0,0,0,0,0,0,0,0,0,0,0,0,0,0,0,0,0,0,0,0,0,0,0,0,0,0,0,0,0,0,0,0,0,0,0,0,0,0,0,0,0,0,0,0,0,0,0,0,0,0,0,0,0,0,0,0,0,0,0,0,0,0,0,0,null,0,0,0,0,0,0,0,0,0,0,0,0,0,0,0,0,0,0,0,0,0,0,0,0,0,0,0,0,0,0,0,0,0,0,0,0,0,"NO",0,0,0,0,0,0,0,0,0,0,0,0,0,0,0,0,0,0,0,0,0,0,0,0,0,0,0,0,0,0,0,0,0,0,0,0,0,0,0,0,0,0,0,0,0,0,0,0,0,0,0,0,0,0,0,0,0,0,0,0,0,0,0,0,0,0,0,0,0,0,0,0,0,0,0,0,0,0,0,0,0,0,0,0,0,0,0,0,0,0,0,0,0,0,0,0,0,0,0,0,0,0,0,0,0,"NO",0,0,0,0,0,0,0,0,0,0,0,0,0,0,0,0,0,0,0,0,0,0,0,0,0,0,0,0,0,0,0,0,0,0,0,0,0,0,0,0,0,0,0,0,0,0,0,0,0,0,0,0,0,0,"NO",0,0,0,0,0,null,0,0,0,0,null,null,null,null,null,null,null,null,null,null,"Access to affordable housing is the most significant area of remaining need for survivors in Lane County. Oregon had an affordable housing crisis before the COVID 19 pandemic. Lane County has a disproportionate number of homeless residents compared to other states.  Survivors were faced with an inadequate housing supply and rising rents at the beginning of the year and this has been exacerbated with the pandemic.  There are no Section 8 vouchers being distributed. The only way a Section 8 voucher would become available is if someone's income increases beyond the eligibility. The unemployment and job losses created by the pandemic has kept low income people below the poverty line.",null,"STOP Program funding allows Womenspace to consistently provide well trained, compassionate advocacy to survivors in Lane County. Stable funding for direct services is critical to establishing trust in the community. This funding ensures the continuity of one part time advocate position to work with survivors."]
[46111,"OR46111","2021-01-31",2020,"YWCA of Greater Portland","Joint-YWCA-00059",null,null,null,null,null,null,null,null,"GI5_OrgType_VicServ_Dual",null,"NO","NO","Jaidra","M","Hennessey","YWCA of Greater Portland","PO Box 4587","Portland","OR","97208","971-601-0343",null,"jaidrah@ywcapdx.org","NO",null,0,100,0,100,"YES",1,0,0,0,0,0,0,0,0,0,0,0,0,0,0,0,0,0,0.3,0,null,0,0.3,0,0,0,0,1,0,0,0,0,0,0,0,0,0,0,0,0,0,0,0,"NO",0,0,0,0,0,0,0,0,0,0,0,0,0,0,0,0,0,0,0,0,0,0,0,0,0,0,0,0,null,0,0,0,0,0,0,0,0,0,0,0,0,0,0,0,null,0,0,0,0,0,0,0,0,0,0,0,0,0,0,0,0,0,0,0,0,null,0,0,0,0,0,0,0,0,0,0,0,0,0,0,0,0,0,null,0,0,0,0,0,null,"NO",0,0,0,0,0,0,0,0,0,0,0,0,0,0,0,null,0,0,0,0,0,0,0,0,0,0,0,0,0,0,0,null,0,0,0,0,0,0,0,0,0,0,0,0,0,0,0,0,0,null,"Monthly","Monthly",null,null,"Monthly",null,"Daily",null,"Daily","Monthly","Weekly","Quarterly","Weekly","Monthly","Daily","Monthly","Daily","Monthly","Weekly",null,"Weekly","Monthly","Monthly",null,null,null,"Weekly","Monthly","Daily","Monthly",null,null,"VA IPV programs","Monthly","Quarterly","NO",0,0,0,0,0,0,0,0,0,0,0,0,0,0,null,0,0,0,0,0,0,0,0,0,0,0,0,0,0,0,0,0,0,0,0,0,null,0,0,0,0,0,0,0,0,0,0,0,0,0,0,null,0,0,0,0,0,0,0,0,0,0,0,0,0,0,0,0,0,null,0,0,0,0,0,0,0,0,0,null,0,0,0,0,0,0,0,0,0,0,0,null,"NO",0,0,null,null,null,0,null,null,null,0,null,null,null,0,null,null,null,0,null,null,null,0,null,null,null,0,null,null,null,0,null,null,null,0,null,null,null,null,0,null,null,null,0,null,null,null,0,null,null,null,"NO",0,0,0,0,0,0,0,0,0,0,0,0,0,0,0,0,0,0,0,0,0,0,0,0,0,0,0,0,null,"NO",0,0,0,0,0,0,0,0,0,0,0,0,0,null,0,0,0,0,0,0,0,0,0,0,0,0,0,0,0,0,"NO",0,0,0,0,0,0,0,0,0,0,0,0,0,0,0,0,0,0,0,0,0,0,0,0,0,0,0,0,0,0,0,0,0,0,0,0,0,0,0,0,0,0,0,0,0,0,null,0,0,0,0,0,"YES",1,0,20,0,20,0,0,0,0,0,20,0,20,0,0,0,0,0,20,0,20,0,0,0,0,0,20,0,0,0,0,0,0,0,20,0,0,0,33,0,33,0,0,0,0,0,0,0,0,0,0,0,0,0,0,0,0,0,0,0,0,0,0,0,0,0,0,0,0,0,0,0,0,null,2,2,13,3,1,4,2,0,27,13,5,2,0,20,0,4,14,2,0,20,1,6,0,1,1,0,0,0,18,0,0,0,0,0,1,0,0,1,0,0,0,0,0,0,0,20,0,0,0,0,0,1,1,20,32,0,0,0,0,0,0,0,0,20,183,null,0,0,0,0,0,0,0,0,120,150,0,0,0,0,0,0,0,0,0,0,0,0,0,"NO",0,0,0,0,0,0,0,0,0,0,0,0,0,0,0,0,0,0,0,0,null,0,0,0,0,0,0,0,0,0,0,0,0,0,0,0,0,0,0,0,0,0,0,0,0,0,0,0,0,0,0,0,0,0,0,0,0,0,0,0,0,0,0,0,0,0,0,0,0,0,0,0,0,0,0,0,0,0,0,0,0,0,0,0,0,0,0,0,0,0,0,0,0,0,0,0,0,0,0,0,0,0,0,0,0,0,0,0,0,0,0,0,0,0,0,0,0,0,0,0,0,0,0,0,0,0,0,0,0,0,0,0,0,0,0,0,0,0,0,0,0,0,0,0,0,0,0,0,0,0,0,0,0,0,0,0,0,0,0,0,null,0,0,0,0,0,0,0,0,"NO",0,0,0,0,0,0,0,0,0,0,0,0,0,0,0,0,0,0,0,0,0,0,0,0,0,0,0,0,0,0,0,0,0,0,0,0,0,0,0,0,0,0,0,0,0,0,0,0,0,0,"NO",0,0,0,0,0,0,0,0,0,0,0,0,0,0,0,0,0,0,0,0,0,0,0,0,0,null,0,0,0,0,0,0,0,0,0,0,0,0,0,0,0,0,0,0,0,0,0,0,0,0,0,0,0,0,0,0,0,0,0,0,0,0,0,0,0,0,0,0,0,0,0,0,0,0,0,0,0,0,0,0,0,0,0,0,0,0,0,0,0,0,0,0,0,0,0,0,0,0,0,0,0,0,0,0,0,0,0,0,0,0,0,0,0,0,0,0,0,0,0,0,0,0,0,0,0,0,0,0,0,0,0,0,0,0,0,0,0,0,0,0,0,0,0,0,0,0,0,0,0,0,0,0,0,0,0,0,0,0,0,0,0,0,0,0,0,0,0,0,0,0,0,0,0,0,0,0,0,0,0,null,0,0,0,0,0,0,0,0,0,0,0,0,0,0,0,0,0,0,0,0,0,0,0,0,0,0,0,0,0,0,0,0,0,0,0,0,0,"NO",0,0,0,0,0,0,0,0,0,0,0,0,0,0,0,0,0,0,0,0,0,0,0,0,0,0,0,0,0,0,0,0,0,0,0,0,0,0,0,0,0,0,0,0,0,0,0,0,0,0,0,0,0,0,0,0,0,0,0,0,0,0,0,0,0,0,0,0,0,0,0,0,0,0,0,0,0,0,0,0,0,0,0,0,0,0,0,0,0,0,0,0,0,0,0,0,0,0,0,0,0,0,0,0,0,"NO",0,0,0,0,0,0,0,0,0,0,0,0,0,0,0,0,0,0,0,0,0,0,0,0,0,0,0,0,0,0,0,0,0,0,0,0,0,0,0,0,0,0,0,0,0,0,0,0,0,0,0,0,0,0,"NO",0,0,0,0,0,null,0,0,0,0,null,"Coordinated community response has been vital to maintaining services to survivors throughout the reporting period due to the Covid-19 pandemic. Coordination among community programs within Multnomah County, Oregon and the TriCounty Portland Metro area allowed D/SV services to pivot to remote service provision quickly after stay at home orders were issued in our community. Coordinated support from state, county and city officials provided funding to purchase techonology and supplies for advocates to work from home, to increase safety, as well as PPE for staff and survivors both for when in person meetings were vital to the safety and stability of a family or individual but also for day to day needs.D/SV providers also coordinated so advocates and systems partners would have up to date info on how to access programs, determine what services were not in operation and address barriers to services, such as lack of technological access, misinformation about program closures and advocate with for changes with court procedures. This process also created additional access points for survivors to access services when traditional referral avenues were limited. Systems collaboration was highly instrumental in requesting the local courts alter their methods of hearing restraining orders due to closures of courts and D/SV specific remote family justice centers such as the Gateway Center, to allow restraining order petitioners to call in from home, as opposed to needing access to video chat features, which create challenges for those with limited technological proficiency, lack of access to devices or sufficient wifi to support video chat. Due to the coordinated response of D/SV providers and support from county officials, the courts changed procedures to allow increased access methods.",null,null,null,null,null,null,null,null,"Due to the exacerbation of existing inequalities during the pandemic, the greatest need areas of significant need at this time are for financial assistance including access to income, rent relief, childcare, utility assistance, healthcare, PPE, internet and mental health resources. Survivors served by our programs have been able to access some of these resources through our programs and those of community partners both in the nonprofit and governmental sectors but the ongoing financial, physical and emotional toll of the pandemic is evident, not only in the increased need for assistance, but the extended wait times for assistance that were often overburdened before the pandemic. Robust, easily accessible financial supports are integral to many of the survivors maintaining, achieving or restoring their independence and self sufficiency. Increased systems coordination and accountability amongst governmental agencies are also needed for supporting survivors and others in the community. Simple advocacy efforts to assist survivors with gaining stability: replacing a driver's license; obtaining records of a dismissed court case; contacting DHS, housing authority and or unemployment workers to discuss needs or verify assistance, etc have all gone from a task that can be completed within an hour or two to at many times weeks or month long efforts. To better serve citizens, including survivors, these processes and turnaround times need to be more clearly communicated, efficient and accessible as they are essential needs to community members need to access to function in daily life. Perhaps the biggest need for survivors of abuse however is the need for increased accountability for law enforcement in responding to DV/SA calls, or the development of community based justice models that can provide increased response to survivors in need of intervention. Throughout 2020, survivors who were already reluctant to contact law enforcement due to systems trauma, fears of retaliation from abusers and or law enforcement, abuse from police, fear for the safety of perpetrators of abuse and lack of successful outcomes, particularly from survivors from communities of color and or immigrant communities. While these concerns have been omnipresent for years, these issues have been exacerbated by the pandemic and widespread social justice uprisings. In response, survivors have reported consistent and significant delays in police response or no response at all. Many survivors have reported 911 refusing to accept calls for help from secondary survivors, neighbors or concerned family, even when they provide direct info on an ongoing crime, instead being told the victim will need to call and make a report directly. Conversely, multiple survivors have reported that during ongoing abusive incidents, police officers responded to calls for help by texting or calling the abuser to inquire about the scenario. Survivors have also reported being told that police will not respond to DV calls, \"people don't want us to arrest black people so we cannot help you\" and in a particularly outrageous interaction, \"if you want something to be done about your DV, buy a gun and handle it yourself\". These many instances have furthered the chasm between LEO and the public, adding to an already significant distrust of the police. Due to these concerns, increased funding and support for community based programs for transformational and or restorative justice, community interventions as an alternatives to police intervention in ongoing situations need to be explored to allow survivors a means to connect to responsive and appropriate services that support safety and personal agency as opposed to further victimization.",null,"VAWA STOP funding has allowed us to increase capacity by bringing on of our advocates from part time to full time. Due to the STOP allocation received by our agency being very small and static, it does not significantly impact program expansion due to it being such a small portion of our overall program budget. However increased funding could allow program expansion to improve services and systems collaboration as our programs are often at or over capacity and in need of additional staff to meet the demand on programs.",null,"N/A",null,null,null,"Our data collection continues to improve through updates to the HMIS SErvice Point comp site managed by Multnomah County. Due to changes is systems and data collection requirements, some methods of collections and categories changed throughout the calenda"]

{"sheet":"Checks","index":1,"n_rows":1159,"n_cols":1309,"rows_kept":1159,"cut":false,"hidden":true,"merged":[[6,4,6,8],[6,11,6,12],[7,11,7,12],[8,11,8,12]]}
["Step 1 - Paste row 1 (containing the variable names) from the state's Excel raw data file in the row below:"]
["ID","OVWID","GI1_Date","GI2_Year","GI3_GranteeName","GI4_Subgrant1","GI4_Subgrant2","GI4_Subgrant3","GI4_Subgrant4","GI4_Subgrant5","GI4_Subgrant6","GI4_Subgrant7","GI4_Subgrant8","GI4_Subgrant9","GI5_OrgType","GI5_OtherDesc","GI6_FBO","GI6_CultSpec","GI7_FIrstName","GI7_MI","GI7_LastName","GI7_OrgName","GI7_Address","GI7_City","GI7_State","GI7_Zip","GI7_Telephone","GI7_Fax","GI7_Email","GI8_TribalPop","GI8_TribalPopDesc","GI9_Prct_SA","GI9_Prct_DV","GI9_Prct_STK","GI9_TOTAL","St_FundsUsed_YesNo","St_FundsUsed_1or0","St1_Admin","St1_Attorney","St1_Counselor","St1_Court","St1_ITstaff","St1_Investigator","St1_LEO","St1_LegalAdv","St1_Outreach","St1_Paralegal","St1_Probation","St1_PrgmCoord","St1_Prosecutor","St1_SANE","St1_SuppStaff","St1_Trainer","St1_Translator","St1_VicAdv","St1_VicAssist","St1_OtherDesc","St1_Other","St1_TOTAL","PA13_STOP_1","PA13_STOP_2","PA13_STOP_3","PA13_STOP_4","PA13_STOP_5","PA13_STOP_6","PA13_STOP_7","PA13_STOP_8","PA13_STOP_9","PA13_STOP_10","PA13_STOP_11","PA13_STOP_12","PA13_STOP_13","PA13_STOP_14","PA13_STOP_15","PA13_STOP_16","PA13_STOP_17","PA13_STOP_18","PA13_STOP_19","PA13_STOP_20","Tr_FundsUsed_YesNo","Tr_FundsUsed_1or0","Tr1_TrnEvents","Tr2_AdvOrg","Tr2_Attorney","Tr2_BIP","Tr2_Corrections","Tr2_Court","Tr2_DisOrg","Tr2_Educator","Tr2_Elder","Tr2_FaithBased","Tr2_Govt","Tr2_HealthProf","Tr2_ImmOrg","Tr2_LEO","Tr2_LegServ","Tr2_HealthProf_MH","Tr2_Prosecutor","Tr2_SexOffTreat","Tr2_HealthProf_SANE","Tr2_SocialServ","Tr2_SubAbuse","Tr2_SupVisit","Tr2_Translator","Tr2_Govt_Tribal","Tr2_VSProv_VicAdv","Tr2_VSProv_VicAssist","Tr2_Volunteer","Tr2_OtherDesc","Tr2_Other","Tr2_TOTAL","Tr3_Gen_AdvResp","Tr3_Gen_ChildWit","Tr3_Gen_Confidential","Tr3_Gen_Overview_DAT","Tr3_Gen_Overview_DV","Tr3_Gen_MandReport","Tr3_Gen_Traffick","Tr3_Gen_Incarcerated","Tr3_Gen_SafetyPlan","Tr3_Gen_Overview_SA","Tr3_Gen_Overview_STK","Tr3_Gen_SupVisits","Tr3_Gen_Other","Tr3_Gen_OtherDesc","Tr3_JS_CivCrtProc","Tr3_JS_CrimCrtProc","Tr3_JS_DVbyLEO","Tr3_JS_Statutes_DV","Tr3_JS_Firearms","Tr3_JS_HomicidePrev","Tr3_JS_PredomAggressor","Tr3_JS_Immigration","Tr3_JS_Response_Judicial","Tr3_JS_Response_LEO","Tr3_JS_ProArrest","Tr3_JS_Response_Probation","Tr3_JS_Response_Prosecutor","Tr3_JS_POEnforce","Tr3_JS_EvidCollect_SA","Tr3_JS_Statutes_SA","Tr3_JS_FrnExam_SA","Tr3_JS_Statutes_STK","Tr3_JS_TribJuris","Tr3_JS_Other","Tr3_JS_OtherDesc","Tr3_US_AmerInd","Tr3_US_Asian","Tr3_US_Black","Tr3_US_Deaf","Tr3_US_Elderly","Tr3_US_Hispanic","Tr3_US_Homeless","Tr3_US_Immigrant","Tr3_US_Incarcerated","Tr3_US_LGBTI","Tr3_US_Pacific","Tr3_US_Disability","Tr3_US_LEP","Tr3_US_MH","Tr3_US_SubAbuse","Tr3_US_Rural","Tr3_US_Other","Tr3_US_OtherDesc","Tr3_CR_CommResp_SA","Tr3_CR_CCR","Tr3_CR_RespTeams","Tr3_CR_Technology","Tr3_CR_Other","Tr3_CR_OtherDesc","Ed_FundsUsed_YesNo","Ed_FundsUsed_1or0","Ed1_EdEvents","Ed2a_ChildCare","Ed2a_AdvGroup","Ed2a_Business","Ed2a_CommGroup","Ed2a_CommMember","Ed2a_Educator","Ed2a_Student_Elem","Ed2a_FaithBased","Ed2a_Student_MSandHS","Ed2a_Parents","Ed2a_Student_Univ","Ed2a_Victim","Ed2a_Other","Ed2a_OtherDesc","Ed3_Gen_Overview_DAT","Ed3_Gen_Prevention_DAT","Ed3_Gen_Overview_DV","Ed3_Gen_Prevention_DV","Ed3_Gen_HealthRel_6to12","Ed3_Gen_HealthyRel_Comm","Ed3_Gen_Healthy_Univ","Ed3_Gen_IndigenousPrev","Ed3_Gen_SafetyPlan","Ed3_Gen_Overview_SA","Ed3_Gen_Prevention_SA","Ed3_Gen_Overview_STK","Ed3_Gen_Prevention_STK","Ed3_Gen_WorkVIolence","Ed3_Gen_Other","Ed3_Gen_OtherDesc","Ed3_US_AmerInd","Ed3_US_Asian","Ed3_US_Black","Ed3_US_Deaf","Ed3_US_Elderly","Ed3_US_Rural_GeoIsolated","Ed3_US_Hispanic","Ed3_US_Homeless","Ed3_US_Immigrant","Ed3_US_LGBTI","Ed3_US_Pacific","Ed3_US_Disability","Ed3_US_MH","Ed3_US_SubAbuse","Ed3_US_Rural","Ed3_US_Urban","Ed3_US_Other","Ed3_US_OtherDesc","CCR1_AdvOrg_Ref","CCR1_AdvOrg_Mtg","CCR1_BIP_Ref","CCR1_BIP_Mtg","CCR1_Corrections_Ref","CCR1_Corrections_Mtg","CCR1_Court_Ref","CCR1_Court_Mtg","CCR1_DVOrg_Ref","CCR1_DVOrg_Mtg","CCR1_Education_Ref","CCR1_Education_Mtg","CCR1_FaithBased_Ref","CCR1_FaithBased_Mtg","CCR1_Govt_Ref","CCR1_Govt_Mtg","CCR1_HealthMH_Ref","CCR1_HealthMH_Mtg","CCR1_LE_Ref","CCR1_LE_Mtg","CCR1_LegalOrg_Ref","CCR1_LegalOrg_Mtg","CCR1_Prosecutor_Ref","CCR1_Prosecutor_Mtg","CCR1_SexOffTreat_Ref","CCR1_SexOffTreat_Mtg","CCR1_SAOrg_Ref","CCR1_SAOrg_Mtg","CCR1_SocialServ_Ref","CCR1_SocialServ_Mtg","CCR1_TribGovt_Ref","CCR1_TribGovt_Mtg","CCR1_OtherDesc","CCR1_Other_Ref","CCR1_Other_Mtg","Pol_FundsUsed_YesNo","Pol_FundsUsed_1or0","Pol1_VS_Underserved","Pol1_VS_SubAbuseMH","Pol1_VS_ElderDis","Pol1_VS_Incarcerated","Pol1_VS_SexOrient","Pol1_VS_Confidential","Pol1_VS_HomicidePrev","Pol1_VS_MandTrain","Pol1_VS_JaneDoe","Pol1_VS_EvidCollect_SA","Pol1_VS_Diversity","Pol1_VS_CrimeVicComp","Pol1_VS_Other","Pol1_VS_OtherDesc","Pol1_LE_Underserved","Pol1_LE_ElderDis","Pol1_LE_Incarcerated","Pol1_LE_SexOrient","Pol1_LE_DVbyLEO","Pol1_LE_HomicidePrev","Pol1_LE_PredomAggressor","Pol1_LE_ImmAccessPO","Pol1_LE_MandTrain","Pol1_LE_NoCharge_Serv","Pol1_LE_NoCharge_Exam","Pol1_LE_NoCharge_Invest","Pol1_LE_NoPolygraph","Pol1_LE_InternetDisc","Pol1_LE_ProArrest","Pol1_LE_JaneDoe","Pol1_LE_POEnforce","Pol1_LE_InformVic","Pol1_LE_EvidCollect_SA","Pol1_LE_ResponseSA","Pol1_LE_Other","Pol1_LE_OtherDesc","Pol1_Pros_Underserved","Pol1_Pros_ElderDis","Pol1_Pros_Incarcerated","Pol1_Pros_SexOrient","Pol1_Pros_MandTrain","Pol1_Pros_NoCharge_Pros","Pol1_Pros_NoPolygraph","Pol1_Pros_InternetDisc","Pol1_Pros_POEnforce","Pol1_Pros_EvidCollect_SA","Pol1_Pros_ResponseSA","Pol1_Pros_VerticalPros","Pol1_Pros_Notification","Pol1_Pros_Other","Pol1_Pros_OtherDesc","Pol1_Crt_AccTrial","Pol1_Crt_Underserved","Pol1_Crt_ElderDis","Pol1_Crt_Incarcerated","Pol1_Crt_SexOrient","Pol1_Crt_DVDocket","Pol1_Crt_FullFaithPO","Pol1_Crt_ImmAccessPO","Pol1_Crt_JudMonitor","Pol1_Crt_MandTrain","Pol1_Crt_NoCharge_PO","Pol1_Crt_InternetDisc","Pol1_Crt_MutualPO","Pol1_Crt_CrtSecurity","Pol1_Crt_EvidCollect_SA","Pol1_Crt_StandardPO","Pol1_Crt_Other","Pol1_Crt_OtherDesc","Pol1_Prob_Underserved","Pol1_Prob_ElderDis","Pol1_Prob_Incarcerated","Pol1_Prob_SexOrient","Pol1_Prob_MandTrain","Pol1_Prob_ProtectVIc","Pol1_Prob_VicInclusion","Pol1_Prob_Notification","Pol1_Prob_Other","Pol1_Prob_OtherDesc","Pol1_HC_AdvER","Pol1_HC_Underserved","Pol1_HC_AvoidTrauma","Pol1_HC_ElderDis","Pol1_HC_Incarcerated","Pol1_HC_SexOrient","Pol1_HC_NoCharge_Exam","Pol1_HC_MandTrain","Pol1_HC_Screening","Pol1_HC_EvidCollect_SA","Pol1_HC_Other","Pol1_HC_OtherDesc","Prod_FundsUsed_YesNo","Prod_FundsUsed_1or0","Prod1_Brochures1_Dev","Prod1_Brochures1_Title","Prod1_Brochures1_Aud","Prod1_Brochures1_Lang","Prod1_Brochures2_Dev","Prod1_Brochures2_Title","Prod1_Brochures2_Aud","Prod1_Brochures2_Lang","Prod1_Brochures3_Dev","Prod1_Brochures3_Title","Prod1_Brochures3_Aud","Prod1_Brochures3_Lang","Prod1_Manuals1_Dev","Prod1_Manuals1_Title","Prod1_Manuals1_Aud","Prod1_Manuals1_Lang","Prod1_Manuals2_Dev","Prod1_Manuals2_Title","Prod1_Manuals2_Aud","Prod1_Manuals2_Lang","Prod1_Manuals3_Dev","Prod1_Manuals3_Title","Prod1_Manuals3_Aud","Prod1_Manuals3_Lang","Prod1_TrnMatCurr1_Dev","Prod1_TrnMatCurr1_Title","Prod1_TrnMatCurr1_Aud","Prod1_TrnMatCurr1_Lang","Prod1_TrnMatCurr2_Dev","Prod1_TrnMatCurr2_Title","Prod1_TrnMatCurr2_Aud","Prod1_TrnMatCurr2_Lang","Prod1_TrnMatCurr3_Dev","Prod1_TrnMatCurr3_Title","Prod1_TrnMatCurr3_Aud","Prod1_TrnMatCurr3_Lang","Prod1_OtherDesc","Prod1_Other1_Dev","Prod1_Other1_Title","Prod1_Other1_Aud","Prod1_Other1_Lang","Prod1_Other2_Dev","Prod1_Other2_Title","Prod1_Other2_Aud","Prod1_Other2_Lang","Prod1_Other3_Dev","Prod1_Other3_Title","Prod1_Other3_Aud","Prod1_Other3_Lang","Data_FundsUsed_YesNo","Data_FundsUsed_1or0","Data1_Develop","Data1_Install","Data1_Expand","Data1_Link","Data1_Share","Data1_Manage","Data1_Purchase","Data2_Arrests","Data2_Bail","Data2_CaseMgmt","Data2_Compliance","Data2_Convictions","Data2_DocketMgmt","Data2_Evaluation","Data2_IncidentRep","Data2_Probation","Data2_Prosecution","Data2_PO","Data2_Recidivism","Data2_Sentencing","Data2_EvidCollect_SA","Data2_STKOrders","Data2_VicNotification","Data2_VicServices","Data2_ViolPO","Data2_Warrants","Data2_Other","Data2_OtherDesc","SU_FundsUsed_YesNo","SU_FundsUsed_1or0","SU1_Develop_LE","SU1_Develop_Pros","SU1_Develop_Crt","SU1_Develop_Prob","SU1_Support_LE","SU1_Support_Pros","SU1_Support_Crt","SU1_Support_Prob","SU1_Train_LE","SU1_Train_Pros","SU1_Train_Crt","SU1_Train_Prob","SU1_OtherDesc","SU1_Other_LE","SU1_Other_Pros","SU1_Other_Crt","SU1_Other_Prob","SU2_SA_LE","SU2_SA_Pros","SU2_SA_Crt","SU2_SA_Prob","SU2_DV_LE","SU2_DV_Pros","SU2_DV_Crt","SU2_DV_Prob","SU2_STK_LE","SU2_STK_Pros","SU2_STK_Crt","SU2_STK_Prob","SI_FundsUsed_YesNo","SI_FundsUsed_1or0","SI1_Evaluation_VS","SI1_Evaluation_LE","SI1_Evaluation_Pros","SI1_Evaluation_Crt","SI1_Evaluation_Prob","SI1_FatalityRev_VS","SI1_FatalityRev_LE","SI1_FatalityRev_Pros","SI1_FatalityRev_Crt","SI1_FatalityRev_Prob","SI1_Interpreter_VS","SI1_Interpreter_LE","SI1_Interpreter_Pros","SI1_Interpreter_Crt","SI1_Interpreter_Prob","SI1_LAP_VS","SI1_LAP_LE","SI1_LAP_Pros","SI1_LAP_Crt","SI1_LAP_Prob","SI1_Language_VS","SI1_Language_LE","SI1_Language_Pros","SI1_Language_Crt","SI1_Language_Prob","SI1_MtgTrib_VS","SI1_MtgTrib_LE","SI1_MtgTrib_Pros","SI1_MtgTrib_Crt","SI1_MtgTrib_Prob","SI1_SafetyAudits_VS","SI1_SafetyAudits_LE","SI1_SafetyAudits_Pros","SI1_SafetyAudits_Crt","SI1_SafetyAudits_Prob","SI1_Security_VS","SI1_Security_LE","SI1_Security_Pros","SI1_Security_Crt","SI1_Security_Prob","SI1_Translation_VS","SI1_Translation_LE","SI1_Translation_Pros","SI1_Translation_Crt","SI1_Translation_Prob","SI1_OtherDesc","SI1_Other_VS","SI1_Other_LE","SI1_Other_Pros","SI1_Other_Crt","SI1_Other_Prob","VS_FundsUsed_YesNo","VS_FundsUsed_1or0","VS1_Srvd_SA","VS1_Srvd_DV","VS1_Srvd_STK","VS1_TOTAL_Srvd","VS1_PSrvd_SA","VS1_PSrvd_DV","VS1_PSrvd_STK","VS1_TOTAL_PSrvd","VS1_SrvdPSrvd_SA","VS1_SrvdPSrvd_DV","VS1_SrvdPSrvd_STK","VS1_TOTAL_SrvdPSrvd","VS1_NotSrvd_SA","VS1_NotSrvd_DV","VS1_NotSrvd_STK","VS1_TOTAL_NotSrvd","VS2_NewSrvd_SA","VS2_NewSrvd_DV","VS2_NewSrvd_STK","VS2_TOTAL_NewSrvd","VS3_AddSA_SA","VS3_AddDV_SA","VS3_AddSTK_SA","VS3_AddTFK_SA","VS3_AddSA_DV","VS3_AddDV_DV","VS3_AddSTK_DV","VS3_AddTFK_DV","VS3_AddSA_STK","VS3_AddDV_STK","VS3_AddSTK_STK","VS3_AddTFK_STK","VS3_TOTAL_AddSA","VS3_TOTAL_AddDV","VS3_TOTAL_AddSTK","VS3_TOTAL_AddTFK","IE1_SrvdPSrvd_SA","IE1_SrvdPSrvd_DV","IE1_SrvdPSrvd_STK","IE1_TOTAL_SrvdPSrvd","VS4_Conflict_PSrvd","VS4_Conflict_NotSrvd","VS4_StatReq_PSrvd","VS4_StatReq_NotSrvd","VS4_Hours_PSrvd","VS4_Hours_NotSrvd","VS4_CulturalSrv_PSrvd","VS4_CulturalSrv_NotSrvd","VS4_Language_PSrvd","VS4_Language_NotSrvd","VS4_Disability_PSrvd","VS4_Disability_NotSrvd","VS4_Childcare_PSrvd","VS4_Childcare_NotSrvd","VS4_Capacity_PSrvd","VS4_Capacity_NotSrvd","VS4_Rules_PSrvd","VS4_Rules_NotSrvd","VS4_Resources_PSrvd","VS4_Resources_NotSrvd","VS4_MH_PSrvd","VS4_MH_NotSrvd","VS4_SubAbuse_PSrvd","VS4_SubAbuse_NotSrvd","VS4_NotApprop_PSrvd","VS4_NotApprop_NotSrvd","VS4_MaleAdolescent_PSrvd","VS4_MaleAdolescent_NotSrvd","VS4_Transport_PSrvd","VS4_Transport_NotSrvd","VS4_Other_PSrvd","VS4_Other_NotSrvd","VS4_OtherDesc","VS5_Race_AmerInd","VS5_Race_Asian","VS5_Race_Black","VS5_Race_Hispanic","VS5_Race_Pacific","VS5_Race_White","VS5_Race_Other","VS5_Race_Unknown","VS5_TOTAL_Race","VS5_Gen_Female","VS5_Gen_Male","VS5_Gen_Trans","VS5_Gen_Unknown","VS5_TOTAL_Gen","VS5_Age_b11to17","VS5_Age_c18to24","VS5_Age_d25to59","VS5_Age_e60plus","VS5_Age_Unknown","VS5_TOTAL_Age","VS5_Other_LGBTI","VS5_Other_Disability","VS5_Other_LEP","VS5_Other_Deaf","VS5_Other_Imm","VS5_Other_Incarcerated","VS5_Other_Rural","VS6_SA_Spouse","VS6_DV_Spouse","VS6_STK_Spouse","VS6_SA_Family","VS6_DV_Family","VS6_STK_Family","VS6_SA_Dating","VS6_DV_Dating","VS6_STK_Dating","VS6_SA_Acquaint","VS6_DV_Acquaint","VS6_STK_Acquaint","VS6_SA_Stranger","VS6_STK_Stranger","VS6_SA_Unknown","VS6_DV_Unknown","VS6_STK_Unknown","VS6_TOTAL_SA","VS6_TOTAL_DV","VS6_TOTAL_STK","VS7_Vic_CivLegalAdv","VS7_Times_CivLegalAdv","VS7_Vic_Counsel","VS7_Times_Counsel","VS7_Vic_CrimJustAdv","VS7_Times_CrimJustAdv","VS7_Vic_CrisisInt","VS7_Times_CrisisInt","VS7_Vic_ForensicExam","VS7_Times_ForensicExam","VS7_Vic_HospResp","VS7_Times_HospResp","VS7_Vic_Language","VS7_Times_Language","VS7_Vic_Transport","VS7_Times_Transport","VS7_Vic_VicAdv","VS7_Times_VicAdv","VS7_OtherDesc","VS7_Vic_Other","VS7_Times_Other","VS7_Vic_Shelter","VS7_Fam_Shelter","VS7_Bednight_Shelter","VS7_Vic_Thousing","VS7_Fam_Thousing","VS7_Bednight_Thousing","VS8_Hotline_Vic","VS8_Hotline_Total","VS9_Notification","VS10_Req_Temp_SA","VS10_Req_Final_SA","VS10_Grnt_Temp_SA","VS10_Grnt_Final_SA","VS10_Req_Temp_DV","VS10_Req_Final_DV","VS10_Grnt_Temp_DV","VS10_Grnt_Final_DV","VS10_Req_Temp_STK","VS10_Req_Final_STK","VS10_Grnt_Temp_STK","VS10_Grnt_Final_STK","LS_FundsUsed_YesNo","LS_FundsUsed_1or0","LS1_PO","LS1_FamMat","LS1_FamMat_Divorce","LS1_FamMat_Custody","LS1_FamMat_Paternity","LS1_FamMat_ChildSupp","LS1_FamMat_Other","LS1_Consumer","LS1_Employment","LS1_Income","LS1_Housing","LS1_ImmMat","LS1_ImmMat_VAWA","LS1_ImmMat_Cancel","LS1_ImmMat_Uvisa","LS1_ImmMat_Tvisa","LS1_ImmMat_Other","LS1_Criminal","LS1_Education","LS1_OtherDesc","LS1_Other","LS2_LegalAssist","LS2_LegalAssist_Multiple","LS3_PO_Info","LS3_PO_BriefService","LS3_PO_AdminDec","LS3_PO_CrtDec","LS3_PO_NegRes_Filed","LS3_PO_NegRes_NoFiled","LS3_PO_Withdrew","LS3_PO_Other","LS3_Divorce_Info","LS3_Divorce_BriefService","LS3_Divorce_AdminDec","LS3_Divorce_CrtDec","LS3_Divorce_NegRes_Filed","LS3_Divorce_NegRes_NoFiled","LS3_Divorce_Withdrew","LS3_Divorce_Other","LS3_Custody_Info","LS3_Custody_BriefService","LS3_Custody_AdminDec","LS3_Custody_CrtDec","LS3_Custody_NegRes_Filed","LS3_Custody_NegRes_NoFiled","LS3_Custody_Withdrew","LS3_Custody_Other","LS3_Paternity_Info","LS3_Paternity_BriefService","LS3_Paternity_AdminDec","LS3_Paternity_CrtDec","LS3_Paternity_NegRes_Filed","LS3_Paternity_NegRes_NoFiled","LS3_Paternity_Withdrew","LS3_Paternity_Other","LS3_ChildSupp_Info","LS3_ChildSupp_BriefService","LS3_ChildSupp_AdminDec","LS3_ChildSupp_CrtDec","LS3_ChildSupp_NegRes_Filed","LS3_ChildSupp_NegRes_NoFiled","LS3_ChildSupp_Withdrew","LS3_ChildSupp_Other","LS3_FamOther_Info","LS3_FamOther_BriefService","LS3_FamOther_AdminDec","LS3_FamOther_CrtDec","LS3_FamOther_NegRes_Filed","LS3_FamOther_NegRes_NoFiled","LS3_FamOther_Withdrew","LS3_FamOther_Other","LS3_Consumer_Info","LS3_Consumer_BriefService","LS3_Consumer_AdminDec","LS3_Consumer_CrtDec","LS3_Consumer_NegRes_Filed","LS3_Consumer_NegRes_NoFiled","LS3_Consumer_Withdrew","LS3_Consumer_Other","LS3_Employment_Info","LS3_Employment_BriefService","LS3_Employment_AdminDec","LS3_Employment_CrtDec","LS3_Employment_NegRes_Filed","LS3_Employment_NegRes_NoFiled","LS3_Employment_Withdrew","LS3_Employment_Other","LS3_Income_Info","LS3_Income_BriefService","LS3_Income_AdminDec","LS3_Income_CrtDec","LS3_Income_NegRes_Filed","LS3_Income_NegRes_NoFiled","LS3_Income_Withdrew","LS3_Income_Other","LS3_Housing_Info","LS3_Housing_BriefService","LS3_Housing_AdminDec","LS3_Housing_CrtDec","LS3_Housing_NegRes_Filed","LS3_Housing_NegRes_NoFiled","LS3_Housing_Withdrew","LS3_Housing_Other","LS3_VAWA_Info","LS3_VAWA_BriefService","LS3_VAWA_AdminDec","LS3_VAWA_CrtDec","LS3_VAWA_NegRes_Filed","LS3_VAWA_NegRes_NoFiled","LS3_VAWA_Withdrew","LS3_VAWA_Other","LS3_Cancel_Info","LS3_Cancel_BriefService","LS3_Cancel_AdminDec","LS3_Cancel_CrtDec","LS3_Cancel_NegRes_Filed","LS3_Cancel_NegRes_NoFiled","LS3_Cancel_Withdrew","LS3_Cancel_Other","LS3_Uvisa_Info","LS3_Uvisa_BriefService","LS3_Uvisa_AdminDec","LS3_Uvisa_CrtDec","LS3_Uvisa_NegRes_Filed","LS3_Uvisa_NegRes_NoFiled","LS3_Uvisa_Withdrew","LS3_Uvisa_Other","LS3_Tvisa_Info","LS3_Tvisa_BriefService","LS3_Tvisa_AdminDec","LS3_Tvisa_CrtDec","LS3_Tvisa_NegRes_Filed","LS3_Tvisa_NegRes_NoFiled","LS3_Tvisa_Withdrew","LS3_Tvisa_Other","LS3_ImmOther_Info","LS3_ImmOther_BriefService","LS3_ImmOther_AdminDec","LS3_ImmOther_CrtDec","LS3_ImmOther_NegRes_Filed","LS3_ImmOther_NegRes_NoFiled","LS3_ImmOther_Withdrew","LS3_ImmOther_Other","LS3_Criminal_Info","LS3_Criminal_BriefService","LS3_Criminal_AdminDec","LS3_Criminal_CrtDec","LS3_Criminal_NegRes_Filed","LS3_Criminal_NegRes_NoFiled","LS3_Criminal_Withdrew","LS3_Criminal_Other","LS3_Education_Info","LS3_Education_BriefService","LS3_Education_AdminDec","LS3_Education_CrtDec","LS3_Education_NegRes_Filed","LS3_Education_NegRes_NoFiled","LS3_Education_Withdrew","LS3_Education_Other","LS3_OtherDesc","LS3_Other_Info","LS3_Other_BriefService","LS3_Other_AdminDec","LS3_Other_CrtDec","LS3_Other_NegRes_Filed","LS3_Other_NegRes_NoFiled","LS3_Other_Withdrew","LS3_Other_Other","LE_FundsUsed_YesNo","LE_FundsUsed_1or0","LE1_Calls_SA","LE1_Calls_DV","LE1_Calls_STK","LE1_IncidentRpt_SA","LE1_IncidentRpt_DV","LE1_IncidentRpt_STK","LE1_Investigated_SA","LE1_Investigated_DV","LE1_Investigated_STK","LE1_ForensicEvid_SA","LE1_Arrest_SA","LE1_Arrest_DV","LE1_Arrest_STK","LE1_DualArrest_DV","LE1_POserved_SA","LE1_POserved_DV","LE1_POserved_STK","LE1_Arrest_BailViol_SA","LE1_Arrest_BailViol_DV","LE1_Arrest_BailViol_STK","LE1_Warrant_SA","LE1_Warrant_DV","LE1_Warrant_STK","LE1_Arrest_POViol_SA","LE1_Arrest_POViol_DV","LE1_Arrest_POViol_STK","LE1_POissued_SA","LE1_POissued_DV","LE1_POissued_STK","LE1_RefToPros_SA","LE1_RefToPros_DV","LE1_RefToPros_STK","LE1_RefToPros_Fed_SA","LE1_RefToPros_Fed_DV","LE1_RefToPros_Fed_STK","LE2_VSRef_Govt","LE2_VSRef_NonGovt","LE3_Req_Temp_SA","LE3_Req_Final_SA","LE3_Grnt_Temp_SA","LE3_Grnt_Final_SA","LE3_Req_Temp_DV","LE3_Req_Final_DV","LE3_Grnt_Temp_DV","LE3_Grnt_Final_DV","LE3_Req_Temp_STK","LE3_Req_Final_STK","LE3_Grnt_Temp_STK","LE3_Grnt_Final_STK","Pros_FundsUsed_YesNo","Pros_FundsUsed_1or0","Pros1_Received_DV","Pros1_Received_SA","Pros1_Received_STK","Pros1_Accepted_DV","Pros1_Accepted_SA","Pros1_Accepted_STK","Pros1_Declined_DV","Pros1_Declined_SA","Pros1_Declined_STK","Pros1_Transfer_DV","Pros1_Transfer_SA","Pros1_Transfer_STK","Pros1_RefToFed_DV","Pros1_RefToFed_SA","Pros1_RefToFed_STK","Pros2_IE_Return_DV","Pros2_IE_Return_SA","Pros2_IE_Return_STK","Pros2_IE_Unavail_DV","Pros2_IE_Unavail_SA","Pros2_IE_Unavail_STK","Pros2_VicReq_DV","Pros2_VicReq_SA","Pros2_VicReq_STK","Pros2_OtherDesc","Pros2_Other_DV","Pros2_Other_SA","Pros2_Other_STK","Pros3_Dismiss_DV_Ord","Pros3_DefAdj_DV_Ord","Pros3_Convict_PAC_DV_Ord","Pros3_Convict_PSC_DV_Ord","Pros3_Convict_PLC_DV_Ord","Pros3_Convict_GAC_DV_Ord","Pros3_Convict_GSC_DV_Ord","Pros3_Convict_GLC_DV_Ord","Pros3_Acquit_DV_Ord","Pros3_Total_DV_Ord","Pros3_Dismiss_DV_Mis","Pros3_DefAdj_DV_Mis","Pros3_Convict_PAC_DV_Mis","Pros3_Convict_PSC_DV_Mis","Pros3_Convict_PLC_DV_Mis","Pros3_Convict_GAC_DV_Mis","Pros3_Convict_GSC_DV_Mis","Pros3_Convict_GLC_DV_Mis","Pros3_Acquit_DV_Mis","Pros3_Total_DV_Mis","Pros3_Dismiss_DV_Fel","Pros3_DefAdj_DV_Fel","Pros3_Convict_PAC_DV_Fel","Pros3_Convict_PSC_DV_Fel","Pros3_Convict_PLC_DV_Fel","Pros3_Convict_GAC_DV_Fel","Pros3_Convict_GSC_DV_Fel","Pros3_Convict_GLC_DV_Fel","Pros3_Acquit_DV_Fel","Pros3_Total_DV_Fel","Pros3_Dismiss_DV_Hom","Pros3_DefAdj_DV_Hom","Pros3_Convict_PAC_DV_Hom","Pros3_Convict_PSC_DV_Hom","Pros3_Convict_PLC_DV_Hom","Pros3_Convict_GAC_DV_Hom","Pros3_Convict_GSC_DV_Hom","Pros3_Convict_GLC_DV_Hom","Pros3_Acquit_DV_Hom","Pros3_Total_DV_Hom","Pros3_Dismiss_SA_Mis","Pros3_DefAdj_SA_Mis","Pros3_Convict_PAC_SA_Mis","Pros3_Convict_PSC_SA_Mis","Pros3_Convict_PLC_SA_Mis","Pros3_Convict_GAC_SA_Mis","Pros3_Convict_GSC_SA_Mis","Pros3_Convict_GLC_SA_Mis","Pros3_Acquit_SA_Mis","Pros3_Total_SA_Mis","Pros3_Dismiss_SA_Fel","Pros3_DefAdj_SA_Fel","Pros3_Convict_PAC_SA_Fel","Pros3_Convict_PSC_SA_Fel","Pros3_Convict_PLC_SA_Fel","Pros3_Convict_GAC_SA_Fel","Pros3_Convict_GSC_SA_Fel","Pros3_Convict_GLC_SA_Fel","Pros3_Acquit_SA_Fel","Pros3_Total_SA_Fel","Pros3_Dismiss_SA_Hom","Pros3_DefAdj_SA_Hom","Pros3_Convict_PAC_SA_Hom","Pros3_Convict_PSC_SA_Hom","Pros3_Convict_PLC_SA_Hom","Pros3_Convict_GAC_SA_Hom","Pros3_Convict_GSC_SA_Hom","Pros3_Convict_GLC_SA_Hom","Pros3_Acquit_SA_Hom","Pros3_Total_SA_Hom","Pros3_Dismiss_STK_Ord","Pros3_DefAdj_STK_Ord","Pros3_Convict_PAC_STK_Ord","Pros3_Convict_PSC_STK_Ord","Pros3_Convict_PLC_STK_Ord","Pros3_Convict_GAC_STK_Ord","Pros3_Convict_GSC_STK_Ord","Pros3_Convict_GLC_STK_Ord","Pros3_Acquit_STK_Ord","Pros3_Total_STK_Ord","Pros3_Dismiss_STK_Mis","Pros3_DefAdj_STK_Mis","Pros3_Convict_PAC_STK_Mis","Pros3_Convict_PSC_STK_Mis","Pros3_Convict_PLC_STK_Mis","Pros3_Convict_GAC_STK_Mis","Pros3_Convict_GSC_STK_Mis","Pros3_Convict_GLC_STK_Mis","Pros3_Acquit_STK_Mis","Pros3_Total_STK_Mis","Pros3_Dismiss_STK_Fel","Pros3_DefAdj_STK_Fel","Pros3_Convict_PAC_STK_Fel","Pros3_Convict_PSC_STK_Fel","Pros3_Convict_PLC_STK_Fel","Pros3_Convict_GAC_STK_Fel","Pros3_Convict_GSC_STK_Fel","Pros3_Convict_GLC_STK_Fel","Pros3_Acquit_STK_Fel","Pros3_Total_STK_Fel","Pros3_Dismiss_STK_Hom","Pros3_DefAdj_STK_Hom","Pros3_Convict_PAC_STK_Hom","Pros3_Convict_PSC_STK_Hom","Pros3_Convict_PLC_STK_Hom","Pros3_Convict_GAC_STK_Hom","Pros3_Convict_GSC_STK_Hom","Pros3_Convict_GLC_STK_Hom","Pros3_Acquit_STK_Hom","Pros3_Total_STK_Hom","Pros3_Dismiss_BailViol","Pros3_DefAdj_BailViol","Pros3_Convict_PAC_BailViol","Pros3_Convict_PSC_BailViol","Pros3_Convict_PLC_BailViol","Pros3_Convict_GAC_BailViol","Pros3_Convict_GSC_BailViol","Pros3_Convict_GLC_BailViol","Pros3_Acquit_BailViol","Pros3_Total_BailViol","Pros3_Dismiss_ProbViol","Pros3_DefAdj_ProbViol","Pros3_Convict_PAC_ProbViol","Pros3_Convict_PSC_ProbViol","Pros3_Convict_PLC_ProbViol","Pros3_Convict_GAC_ProbViol","Pros3_Convict_GSC_ProbViol","Pros3_Convict_GLC_ProbViol","Pros3_Acquit_ProbViol","Pros3_Total_ProbViol","Pros3_Dismiss_POViol","Pros3_DefAdj_POViol","Pros3_Convict_PAC_POViol","Pros3_Convict_PSC_POViol","Pros3_Convict_PLC_POViol","Pros3_Convict_GAC_POViol","Pros3_Convict_GSC_POViol","Pros3_Convict_GLC_POViol","Pros3_Acquit_POViol","Pros3_Total_POViol","Pros3_Dismiss_CrtOrder","Pros3_DefAdj_CrtOrder","Pros3_Convict_PAC_CrtOrder","Pros3_Convict_PSC_CrtOrder","Pros3_Convict_PLC_CrtOrder","Pros3_Convict_GAC_CrtOrder","Pros3_Convict_GSC_CrtOrder","Pros3_Convict_GLC_CrtOrder","Pros3_Acquit_CrtOrder","Pros3_Total_CrtOrder","Pros3_OtherDesc","Pros3_Dismiss_Other","Pros3_DefAdj_Other","Pros3_Convict_PAC_Other","Pros3_Convict_PSC_Other","Pros3_Convict_PLC_Other","Pros3_Convict_GAC_Other","Pros3_Convict_GSC_Other","Pros3_Convict_GLC_Other","Pros3_Acquit_Other","Pros3_Total_Other","Pros3_TOTAL_Dismiss","Pros3_TOTAL_DefAdj","Pros3_TOTAL_Convict_PAC","Pros3_TOTAL_Convict_PSC","Pros3_TOTAL_Convict_PLC","Pros3_TOTAL_Convict_GAC","Pros3_TOTAL_Convict_GSC","Pros3_TOTAL_Convict_GLC","Pros3_TOTAL_Acquit","Pros3_TOTAL_Total","Pros4_RefToFed","Pros4_RefToState","Pros4_TOTAL","Pros5_VSRef_Govt","Pros5_VSRef_NonGovt","Pros6_Req_Temp_SA","Pros6_Req_Final_SA","Pros6_Grnt_Temp_SA","Pros6_Grnt_Final_SA","Pros6_Req_Temp_DV","Pros6_Req_Final_DV","Pros6_Grnt_Temp_DV","Pros6_Grnt_Final_DV","Pros6_Req_Temp_STK","Pros6_Req_Final_STK","Pros6_Grnt_Temp_STK","Pros6_Grnt_Final_STK","Crt_FundsUsed_YesNo","Crt_FundsUsed_1or0","Crt2_Dismiss_SA_Mis","Crt2_DefAdj_SA_Mis","Crt2_Convict_SA_Mis","Crt2_Acquit_SA_Mis","Crt2_Dismiss_SA_Fel","Crt2_DefAdj_SA_Fel","Crt2_Convict_SA_Fel","Crt2_Acquit_SA_Fel","Crt2_Dismiss_Hom","Crt2_DefAdj_Hom","Crt2_Convict_Hom","Crt2_Acquit_Hom","Crt2_Dismiss_DV_Ord","Crt2_DefAdj_DV_Ord","Crt2_Convict_DV_Ord","Crt2_Acquit_DV_Ord","Crt2_Dismiss_DV_Mis","Crt2_DefAdj_DV_Mis","Crt2_Convict_DV_Mis","Crt2_Acquit_DV_Mis","Crt2_Dismiss_DV_Fel","Crt2_DefAdj_DV_Fel","Crt2_Convict_DV_Fel","Crt2_Acquit_DV_Fel","Crt2_Dismiss_STK_Ord","Crt2_DefAdj_STK_Ord","Crt2_Convict_STK_Ord","Crt2_Acquit_STK_Ord","Crt2_Dismiss_STK_Mis","Crt2_DefAdj_STK_Mis","Crt2_Convict_STK_Mis","Crt2_Acquit_STK_Mis","Crt2_Dismiss_STK_Fel","Crt2_DefAdj_STK_Fel","Crt2_Convict_STK_Fel","Crt2_Acquit_STK_Fel","Crt2_Dismiss_POViol","Crt2_DefAdj_POViol","Crt2_Convict_POViol","Crt2_Acquit_POViol","Crt2_Dismiss_BailViol","Crt2_DefAdj_BailViol","Crt2_Convict_BailViol","Crt2_Acquit_BailViol","Crt2_Dismiss_ProbViol","Crt2_DefAdj_ProbViol","Crt2_Convict_ProbViol","Crt2_Acquit_ProbViol","Crt2_Dismiss_CrtOrder","Crt2_DefAdj_CrtOrder","Crt2_Convict_CrtOrder","Crt2_Acquit_CrtOrder","Crt2_TOTAL_Dismiss","Crt2_TOTAL_DefAdj","Crt2_TOTAL_Convict","Crt2_TOTAL_Acquit","Crt3_Offender","Crt3_Hearing","Crt4_NoAction_PO","Crt4_Warning_PO","Crt4_Fine_PO","Crt4_AddCond_PO","Crt4_Revoke_PO","Crt4_NoAction_NewCrim","Crt4_Warning_NewCrim","Crt4_Fine_NewCrim","Crt4_AddCond_NewCrim","Crt4_Revoke_NewCrim","Crt4_NoAction_BIP","Crt4_Warning_BIP","Crt4_Fine_BIP","Crt4_AddCond_BIP","Crt4_Revoke_BIP","Crt4_NoAction_OtherTreat","Crt4_Warning_OtherTreat","Crt4_Fine_OtherTreat","Crt4_AddCond_OtherTreat","Crt4_Revoke_OtherTreat","Crt4_NoAction_OtherCond","Crt4_Warning_OtherCond","Crt4_Fine_OtherCond","Crt4_AddCond_OtherCond","Crt4_Revoke_OtherCond","Crt4_TOTAL_NoAction","Crt4_TOTAL_Warning","Crt4_TOTAL_Fine","Crt4_TOTAL_AddCond","Crt4_TOTAL_Revoke","Crt5_VSRef_Govt","Crt5_VSRef_NonGovt","Crt6_Req_Temp_SA","Crt6_Req_Final_SA","Crt6_Grnt_Temp_SA","Crt6_Grnt_Final_SA","Crt6_Req_Temp_DV","Crt6_Req_Final_DV","Crt6_Grnt_Temp_DV","Crt6_Grnt_Final_DV","Crt6_Req_Temp_STK","Crt6_Req_Final_STK","Crt6_Grnt_Temp_STK","Crt6_Grnt_Final_STK","Crt7_Req_Crim","Crt7_Grant_Crim","Prob_FundsUsed_YesNo","Prob_FundsUsed_1or0","Prob1_Offender_DV","Prob1_Comp_NoViol_DV","Prob1_Comp_Viol_DV","Prob1_Offender_SA","Prob1_Comp_NoViol_SA","Prob1_Comp_Viol_SA","Prob1_Offender_STK","Prob1_Comp_NoViol_STK","Prob1_Comp_Viol_STK","Prob1_TOTAL_Offender","Prob1_TOTAL_Comp_NoViol","Prob1_TOTAL_Comp_Viol","Prob2_Face_Offender","Prob2_Face_Contacts","Prob2_Phone_Offender","Prob2_Phone_Contacts","Prob2_Surveil_Offender","Prob2_Surveil_Contacts","Prob2_ElecMonitor_Offender","Prob2_VicOutreach_Vic","Prob2_VicOutreach_Contacts","Prob3_NoAction_PO","Prob3_Warning_PO","Prob3_Fine_PO","Prob3_AddCond_PO","Prob3_Revoke_PO","Prob3_NoAction_NewCrim","Prob3_Warning_NewCrim","Prob3_Fine_NewCrim","Prob3_AddCond_NewCrim","Prob3_Revoke_NewCrim","Prob3_NoAction_BIP","Prob3_Warning_BIP","Prob3_Fine_BIP","Prob3_AddCond_BIP","Prob3_Revoke_BIP","Prob3_NoAction_OtherTreat","Prob3_Warning_OtherTreat","Prob3_Fine_OtherTreat","Prob3_AddCond_OtherTreat","Prob3_Revoke_OtherTreat","Prob3_NoAction_OtherCond","Prob3_Warning_OtherCond","Prob3_Fine_OtherCond","Prob3_AddCond_OtherCond","Prob3_Revoke_OtherCond","Prob3_TOTAL_NoAction","Prob3_TOTAL_Warning","Prob3_TOTAL_Fine","Prob3_TOTAL_AddCond","Prob3_TOTAL_Revoke","Prob4_VSRef_Govt","Prob4_VSRef_NonGovt","BIP_FundsUsed_YesNo","BIP_FundsUsed_1or0","BIP1_Offender_BIP","BIP2_Complete_BIP","BIP2_Terminate_BIP","BIP2_Return_BIP","BIP2_OtherDesc","BIP2_Other_BIP","BIP3_Weeks_A","BIP3_Weeks_B","BIP3_Weeks_C","Tr_Narrative","CCR_Narrative","Pol2_Narrative","Pol_Narrative","VS_Narrative","LE_Narrative","Pros3_Narrative","Pros_Narrative","Crt_Narrative","Prob_Narrative","Narr2_RAN_1","Narr2_RAN_2","Narr3_FundAllow_1","Narr3_FundAllow_2","Narr_stop_CrystalJudson_1","Narr_stop_CrystalJudson_2","Narr4_Effectiveness_1","Narr4_Effectiveness_2","Narr5_Data_1","Narr5_Data_2"]
[{"$f":"DATA[[#Headers],[ID]]=Checks!A2","v":true},{"$f":"DATA[[#Headers],[OVWID]]=Checks!B2","v":true},{"$f":"DATA[[#Headers],[GI1_Date]]=Checks!C2","v":true},{"$f":"DATA[[#Headers],[GI2_Year]]=Checks!D2","v":true},{"$f":"DATA[[#Headers],[GI3_GranteeName]]=Checks!E2","v":true},{"$f":"DATA[[#Headers],[GI4_Subgrant1]]=Checks!F2","v":true},{"$f":"DATA[[#Headers],[GI4_Subgrant2]]=Checks!G2","v":true},{"$f":"DATA[[#Headers],[GI4_Subgrant3]]=Checks!H2","v":true},{"$f":"DATA[[#Headers],[GI4_Subgrant4]]=Checks!I2","v":true},{"$f":"DATA[[#Headers],[GI4_Subgrant5]]=Checks!J2","v":true},{"$f":"DATA[[#Headers],[GI4_Subgrant6]]=Checks!K2","v":true},{"$f":"DATA[[#Headers],[GI4_Subgrant7]]=Checks!L2","v":true},{"$f":"DATA[[#Headers],[GI4_Subgrant8]]=Checks!M2","v":true},{"$f":"DATA[[#Headers],[GI4_Subgrant9]]=Checks!N2","v":true},{"$f":"DATA[[#Headers],[GI5_OrgType]]=Checks!O2","v":true},{"$f":"DATA[[#Headers],[GI5_OtherDesc]]=Checks!P2","v":true},{"$f":"DATA[[#Headers],[GI6_FBO]]=Checks!Q2","v":true},{"$f":"DATA[[#Headers],[GI6_CultSpec]]=Checks!R2","v":true},{"$f":"DATA[[#Headers],[GI7_FIrstName]]=Checks!S2","v":true},{"$f":"DATA[[#Headers],[GI7_MI]]=Checks!T2","v":true},{"$f":"DATA[[#Headers],[GI7_LastName]]=Checks!U2","v":true},{"$f":"DATA[[#Headers],[GI7_OrgName]]=Checks!V2","v":true},{"$f":"DATA[[#Headers],[GI7_Address]]=Checks!W2","v":true},{"$f":"DATA[[#Headers],[GI7_City]]=Checks!X2","v":true},{"$f":"DATA[[#Headers],[GI7_State]]=Checks!Y2","v":true},{"$f":"DATA[[#Headers],[GI7_Zip]]=Checks!Z2","v":true},{"$f":"DATA[[#Headers],[GI7_Telephone]]=Checks!AA2","v":true},{"$f":"DATA[[#Headers],[GI7_Fax]]=Checks!AB2","v":true},{"$f":"DATA[[#Headers],[GI7_Email]]=Checks!AC2","v":true},{"$f":"DATA[[#Headers],[GI8_TribalPop]]=Checks!AD2","v":true},{"$f":"DATA[[#Headers],[GI8_TribalPopDesc]]=Checks!AE2","v":true},{"$f":"DATA[[#Headers],[GI9_Prct_SA]]=Checks!AF2","v":true},{"$f":"DATA[[#Headers],[GI9_Prct_DV]]=Checks!AG2","v":true},{"$f":"DATA[[#Headers],[GI9_Prct_STK]]=Checks!AH2","v":true},{"$f":"DATA[[#Headers],[GI9_TOTAL]]=Checks!AI2","v":true},{"$f":"DATA[[#Headers],[St_FundsUsed_YesNo]]=Checks!AJ2","v":true},{"$f":"DATA[[#Headers],[St_FundsUsed_1or0]]=Checks!AK2","v":true},{"$f":"DATA[[#Headers],[St1_Admin]]=Checks!AL2","v":true},{"$f":"DATA[[#Headers],[St1_Attorney]]=Checks!AM2","v":true},{"$f":"DATA[[#Headers],[St1_Counselor]]=Checks!AN2","v":true},{"$f":"DATA[[#Headers],[St1_Court]]=Checks!AO2","v":true},{"$f":"DATA[[#Headers],[St1_ITstaff]]=Checks!AP2","v":true},{"$f":"DATA[[#Headers],[St1_Investigator]]=Checks!AQ2","v":true},{"$f":"DATA[[#Headers],[St1_LEO]]=Checks!AR2","v":true},{"$f":"DATA[[#Headers],[St1_LegalAdv]]=Checks!AS2","v":true},{"$f":"DATA[[#Headers],[St1_Outreach]]=Checks!AT2","v":true},{"$f":"DATA[[#Headers],[St1_Paralegal]]=Checks!AU2","v":true},{"$f":"DATA[[#Headers],[St1_Probation]]=Checks!AV2","v":true},{"$f":"DATA[[#Headers],[St1_PrgmCoord]]=Checks!AW2","v":true},{"$f":"DATA[[#Headers],[St1_Prosecutor]]=Checks!AX2","v":true},{"$f":"DATA[[#Headers],[St1_SANE]]=Checks!AY2","v":true},{"$f":"DATA[[#Headers],[St1_SuppStaff]]=Checks!AZ2","v":true},{"$f":"DATA[[#Headers],[St1_Trainer]]=Checks!BA2","v":true},{"$f":"DATA[[#Headers],[St1_Translator]]=Checks!BB2","v":true},{"$f":"DATA[[#Headers],[St1_VicAdv]]=Checks!BC2","v":true},{"$f":"DATA[[#Headers],[St1_VicAssist]]=Checks!BD2","v":true},{"$f":"DATA[[#Headers],[St1_OtherDesc]]=Checks!BE2","v":true},{"$f":"DATA[[#Headers],[St1_Other]]=Checks!BF2","v":true},{"$f":"DATA[[#Headers],[St1_TOTAL]]=Checks!BG2","v":true},{"$f":"DATA[[#Headers],[PA13_STOP_1]]=Checks!BH2","v":true},{"$f":"DATA[[#Headers],[PA13_STOP_2]]=Checks!BI2","v":true},{"$f":"DATA[[#Headers],[PA13_STOP_3]]=Checks!BJ2","v":true},{"$f":"DATA[[#Headers],[PA13_STOP_4]]=Checks!BK2","v":true},{"$f":"DATA[[#Headers],[PA13_STOP_5]]=Checks!BL2","v":true},{"$f":"DATA[[#Headers],[PA13_STOP_6]]=Checks!BM2","v":true},{"$f":"DATA[[#Headers],[PA13_STOP_7]]=Checks!BN2","v":true},{"$f":"DATA[[#Headers],[PA13_STOP_8]]=Checks!BO2","v":true},{"$f":"DATA[[#Headers],[PA13_STOP_9]]=Checks!BP2","v":true},{"$f":"DATA[[#Headers],[PA13_STOP_10]]=Checks!BQ2","v":true},{"$f":"DATA[[#Headers],[PA13_STOP_11]]=Checks!BR2","v":true},{"$f":"DATA[[#Headers],[PA13_STOP_12]]=Checks!BS2","v":true},{"$f":"DATA[[#Headers],[PA13_STOP_13]]=Checks!BT2","v":true},{"$f":"DATA[[#Headers],[PA13_STOP_14]]=Checks!BU2","v":true},{"$f":"DATA[[#Headers],[PA13_STOP_15]]=Checks!BV2","v":true},{"$f":"DATA[[#Headers],[PA13_STOP_16]]=Checks!BW2","v":true},{"$f":"DATA[[#Headers],[PA13_STOP_17]]=Checks!BX2","v":true},{"$f":"DATA[[#Headers],[PA13_STOP_18]]=Checks!BY2","v":true},{"$f":"DATA[[#Headers],[PA13_STOP_19]]=Checks!BZ2","v":true},{"$f":"DATA[[#Headers],[PA13_STOP_20]]=Checks!CA2","v":true},{"$f":"DATA[[#Headers],[Tr_FundsUsed_YesNo]]=Checks!CB2","v":true},{"$f":"DATA[[#Headers],[Tr_FundsUsed_1or0]]=Checks!CC2","v":true},{"$f":"DATA[[#Headers],[Tr1_TrnEvents]]=Checks!CD2","v":true},{"$f":"DATA[[#Headers],[Tr2_AdvOrg]]=Checks!CE2","v":true},{"$f":"DATA[[#Headers],[Tr2_Attorney]]=Checks!CF2","v":true},{"$f":"DATA[[#Headers],[Tr2_BIP]]=Checks!CG2","v":true},{"$f":"DATA[[#Headers],[Tr2_Corrections]]=Checks!CH2","v":true},{"$f":"DATA[[#Headers],[Tr2_Court]]=Checks!CI2","v":true},{"$f":"DATA[[#Headers],[Tr2_DisOrg]]=Checks!CJ2","v":true},{"$f":"DATA[[#Headers],[Tr2_Educator]]=Checks!CK2","v":true},{"$f":"DATA[[#Headers],[Tr2_Elder]]=Checks!CL2","v":true},{"$f":"DATA[[#Headers],[Tr2_FaithBased]]=Checks!CM2","v":true},{"$f":"DATA[[#Headers],[Tr2_Govt]]=Checks!CN2","v":true},{"$f":"DATA[[#Headers],[Tr2_HealthProf]]=Checks!CO2","v":true},{"$f":"DATA[[#Headers],[Tr2_ImmOrg]]=Checks!CP2","v":true},{"$f":"DATA[[#Headers],[Tr2_LEO]]=Checks!CQ2","v":true},{"$f":"DATA[[#Headers],[Tr2_LegServ]]=Checks!CR2","v":true},{"$f":"DATA[[#Headers],[Tr2_HealthProf_MH]]=Checks!CS2","v":true},{"$f":"DATA[[#Headers],[Tr2_Prosecutor]]=Checks!CT2","v":true},{"$f":"DATA[[#Headers],[Tr2_SexOffTreat]]=Checks!CU2","v":true},{"$f":"DATA[[#Headers],[Tr2_HealthProf_SANE]]=Checks!CV2","v":true},{"$f":"DATA[[#Headers],[Tr2_SocialServ]]=Checks!CW2","v":true},{"$f":"DATA[[#Headers],[Tr2_SubAbuse]]=Checks!CX2","v":true},{"$f":"DATA[[#Headers],[Tr2_SupVisit]]=Checks!CY2","v":true},{"$f":"DATA[[#Headers],[Tr2_Translator]]=Checks!CZ2","v":true},{"$f":"DATA[[#Headers],[Tr2_Govt_Tribal]]=Checks!DA2","v":true},{"$f":"DATA[[#Headers],[Tr2_VSProv_VicAdv]]=Checks!DB2","v":true},{"$f":"DATA[[#Headers],[Tr2_VSProv_VicAssist]]=Checks!DC2","v":true},{"$f":"DATA[[#Headers],[Tr2_Volunteer]]=Checks!DD2","v":true},{"$f":"DATA[[#Headers],[Tr2_OtherDesc]]=Checks!DE2","v":true},{"$f":"DATA[[#Headers],[Tr2_Other]]=Checks!DF2","v":true},{"$f":"DATA[[#Headers],[Tr2_TOTAL]]=Checks!DG2","v":true},{"$f":"DATA[[#Headers],[Tr3_Gen_AdvResp]]=Checks!DH2","v":true},{"$f":"DATA[[#Headers],[Tr3_Gen_ChildWit]]=Checks!DI2","v":true},{"$f":"DATA[[#Headers],[Tr3_Gen_Confidential]]=Checks!DJ2","v":true},{"$f":"DATA[[#Headers],[Tr3_Gen_Overview_DAT]]=Checks!DK2","v":true},{"$f":"DATA[[#Headers],[Tr3_Gen_Overview_DV]]=Checks!DL2","v":true},{"$f":"DATA[[#Headers],[Tr3_Gen_MandReport]]=Checks!DM2","v":true},{"$f":"DATA[[#Headers],[Tr3_Gen_Traffick]]=Checks!DN2","v":true},{"$f":"DATA[[#Headers],[Tr3_Gen_Incarcerated]]=Checks!DO2","v":true},{"$f":"DATA[[#Headers],[Tr3_Gen_SafetyPlan]]=Checks!DP2","v":true},{"$f":"DATA[[#Headers],[Tr3_Gen_Overview_SA]]=Checks!DQ2","v":true},{"$f":"DATA[[#Headers],[Tr3_Gen_Overview_STK]]=Checks!DR2","v":true},{"$f":"DATA[[#Headers],[Tr3_Gen_SupVisits]]=Checks!DS2","v":true},{"$f":"DATA[[#Headers],[Tr3_Gen_Other]]=Checks!DT2","v":true},{"$f":"DATA[[#Headers],[Tr3_Gen_OtherDesc]]=Checks!DU2","v":true},{"$f":"DATA[[#Headers],[Tr3_JS_CivCrtProc]]=Checks!DV2","v":true},{"$f":"DATA[[#Headers],[Tr3_JS_CrimCrtProc]]=Checks!DW2","v":true},{"$f":"DATA[[#Headers],[Tr3_JS_DVbyLEO]]=Checks!DX2","v":true},{"$f":"DATA[[#Headers],[Tr3_JS_Statutes_DV]]=Checks!DY2","v":true},{"$f":"DATA[[#Headers],[Tr3_JS_Firearms]]=Checks!DZ2","v":true},{"$f":"DATA[[#Headers],[Tr3_JS_HomicidePrev]]=Checks!EA2","v":true},{"$f":"DATA[[#Headers],[Tr3_JS_PredomAggressor]]=Checks!EB2","v":true},{"$f":"DATA[[#Headers],[Tr3_JS_Immigration]]=Checks!EC2","v":true},{"$f":"DATA[[#Headers],[Tr3_JS_Response_Judicial]]=Checks!ED2","v":true},{"$f":"DATA[[#Headers],[Tr3_JS_Response_LEO]]=Checks!EE2","v":true},{"$f":"DATA[[#Headers],[Tr3_JS_ProArrest]]=Checks!EF2","v":true},{"$f":"DATA[[#Headers],[Tr3_JS_Response_Probation]]=Checks!EG2","v":true},{"$f":"DATA[[#Headers],[Tr3_JS_Response_Prosecutor]]=Checks!EH2","v":true},{"$f":"DATA[[#Headers],[Tr3_JS_POEnforce]]=Checks!EI2","v":true},{"$f":"DATA[[#Headers],[Tr3_JS_EvidCollect_SA]]=Checks!EJ2","v":true},{"$f":"DATA[[#Headers],[Tr3_JS_Statutes_SA]]=Checks!EK2","v":true},{"$f":"DATA[[#Headers],[Tr3_JS_FrnExam_SA]]=Checks!EL2","v":true},{"$f":"DATA[[#Headers],[Tr3_JS_Statutes_STK]]=Checks!EM2","v":true},{"$f":"DATA[[#Headers],[Tr3_JS_TribJuris]]=Checks!EN2","v":true},{"$f":"DATA[[#Headers],[Tr3_JS_Other]]=Checks!EO2","v":true},{"$f":"DATA[[#Headers],[Tr3_JS_OtherDesc]]=Checks!EP2","v":true},{"$f":"DATA[[#Headers],[Tr3_US_AmerInd]]=Checks!EQ2","v":true},{"$f":"DATA[[#Headers],[Tr3_US_Asian]]=Checks!ER2","v":true},{"$f":"DATA[[#Headers],[Tr3_US_Black]]=Checks!ES2","v":true},{"$f":"DATA[[#Headers],[Tr3_US_Deaf]]=Checks!ET2","v":true},{"$f":"DATA[[#Headers],[Tr3_US_Elderly]]=Checks!EU2","v":true},{"$f":"DATA[[#Headers],[Tr3_US_Hispanic]]=Checks!EV2","v":true},{"$f":"DATA[[#Headers],[Tr3_US_Homeless]]=Checks!EW2","v":true},{"$f":"DATA[[#Headers],[Tr3_US_Immigrant]]=Checks!EX2","v":true},{"$f":"DATA[[#Headers],[Tr3_US_Incarcerated]]=Checks!EY2","v":true},{"$f":"DATA[[#Headers],[Tr3_US_LGBTI]]=Checks!EZ2","v":true},{"$f":"DATA[[#Headers],[Tr3_US_Pacific]]=Checks!FA2","v":true},{"$f":"DATA[[#Headers],[Tr3_US_Disability]]=Checks!FB2","v":true},{"$f":"DATA[[#Headers],[Tr3_US_LEP]]=Checks!FC2","v":true},{"$f":"DATA[[#Headers],[Tr3_US_MH]]=Checks!FD2","v":true},{"$f":"DATA[[#Headers],[Tr3_US_SubAbuse]]=Checks!FE2","v":true},{"$f":"DATA[[#Headers],[Tr3_US_Rural]]=Checks!FF2","v":true},{"$f":"DATA[[#Headers],[Tr3_US_Other]]=Checks!FG2","v":true},{"$f":"DATA[[#Headers],[Tr3_US_OtherDesc]]=Checks!FH2","v":true},{"$f":"DATA[[#Headers],[Tr3_CR_CommResp_SA]]=Checks!FI2","v":true},{"$f":"DATA[[#Headers],[Tr3_CR_CCR]]=Checks!FJ2","v":true},{"$f":"DATA[[#Headers],[Tr3_CR_RespTeams]]=Checks!FK2","v":true},{"$f":"DATA[[#Headers],[Tr3_CR_Technology]]=Checks!FL2","v":true},{"$f":"DATA[[#Headers],[Tr3_CR_Other]]=Checks!FM2","v":true},{"$f":"DATA[[#Headers],[Tr3_CR_OtherDesc]]=Checks!FN2","v":true},{"$f":"DATA[[#Headers],[Ed_FundsUsed_YesNo]]=Checks!FO2","v":true},{"$f":"DATA[[#Headers],[Ed_FundsUsed_1or0]]=Checks!FP2","v":true},{"$f":"DATA[[#Headers],[Ed1_EdEvents]]=Checks!FQ2","v":true},{"$f":"DATA[[#Headers],[Ed2a_ChildCare]]=Checks!FR2","v":true},{"$f":"DATA[[#Headers],[Ed2a_AdvGroup]]=Checks!FS2","v":true},{"$f":"DATA[[#Headers],[Ed2a_Business]]=Checks!FT2","v":true},{"$f":"DATA[[#Headers],[Ed2a_CommGroup]]=Checks!FU2","v":true},{"$f":"DATA[[#Headers],[Ed2a_CommMember]]=Checks!FV2","v":true},{"$f":"DATA[[#Headers],[Ed2a_Educator]]=Checks!FW2","v":true},{"$f":"DATA[[#Headers],[Ed2a_Student_Elem]]=Checks!FX2","v":true},{"$f":"DATA[[#Headers],[Ed2a_FaithBased]]=Checks!FY2","v":true},{"$f":"DATA[[#Headers],[Ed2a_Student_MSandHS]]=Checks!FZ2","v":true},{"$f":"DATA[[#Headers],[Ed2a_Parents]]=Checks!GA2","v":true},{"$f":"DATA[[#Headers],[Ed2a_Student_Univ]]=Checks!GB2","v":true},{"$f":"DATA[[#Headers],[Ed2a_Victim]]=Checks!GC2","v":true},{"$f":"DATA[[#Headers],[Ed2a_Other]]=Checks!GD2","v":true},{"$f":"DATA[[#Headers],[Ed2a_OtherDesc]]=Checks!GE2","v":true},{"$f":"DATA[[#Headers],[Ed3_Gen_Overview_DAT]]=Checks!GF2","v":true},{"$f":"DATA[[#Headers],[Ed3_Gen_Prevention_DAT]]=Checks!GG2","v":true},{"$f":"DATA[[#Headers],[Ed3_Gen_Overview_DV]]=Checks!GH2","v":true},{"$f":"DATA[[#Headers],[Ed3_Gen_Prevention_DV]]=Checks!GI2","v":true},{"$f":"DATA[[#Headers],[Ed3_Gen_HealthRel_6to12]]=Checks!GJ2","v":true},{"$f":"DATA[[#Headers],[Ed3_Gen_HealthyRel_Comm]]=Checks!GK2","v":true},{"$f":"DATA[[#Headers],[Ed3_Gen_Healthy_Univ]]=Checks!GL2","v":true},{"$f":"DATA[[#Headers],[Ed3_Gen_IndigenousPrev]]=Checks!GM2","v":true},{"$f":"DATA[[#Headers],[Ed3_Gen_SafetyPlan]]=Checks!GN2","v":true},{"$f":"DATA[[#Headers],[Ed3_Gen_Overview_SA]]=Checks!GO2","v":true},{"$f":"DATA[[#Headers],[Ed3_Gen_Prevention_SA]]=Checks!GP2","v":true},{"$f":"DATA[[#Headers],[Ed3_Gen_Overview_STK]]=Checks!GQ2","v":true},{"$f":"DATA[[#Headers],[Ed3_Gen_Prevention_STK]]=Checks!GR2","v":true},{"$f":"DATA[[#Headers],[Ed3_Gen_WorkVIolence]]=Checks!GS2","v":true},{"$f":"DATA[[#Headers],[Ed3_Gen_Other]]=Checks!GT2","v":true},{"$f":"DATA[[#Headers],[Ed3_Gen_OtherDesc]]=Checks!GU2","v":true},{"$f":"DATA[[#Headers],[Ed3_US_AmerInd]]=Checks!GV2","v":true},{"$f":"DATA[[#Headers],[Ed3_US_Asian]]=Checks!GW2","v":true},{"$f":"DATA[[#Headers],[Ed3_US_Black]]=Checks!GX2","v":true},{"$f":"DATA[[#Headers],[Ed3_US_Deaf]]=Checks!GY2","v":true},{"$f":"DATA[[#Headers],[Ed3_US_Elderly]]=Checks!GZ2","v":true},{"$f":"DATA[[#Headers],[Ed3_US_Rural_GeoIsolated]]=Checks!HA2","v":true},{"$f":"DATA[[#Headers],[Ed3_US_Hispanic]]=Checks!HB2","v":true},{"$f":"DATA[[#Headers],[Ed3_US_Homeless]]=Checks!HC2","v":true},{"$f":"DATA[[#Headers],[Ed3_US_Immigrant]]=Checks!HD2","v":true},{"$f":"DATA[[#Headers],[Ed3_US_LGBTI]]=Checks!HE2","v":true},{"$f":"DATA[[#Headers],[Ed3_US_Pacific]]=Checks!HF2","v":true},{"$f":"DATA[[#Headers],[Ed3_US_Disability]]=Checks!HG2","v":true},{"$f":"DATA[[#Headers],[Ed3_US_MH]]=Checks!HH2","v":true},{"$f":"DATA[[#Headers],[Ed3_US_SubAbuse]]=Checks!HI2","v":true},{"$f":"DATA[[#Headers],[Ed3_US_Rural]]=Checks!HJ2","v":true},{"$f":"DATA[[#Headers],[Ed3_US_Urban]]=Checks!HK2","v":true},{"$f":"DATA[[#Headers],[Ed3_US_Other]]=Checks!HL2","v":true},{"$f":"DATA[[#Headers],[Ed3_US_OtherDesc]]=Checks!HM2","v":true},{"$f":"DATA[[#Headers],[CCR1_AdvOrg_Ref]]=Checks!HN2","v":true},{"$f":"DATA[[#Headers],[CCR1_AdvOrg_Mtg]]=Checks!HO2","v":true},{"$f":"DATA[[#Headers],[CCR1_BIP_Ref]]=Checks!HP2","v":true},{"$f":"DATA[[#Headers],[CCR1_BIP_Mtg]]=Checks!HQ2","v":true},{"$f":"DATA[[#Headers],[CCR1_Corrections_Ref]]=Checks!HR2","v":true},{"$f":"DATA[[#Headers],[CCR1_Corrections_Mtg]]=Checks!HS2","v":true},{"$f":"DATA[[#Headers],[CCR1_Court_Ref]]=Checks!HT2","v":true},{"$f":"DATA[[#Headers],[CCR1_Court_Mtg]]=Checks!HU2","v":true},{"$f":"DATA[[#Headers],[CCR1_DVOrg_Ref]]=Checks!HV2","v":true},{"$f":"DATA[[#Headers],[CCR1_DVOrg_Mtg]]=Checks!HW2","v":true},{"$f":"DATA[[#Headers],[CCR1_Education_Ref]]=Checks!HX2","v":true},{"$f":"DATA[[#Headers],[CCR1_Education_Mtg]]=Checks!HY2","v":true},{"$f":"DATA[[#Headers],[CCR1_FaithBased_Ref]]=Checks!HZ2","v":true},{"$f":"DATA[[#Headers],[CCR1_FaithBased_Mtg]]=Checks!IA2","v":true},{"$f":"DATA[[#Headers],[CCR1_Govt_Ref]]=Checks!IB2","v":true},{"$f":"DATA[[#Headers],[CCR1_Govt_Mtg]]=Checks!IC2","v":true},{"$f":"DATA[[#Headers],[CCR1_HealthMH_Ref]]=Checks!ID2","v":true},{"$f":"DATA[[#Headers],[CCR1_HealthMH_Mtg]]=Checks!IE2","v":true},{"$f":"DATA[[#Headers],[CCR1_LE_Ref]]=Checks!IF2","v":true},{"$f":"DATA[[#Headers],[CCR1_LE_Mtg]]=Checks!IG2","v":true},{"$f":"DATA[[#Headers],[CCR1_LegalOrg_Ref]]=Checks!IH2","v":true},{"$f":"DATA[[#Headers],[CCR1_LegalOrg_Mtg]]=Checks!II2","v":true},{"$f":"DATA[[#Headers],[CCR1_Prosecutor_Ref]]=Checks!IJ2","v":true},{"$f":"DATA[[#Headers],[CCR1_Prosecutor_Mtg]]=Checks!IK2","v":true},{"$f":"DATA[[#Headers],[CCR1_SexOffTreat_Ref]]=Checks!IL2","v":true},{"$f":"DATA[[#Headers],[CCR1_SexOffTreat_Mtg]]=Checks!IM2","v":true},{"$f":"DATA[[#Headers],[CCR1_SAOrg_Ref]]=Checks!IN2","v":true},{"$f":"DATA[[#Headers],[CCR1_SAOrg_Mtg]]=Checks!IO2","v":true},{"$f":"DATA[[#Headers],[CCR1_SocialServ_Ref]]=Checks!IP2","v":true},{"$f":"DATA[[#Headers],[CCR1_SocialServ_Mtg]]=Checks!IQ2","v":true},{"$f":"DATA[[#Headers],[CCR1_TribGovt_Ref]]=Checks!IR2","v":true},{"$f":"DATA[[#Headers],[CCR1_TribGovt_Mtg]]=Checks!IS2","v":true},{"$f":"DATA[[#Headers],[CCR1_OtherDesc]]=Checks!IT2","v":true},{"$f":"DATA[[#Headers],[CCR1_Other_Ref]]=Checks!IU2","v":true},{"$f":"DATA[[#Headers],[CCR1_Other_Mtg]]=Checks!IV2","v":true},{"$f":"DATA[[#Headers],[Pol_FundsUsed_YesNo]]=Checks!IW2","v":true},{"$f":"DATA[[#Headers],[Pol_FundsUsed_1or0]]=Checks!IX2","v":true},{"$f":"DATA[[#Headers],[Pol1_VS_Underserved]]=Checks!IY2","v":true},{"$f":"DATA[[#Headers],[Pol1_VS_SubAbuseMH]]=Checks!IZ2","v":true},{"$f":"DATA[[#Headers],[Pol1_VS_ElderDis]]=Checks!JA2","v":true},{"$f":"DATA[[#Headers],[Pol1_VS_Incarcerated]]=Checks!JB2","v":true},{"$f":"DATA[[#Headers],[Pol1_VS_SexOrient]]=Checks!JC2","v":true},{"$f":"DATA[[#Headers],[Pol1_VS_Confidential]]=Checks!JD2","v":true},{"$f":"DATA[[#Headers],[Pol1_VS_HomicidePrev]]=Checks!JE2","v":true},{"$f":"DATA[[#Headers],[Pol1_VS_MandTrain]]=Checks!JF2","v":true},{"$f":"DATA[[#Headers],[Pol1_VS_JaneDoe]]=Checks!JG2","v":true},{"$f":"DATA[[#Headers],[Pol1_VS_EvidCollect_SA]]=Checks!JH2","v":true},{"$f":"DATA[[#Headers],[Pol1_VS_Diversity]]=Checks!JI2","v":true},{"$f":"DATA[[#Headers],[Pol1_VS_CrimeVicComp]]=Checks!JJ2","v":true},{"$f":"DATA[[#Headers],[Pol1_VS_Other]]=Checks!JK2","v":true},{"$f":"DATA[[#Headers],[Pol1_VS_OtherDesc]]=Checks!JL2","v":true},{"$f":"DATA[[#Headers],[Pol1_LE_Underserved]]=Checks!JM2","v":true},{"$f":"DATA[[#Headers],[Pol1_LE_ElderDis]]=Checks!JN2","v":true},{"$f":"DATA[[#Headers],[Pol1_LE_Incarcerated]]=Checks!JO2","v":true},{"$f":"DATA[[#Headers],[Pol1_LE_SexOrient]]=Checks!JP2","v":true},{"$f":"DATA[[#Headers],[Pol1_LE_DVbyLEO]]=Checks!JQ2","v":true},{"$f":"DATA[[#Headers],[Pol1_LE_HomicidePrev]]=Checks!JR2","v":true},{"$f":"DATA[[#Headers],[Pol1_LE_PredomAggressor]]=Checks!JS2","v":true},{"$f":"DATA[[#Headers],[Pol1_LE_ImmAccessPO]]=Checks!JT2","v":true},{"$f":"DATA[[#Headers],[Pol1_LE_MandTrain]]=Checks!JU2","v":true},{"$f":"DATA[[#Headers],[Pol1_LE_NoCharge_Serv]]=Checks!JV2","v":true},{"$f":"DATA[[#Headers],[Pol1_LE_NoCharge_Exam]]=Checks!JW2","v":true},{"$f":"DATA[[#Headers],[Pol1_LE_NoCharge_Invest]]=Checks!JX2","v":true},{"$f":"DATA[[#Headers],[Pol1_LE_NoPolygraph]]=Checks!JY2","v":true},{"$f":"DATA[[#Headers],[Pol1_LE_InternetDisc]]=Checks!JZ2","v":true},{"$f":"DATA[[#Headers],[Pol1_LE_ProArrest]]=Checks!KA2","v":true},{"$f":"DATA[[#Headers],[Pol1_LE_JaneDoe]]=Checks!KB2","v":true},{"$f":"DATA[[#Headers],[Pol1_LE_POEnforce]]=Checks!KC2","v":true},{"$f":"DATA[[#Headers],[Pol1_LE_InformVic]]=Checks!KD2","v":true},{"$f":"DATA[[#Headers],[Pol1_LE_EvidCollect_SA]]=Checks!KE2","v":true},{"$f":"DATA[[#Headers],[Pol1_LE_ResponseSA]]=Checks!KF2","v":true},{"$f":"DATA[[#Headers],[Pol1_LE_Other]]=Checks!KG2","v":true},{"$f":"DATA[[#Headers],[Pol1_LE_OtherDesc]]=Checks!KH2","v":true},{"$f":"DATA[[#Headers],[Pol1_Pros_Underserved]]=Checks!KI2","v":true},{"$f":"DATA[[#Headers],[Pol1_Pros_ElderDis]]=Checks!KJ2","v":true},{"$f":"DATA[[#Headers],[Pol1_Pros_Incarcerated]]=Checks!KK2","v":true},{"$f":"DATA[[#Headers],[Pol1_Pros_SexOrient]]=Checks!KL2","v":true},{"$f":"DATA[[#Headers],[Pol1_Pros_MandTrain]]=Checks!KM2","v":true},{"$f":"DATA[[#Headers],[Pol1_Pros_NoCharge_Pros]]=Checks!KN2","v":true},{"$f":"DATA[[#Headers],[Pol1_Pros_NoPolygraph]]=Checks!KO2","v":true},{"$f":"DATA[[#Headers],[Pol1_Pros_InternetDisc]]=Checks!KP2","v":true},{"$f":"DATA[[#Headers],[Pol1_Pros_POEnforce]]=Checks!KQ2","v":true},{"$f":"DATA[[#Headers],[Pol1_Pros_EvidCollect_SA]]=Checks!KR2","v":true},{"$f":"DATA[[#Headers],[Pol1_Pros_ResponseSA]]=Checks!KS2","v":true},{"$f":"DATA[[#Headers],[Pol1_Pros_VerticalPros]]=Checks!KT2","v":true},{"$f":"DATA[[#Headers],[Pol1_Pros_Notification]]=Checks!KU2","v":true},{"$f":"DATA[[#Headers],[Pol1_Pros_Other]]=Checks!KV2","v":true},{"$f":"DATA[[#Headers],[Pol1_Pros_OtherDesc]]=Checks!KW2","v":true},{"$f":"DATA[[#Headers],[Pol1_Crt_AccTrial]]=Checks!KX2","v":true},{"$f":"DATA[[#Headers],[Pol1_Crt_Underserved]]=Checks!KY2","v":true},{"$f":"DATA[[#Headers],[Pol1_Crt_ElderDis]]=Checks!KZ2","v":true},{"$f":"DATA[[#Headers],[Pol1_Crt_Incarcerated]]=Checks!LA2","v":true},{"$f":"DATA[[#Headers],[Pol1_Crt_SexOrient]]=Checks!LB2","v":true},{"$f":"DATA[[#Headers],[Pol1_Crt_DVDocket]]=Checks!LC2","v":true},{"$f":"DATA[[#Headers],[Pol1_Crt_FullFaithPO]]=Checks!LD2","v":true},{"$f":"DATA[[#Headers],[Pol1_Crt_ImmAccessPO]]=Checks!LE2","v":true},{"$f":"DATA[[#Headers],[Pol1_Crt_JudMonitor]]=Checks!LF2","v":true},{"$f":"DATA[[#Headers],[Pol1_Crt_MandTrain]]=Checks!LG2","v":true},{"$f":"DATA[[#Headers],[Pol1_Crt_NoCharge_PO]]=Checks!LH2","v":true},{"$f":"DATA[[#Headers],[Pol1_Crt_InternetDisc]]=Checks!LI2","v":true},{"$f":"DATA[[#Headers],[Pol1_Crt_MutualPO]]=Checks!LJ2","v":true},{"$f":"DATA[[#Headers],[Pol1_Crt_CrtSecurity]]=Checks!LK2","v":true},{"$f":"DATA[[#Headers],[Pol1_Crt_EvidCollect_SA]]=Checks!LL2","v":true},{"$f":"DATA[[#Headers],[Pol1_Crt_StandardPO]]=Checks!LM2","v":true},{"$f":"DATA[[#Headers],[Pol1_Crt_Other]]=Checks!LN2","v":true},{"$f":"DATA[[#Headers],[Pol1_Crt_OtherDesc]]=Checks!LO2","v":true},{"$f":"DATA[[#Headers],[Pol1_Prob_Underserved]]=Checks!LP2","v":true},{"$f":"DATA[[#Headers],[Pol1_Prob_ElderDis]]=Checks!LQ2","v":true},{"$f":"DATA[[#Headers],[Pol1_Prob_Incarcerated]]=Checks!LR2","v":true},{"$f":"DATA[[#Headers],[Pol1_Prob_SexOrient]]=Checks!LS2","v":true},{"$f":"DATA[[#Headers],[Pol1_Prob_MandTrain]]=Checks!LT2","v":true},{"$f":"DATA[[#Headers],[Pol1_Prob_ProtectVIc]]=Checks!LU2","v":true},{"$f":"DATA[[#Headers],[Pol1_Prob_VicInclusion]]=Checks!LV2","v":true},{"$f":"DATA[[#Headers],[Pol1_Prob_Notification]]=Checks!LW2","v":true},{"$f":"DATA[[#Headers],[Pol1_Prob_Other]]=Checks!LX2","v":true},{"$f":"DATA[[#Headers],[Pol1_Prob_OtherDesc]]=Checks!LY2","v":true},{"$f":"DATA[[#Headers],[Pol1_HC_AdvER]]=Checks!LZ2","v":true},{"$f":"DATA[[#Headers],[Pol1_HC_Underserved]]=Checks!MA2","v":true},{"$f":"DATA[[#Headers],[Pol1_HC_AvoidTrauma]]=Checks!MB2","v":true},{"$f":"DATA[[#Headers],[Pol1_HC_ElderDis]]=Checks!MC2","v":true},{"$f":"DATA[[#Headers],[Pol1_HC_Incarcerated]]=Checks!MD2","v":true},{"$f":"DATA[[#Headers],[Pol1_HC_SexOrient]]=Checks!ME2","v":true},{"$f":"DATA[[#Headers],[Pol1_HC_NoCharge_Exam]]=Checks!MF2","v":true},{"$f":"DATA[[#Headers],[Pol1_HC_MandTrain]]=Checks!MG2","v":true},{"$f":"DATA[[#Headers],[Pol1_HC_Screening]]=Checks!MH2","v":true},{"$f":"DATA[[#Headers],[Pol1_HC_EvidCollect_SA]]=Checks!MI2","v":true},{"$f":"DATA[[#Headers],[Pol1_HC_Other]]=Checks!MJ2","v":true},{"$f":"DATA[[#Headers],[Pol1_HC_OtherDesc]]=Checks!MK2","v":true},{"$f":"DATA[[#Headers],[Prod_FundsUsed_YesNo]]=Checks!ML2","v":true},{"$f":"DATA[[#Headers],[Prod_FundsUsed_1or0]]=Checks!MM2","v":true},{"$f":"DATA[[#Headers],[Prod1_Brochures1_Dev]]=Checks!MN2","v":true},{"$f":"DATA[[#Headers],[Prod1_Brochures1_Title]]=Checks!MO2","v":true},{"$f":"DATA[[#Headers],[Prod1_Brochures1_Aud]]=Checks!MP2","v":true},{"$f":"DATA[[#Headers],[Prod1_Brochures1_Lang]]=Checks!MQ2","v":true},{"$f":"DATA[[#Headers],[Prod1_Brochures2_Dev]]=Checks!MR2","v":true},{"$f":"DATA[[#Headers],[Prod1_Brochures2_Title]]=Checks!MS2","v":true},{"$f":"DATA[[#Headers],[Prod1_Brochures2_Aud]]=Checks!MT2","v":true},{"$f":"DATA[[#Headers],[Prod1_Brochures2_Lang]]=Checks!MU2","v":true},{"$f":"DATA[[#Headers],[Prod1_Brochures3_Dev]]=Checks!MV2","v":true},{"$f":"DATA[[#Headers],[Prod1_Brochures3_Title]]=Checks!MW2","v":true},{"$f":"DATA[[#Headers],[Prod1_Brochures3_Aud]]=Checks!MX2","v":true},{"$f":"DATA[[#Headers],[Prod1_Brochures3_Lang]]=Checks!MY2","v":true},{"$f":"DATA[[#Headers],[Prod1_Manuals1_Dev]]=Checks!MZ2","v":true},{"$f":"DATA[[#Headers],[Prod1_Manuals1_Title]]=Checks!NA2","v":true},{"$f":"DATA[[#Headers],[Prod1_Manuals1_Aud]]=Checks!NB2","v":true},{"$f":"DATA[[#Headers],[Prod1_Manuals1_Lang]]=Checks!NC2","v":true},{"$f":"DATA[[#Headers],[Prod1_Manuals2_Dev]]=Checks!ND2","v":true},{"$f":"DATA[[#Headers],[Prod1_Manuals2_Title]]=Checks!NE2","v":true},{"$f":"DATA[[#Headers],[Prod1_Manuals2_Aud]]=Checks!NF2","v":true},{"$f":"DATA[[#Headers],[Prod1_Manuals2_Lang]]=Checks!NG2","v":true},{"$f":"DATA[[#Headers],[Prod1_Manuals3_Dev]]=Checks!NH2","v":true},{"$f":"DATA[[#Headers],[Prod1_Manuals3_Title]]=Checks!NI2","v":true},{"$f":"DATA[[#Headers],[Prod1_Manuals3_Aud]]=Checks!NJ2","v":true},{"$f":"DATA[[#Headers],[Prod1_Manuals3_Lang]]=Checks!NK2","v":true},{"$f":"DATA[[#Headers],[Prod1_TrnMatCurr1_Dev]]=Checks!NL2","v":true},{"$f":"DATA[[#Headers],[Prod1_TrnMatCurr1_Title]]=Checks!NM2","v":true},{"$f":"DATA[[#Headers],[Prod1_TrnMatCurr1_Aud]]=Checks!NN2","v":true},{"$f":"DATA[[#Headers],[Prod1_TrnMatCurr1_Lang]]=Checks!NO2","v":true},{"$f":"DATA[[#Headers],[Prod1_TrnMatCurr2_Dev]]=Checks!NP2","v":true},{"$f":"DATA[[#Headers],[Prod1_TrnMatCurr2_Title]]=Checks!NQ2","v":true},{"$f":"DATA[[#Headers],[Prod1_TrnMatCurr2_Aud]]=Checks!NR2","v":true},{"$f":"DATA[[#Headers],[Prod1_TrnMatCurr2_Lang]]=Checks!NS2","v":true},{"$f":"DATA[[#Headers],[Prod1_TrnMatCurr3_Dev]]=Checks!NT2","v":true},{"$f":"DATA[[#Headers],[Prod1_TrnMatCurr3_Title]]=Checks!NU2","v":true},{"$f":"DATA[[#Headers],[Prod1_TrnMatCurr3_Aud]]=Checks!NV2","v":true},{"$f":"DATA[[#Headers],[Prod1_TrnMatCurr3_Lang]]=Checks!NW2","v":true},{"$f":"DATA[[#Headers],[Prod1_OtherDesc]]=Checks!NX2","v":true},{"$f":"DATA[[#Headers],[Prod1_Other1_Dev]]=Checks!NY2","v":true},{"$f":"DATA[[#Headers],[Prod1_Other1_Title]]=Checks!NZ2","v":true},{"$f":"DATA[[#Headers],[Prod1_Other1_Aud]]=Checks!OA2","v":true},{"$f":"DATA[[#Headers],[Prod1_Other1_Lang]]=Checks!OB2","v":true},{"$f":"DATA[[#Headers],[Prod1_Other2_Dev]]=Checks!OC2","v":true},{"$f":"DATA[[#Headers],[Prod1_Other2_Title]]=Checks!OD2","v":true},{"$f":"DATA[[#Headers],[Prod1_Other2_Aud]]=Checks!OE2","v":true},{"$f":"DATA[[#Headers],[Prod1_Other2_Lang]]=Checks!OF2","v":true},{"$f":"DATA[[#Headers],[Prod1_Other3_Dev]]=Checks!OG2","v":true},{"$f":"DATA[[#Headers],[Prod1_Other3_Title]]=Checks!OH2","v":true},{"$f":"DATA[[#Headers],[Prod1_Other3_Aud]]=Checks!OI2","v":true},{"$f":"DATA[[#Headers],[Prod1_Other3_Lang]]=Checks!OJ2","v":true},{"$f":"DATA[[#Headers],[Data_FundsUsed_YesNo]]=Checks!OK2","v":true},{"$f":"DATA[[#Headers],[Data_FundsUsed_1or0]]=Checks!OL2","v":true},{"$f":"DATA[[#Headers],[Data1_Develop]]=Checks!OM2","v":true},{"$f":"DATA[[#Headers],[Data1_Install]]=Checks!ON2","v":true},{"$f":"DATA[[#Headers],[Data1_Expand]]=Checks!OO2","v":true},{"$f":"DATA[[#Headers],[Data1_Link]]=Checks!OP2","v":true},{"$f":"DATA[[#Headers],[Data1_Share]]=Checks!OQ2","v":true},{"$f":"DATA[[#Headers],[Data1_Manage]]=Checks!OR2","v":true},{"$f":"DATA[[#Headers],[Data1_Purchase]]=Checks!OS2","v":true},{"$f":"DATA[[#Headers],[Data2_Arrests]]=Checks!OT2","v":true},{"$f":"DATA[[#Headers],[Data2_Bail]]=Checks!OU2","v":true},{"$f":"DATA[[#Headers],[Data2_CaseMgmt]]=Checks!OV2","v":true},{"$f":"DATA[[#Headers],[Data2_Compliance]]=Checks!OW2","v":true},{"$f":"DATA[[#Headers],[Data2_Convictions]]=Checks!OX2","v":true},{"$f":"DATA[[#Headers],[Data2_DocketMgmt]]=Checks!OY2","v":true},{"$f":"DATA[[#Headers],[Data2_Evaluation]]=Checks!OZ2","v":true},{"$f":"DATA[[#Headers],[Data2_IncidentRep]]=Checks!PA2","v":true},{"$f":"DATA[[#Headers],[Data2_Probation]]=Checks!PB2","v":true},{"$f":"DATA[[#Headers],[Data2_Prosecution]]=Checks!PC2","v":true},{"$f":"DATA[[#Headers],[Data2_PO]]=Checks!PD2","v":true},{"$f":"DATA[[#Headers],[Data2_Recidivism]]=Checks!PE2","v":true},{"$f":"DATA[[#Headers],[Data2_Sentencing]]=Checks!PF2","v":true},{"$f":"DATA[[#Headers],[Data2_EvidCollect_SA]]=Checks!PG2","v":true},{"$f":"DATA[[#Headers],[Data2_STKOrders]]=Checks!PH2","v":true},{"$f":"DATA[[#Headers],[Data2_VicNotification]]=Checks!PI2","v":true},{"$f":"DATA[[#Headers],[Data2_VicServices]]=Checks!PJ2","v":true},{"$f":"DATA[[#Headers],[Data2_ViolPO]]=Checks!PK2","v":true},{"$f":"DATA[[#Headers],[Data2_Warrants]]=Checks!PL2","v":true},{"$f":"DATA[[#Headers],[Data2_Other]]=Checks!PM2","v":true},{"$f":"DATA[[#Headers],[Data2_OtherDesc]]=Checks!PN2","v":true},{"$f":"DATA[[#Headers],[SU_FundsUsed_YesNo]]=Checks!PO2","v":true},{"$f":"DATA[[#Headers],[SU_FundsUsed_1or0]]=Checks!PP2","v":true},{"$f":"DATA[[#Headers],[SU1_Develop_LE]]=Checks!PQ2","v":true},{"$f":"DATA[[#Headers],[SU1_Develop_Pros]]=Checks!PR2","v":true},{"$f":"DATA[[#Headers],[SU1_Develop_Crt]]=Checks!PS2","v":true},{"$f":"DATA[[#Headers],[SU1_Develop_Prob]]=Checks!PT2","v":true},{"$f":"DATA[[#Headers],[SU1_Support_LE]]=Checks!PU2","v":true},{"$f":"DATA[[#Headers],[SU1_Support_Pros]]=Checks!PV2","v":true},{"$f":"DATA[[#Headers],[SU1_Support_Crt]]=Checks!PW2","v":true},{"$f":"DATA[[#Headers],[SU1_Support_Prob]]=Checks!PX2","v":true},{"$f":"DATA[[#Headers],[SU1_Train_LE]]=Checks!PY2","v":true},{"$f":"DATA[[#Headers],[SU1_Train_Pros]]=Checks!PZ2","v":true},{"$f":"DATA[[#Headers],[SU1_Train_Crt]]=Checks!QA2","v":true},{"$f":"DATA[[#Headers],[SU1_Train_Prob]]=Checks!QB2","v":true},{"$f":"DATA[[#Headers],[SU1_OtherDesc]]=Checks!QC2","v":true},{"$f":"DATA[[#Headers],[SU1_Other_LE]]=Checks!QD2","v":true},{"$f":"DATA[[#Headers],[SU1_Other_Pros]]=Checks!QE2","v":true},{"$f":"DATA[[#Headers],[SU1_Other_Crt]]=Checks!QF2","v":true},{"$f":"DATA[[#Headers],[SU1_Other_Prob]]=Checks!QG2","v":true},{"$f":"DATA[[#Headers],[SU2_SA_LE]]=Checks!QH2","v":true},{"$f":"DATA[[#Headers],[SU2_SA_Pros]]=Checks!QI2","v":true},{"$f":"DATA[[#Headers],[SU2_SA_Crt]]=Checks!QJ2","v":true},{"$f":"DATA[[#Headers],[SU2_SA_Prob]]=Checks!QK2","v":true},{"$f":"DATA[[#Headers],[SU2_DV_LE]]=Checks!QL2","v":true},{"$f":"DATA[[#Headers],[SU2_DV_Pros]]=Checks!QM2","v":true},{"$f":"DATA[[#Headers],[SU2_DV_Crt]]=Checks!QN2","v":true},{"$f":"DATA[[#Headers],[SU2_DV_Prob]]=Checks!QO2","v":true},{"$f":"DATA[[#Headers],[SU2_STK_LE]]=Checks!QP2","v":true},{"$f":"DATA[[#Headers],[SU2_STK_Pros]]=Checks!QQ2","v":true},{"$f":"DATA[[#Headers],[SU2_STK_Crt]]=Checks!QR2","v":true},{"$f":"DATA[[#Headers],[SU2_STK_Prob]]=Checks!QS2","v":true},{"$f":"DATA[[#Headers],[SI_FundsUsed_YesNo]]=Checks!QT2","v":true},{"$f":"DATA[[#Headers],[SI_FundsUsed_1or0]]=Checks!QU2","v":true},{"$f":"DATA[[#Headers],[SI1_Evaluation_VS]]=Checks!QV2","v":true},{"$f":"DATA[[#Headers],[SI1_Evaluation_LE]]=Checks!QW2","v":true},{"$f":"DATA[[#Headers],[SI1_Evaluation_Pros]]=Checks!QX2","v":true},{"$f":"DATA[[#Headers],[SI1_Evaluation_Crt]]=Checks!QY2","v":true},{"$f":"DATA[[#Headers],[SI1_Evaluation_Prob]]=Checks!QZ2","v":true},{"$f":"DATA[[#Headers],[SI1_FatalityRev_VS]]=Checks!RA2","v":true},{"$f":"DATA[[#Headers],[SI1_FatalityRev_LE]]=Checks!RB2","v":true},{"$f":"DATA[[#Headers],[SI1_FatalityRev_Pros]]=Checks!RC2","v":true},{"$f":"DATA[[#Headers],[SI1_FatalityRev_Crt]]=Checks!RD2","v":true},{"$f":"DATA[[#Headers],[SI1_FatalityRev_Prob]]=Checks!RE2","v":true},{"$f":"DATA[[#Headers],[SI1_Interpreter_VS]]=Checks!RF2","v":true},{"$f":"DATA[[#Headers],[SI1_Interpreter_LE]]=Checks!RG2","v":true},{"$f":"DATA[[#Headers],[SI1_Interpreter_Pros]]=Checks!RH2","v":true},{"$f":"DATA[[#Headers],[SI1_Interpreter_Crt]]=Checks!RI2","v":true},{"$f":"DATA[[#Headers],[SI1_Interpreter_Prob]]=Checks!RJ2","v":true},{"$f":"DATA[[#Headers],[SI1_LAP_VS]]=Checks!RK2","v":true},{"$f":"DATA[[#Headers],[SI1_LAP_LE]]=Checks!RL2","v":true},{"$f":"DATA[[#Headers],[SI1_LAP_Pros]]=Checks!RM2","v":true},{"$f":"DATA[[#Headers],[SI1_LAP_Crt]]=Checks!RN2","v":true},{"$f":"DATA[[#Headers],[SI1_LAP_Prob]]=Checks!RO2","v":true},{"$f":"DATA[[#Headers],[SI1_Language_VS]]=Checks!RP2","v":true},{"$f":"DATA[[#Headers],[SI1_Language_LE]]=Checks!RQ2","v":true},{"$f":"DATA[[#Headers],[SI1_Language_Pros]]=Checks!RR2","v":true},{"$f":"DATA[[#Headers],[SI1_Language_Crt]]=Checks!RS2","v":true},{"$f":"DATA[[#Headers],[SI1_Language_Prob]]=Checks!RT2","v":true},{"$f":"DATA[[#Headers],[SI1_MtgTrib_VS]]=Checks!RU2","v":true},{"$f":"DATA[[#Headers],[SI1_MtgTrib_LE]]=Checks!RV2","v":true},{"$f":"DATA[[#Headers],[SI1_MtgTrib_Pros]]=Checks!RW2","v":true},{"$f":"DATA[[#Headers],[SI1_MtgTrib_Crt]]=Checks!RX2","v":true},{"$f":"DATA[[#Headers],[SI1_MtgTrib_Prob]]=Checks!RY2","v":true},{"$f":"DATA[[#Headers],[SI1_SafetyAudits_VS]]=Checks!RZ2","v":true},{"$f":"DATA[[#Headers],[SI1_SafetyAudits_LE]]=Checks!SA2","v":true},{"$f":"DATA[[#Headers],[SI1_SafetyAudits_Pros]]=Checks!SB2","v":true},{"$f":"DATA[[#Headers],[SI1_SafetyAudits_Crt]]=Checks!SC2","v":true},{"$f":"DATA[[#Headers],[SI1_SafetyAudits_Prob]]=Checks!SD2","v":true},{"$f":"DATA[[#Headers],[SI1_Security_VS]]=Checks!SE2","v":true},{"$f":"DATA[[#Headers],[SI1_Security_LE]]=Checks!SF2","v":true},{"$f":"DATA[[#Headers],[SI1_Security_Pros]]=Checks!SG2","v":true},{"$f":"DATA[[#Headers],[SI1_Security_Crt]]=Checks!SH2","v":true},{"$f":"DATA[[#Headers],[SI1_Security_Prob]]=Checks!SI2","v":true},{"$f":"DATA[[#Headers],[SI1_Translation_VS]]=Checks!SJ2","v":true},{"$f":"DATA[[#Headers],[SI1_Translation_LE]]=Checks!SK2","v":true},{"$f":"DATA[[#Headers],[SI1_Translation_Pros]]=Checks!SL2","v":true},{"$f":"DATA[[#Headers],[SI1_Translation_Crt]]=Checks!SM2","v":true},{"$f":"DATA[[#Headers],[SI1_Translation_Prob]]=Checks!SN2","v":true},{"$f":"DATA[[#Headers],[SI1_OtherDesc]]=Checks!SO2","v":true},{"$f":"DATA[[#Headers],[SI1_Other_VS]]=Checks!SP2","v":true},{"$f":"DATA[[#Headers],[SI1_Other_LE]]=Checks!SQ2","v":true},{"$f":"DATA[[#Headers],[SI1_Other_Pros]]=Checks!SR2","v":true},{"$f":"DATA[[#Headers],[SI1_Other_Crt]]=Checks!SS2","v":true},{"$f":"DATA[[#Headers],[SI1_Other_Prob]]=Checks!ST2","v":true},{"$f":"DATA[[#Headers],[VS_FundsUsed_YesNo]]=Checks!SU2","v":true},{"$f":"DATA[[#Headers],[VS_FundsUsed_1or0]]=Checks!SV2","v":true},{"$f":"DATA[[#Headers],[VS1_Srvd_SA]]=Checks!SW2","v":true},{"$f":"DATA[[#Headers],[VS1_Srvd_DV]]=Checks!SX2","v":true},{"$f":"DATA[[#Headers],[VS1_Srvd_STK]]=Checks!SY2","v":true},{"$f":"DATA[[#Headers],[VS1_TOTAL_Srvd]]=Checks!SZ2","v":true},{"$f":"DATA[[#Headers],[VS1_PSrvd_SA]]=Checks!TA2","v":true},{"$f":"DATA[[#Headers],[VS1_PSrvd_DV]]=Checks!TB2","v":true},{"$f":"DATA[[#Headers],[VS1_PSrvd_STK]]=Checks!TC2","v":true},{"$f":"DATA[[#Headers],[VS1_TOTAL_PSrvd]]=Checks!TD2","v":true},{"$f":"DATA[[#Headers],[VS1_SrvdPSrvd_SA]]=Checks!TE2","v":true},{"$f":"DATA[[#Headers],[VS1_SrvdPSrvd_DV]]=Checks!TF2","v":true},{"$f":"DATA[[#Headers],[VS1_SrvdPSrvd_STK]]=Checks!TG2","v":true},{"$f":"DATA[[#Headers],[VS1_TOTAL_SrvdPSrvd]]=Checks!TH2","v":true},{"$f":"DATA[[#Headers],[VS1_NotSrvd_SA]]=Checks!TI2","v":true},{"$f":"DATA[[#Headers],[VS1_NotSrvd_DV]]=Checks!TJ2","v":true},{"$f":"DATA[[#Headers],[VS1_NotSrvd_STK]]=Checks!TK2","v":true},{"$f":"DATA[[#Headers],[VS1_TOTAL_NotSrvd]]=Checks!TL2","v":true},{"$f":"DATA[[#Headers],[VS2_NewSrvd_SA]]=Checks!TM2","v":true},{"$f":"DATA[[#Headers],[VS2_NewSrvd_DV]]=Checks!TN2","v":true},{"$f":"DATA[[#Headers],[VS2_NewSrvd_STK]]=Checks!TO2","v":true},{"$f":"DATA[[#Headers],[VS2_TOTAL_NewSrvd]]=Checks!TP2","v":true},{"$f":"DATA[[#Headers],[VS3_AddSA_SA]]=Checks!TQ2","v":true},{"$f":"DATA[[#Headers],[VS3_AddDV_SA]]=Checks!TR2","v":true},{"$f":"DATA[[#Headers],[VS3_AddSTK_SA]]=Checks!TS2","v":true},{"$f":"DATA[[#Headers],[VS3_AddTFK_SA]]=Checks!TT2","v":true},{"$f":"DATA[[#Headers],[VS3_AddSA_DV]]=Checks!TU2","v":true},{"$f":"DATA[[#Headers],[VS3_AddDV_DV]]=Checks!TV2","v":true},{"$f":"DATA[[#Headers],[VS3_AddSTK_DV]]=Checks!TW2","v":true},{"$f":"DATA[[#Headers],[VS3_AddTFK_DV]]=Checks!TX2","v":true},{"$f":"DATA[[#Headers],[VS3_AddSA_STK]]=Checks!TY2","v":true},{"$f":"DATA[[#Headers],[VS3_AddDV_STK]]=Checks!TZ2","v":true},{"$f":"DATA[[#Headers],[VS3_AddSTK_STK]]=Checks!UA2","v":true},{"$f":"DATA[[#Headers],[VS3_AddTFK_STK]]=Checks!UB2","v":true},{"$f":"DATA[[#Headers],[VS3_TOTAL_AddSA]]=Checks!UC2","v":true},{"$f":"DATA[[#Headers],[VS3_TOTAL_AddDV]]=Checks!UD2","v":true},{"$f":"DATA[[#Headers],[VS3_TOTAL_AddSTK]]=Checks!UE2","v":true},{"$f":"DATA[[#Headers],[VS3_TOTAL_AddTFK]]=Checks!UF2","v":true},{"$f":"DATA[[#Headers],[IE1_SrvdPSrvd_SA]]=Checks!UG2","v":true},{"$f":"DATA[[#Headers],[IE1_SrvdPSrvd_DV]]=Checks!UH2","v":true},{"$f":"DATA[[#Headers],[IE1_SrvdPSrvd_STK]]=Checks!UI2","v":true},{"$f":"DATA[[#Headers],[IE1_TOTAL_SrvdPSrvd]]=Checks!UJ2","v":true},{"$f":"DATA[[#Headers],[VS4_Conflict_PSrvd]]=Checks!UK2","v":true},{"$f":"DATA[[#Headers],[VS4_Conflict_NotSrvd]]=Checks!UL2","v":true},{"$f":"DATA[[#Headers],[VS4_StatReq_PSrvd]]=Checks!UM2","v":true},{"$f":"DATA[[#Headers],[VS4_StatReq_NotSrvd]]=Checks!UN2","v":true},{"$f":"DATA[[#Headers],[VS4_Hours_PSrvd]]=Checks!UO2","v":true},{"$f":"DATA[[#Headers],[VS4_Hours_NotSrvd]]=Checks!UP2","v":true},{"$f":"DATA[[#Headers],[VS4_CulturalSrv_PSrvd]]=Checks!UQ2","v":true},{"$f":"DATA[[#Headers],[VS4_CulturalSrv_NotSrvd]]=Checks!UR2","v":true},{"$f":"DATA[[#Headers],[VS4_Language_PSrvd]]=Checks!US2","v":true},{"$f":"DATA[[#Headers],[VS4_Language_NotSrvd]]=Checks!UT2","v":true},{"$f":"DATA[[#Headers],[VS4_Disability_PSrvd]]=Checks!UU2","v":true},{"$f":"DATA[[#Headers],[VS4_Disability_NotSrvd]]=Checks!UV2","v":true},{"$f":"DATA[[#Headers],[VS4_Childcare_PSrvd]]=Checks!UW2","v":true},{"$f":"DATA[[#Headers],[VS4_Childcare_NotSrvd]]=Checks!UX2","v":true},{"$f":"DATA[[#Headers],[VS4_Capacity_PSrvd]]=Checks!UY2","v":true},{"$f":"DATA[[#Headers],[VS4_Capacity_NotSrvd]]=Checks!UZ2","v":true},{"$f":"DATA[[#Headers],[VS4_Rules_PSrvd]]=Checks!VA2","v":true},{"$f":"DATA[[#Headers],[VS4_Rules_NotSrvd]]=Checks!VB2","v":true},{"$f":"DATA[[#Headers],[VS4_Resources_PSrvd]]=Checks!VC2","v":true},{"$f":"DATA[[#Headers],[VS4_Resources_NotSrvd]]=Checks!VD2","v":true},{"$f":"DATA[[#Headers],[VS4_MH_PSrvd]]=Checks!VE2","v":true},{"$f":"DATA[[#Headers],[VS4_MH_NotSrvd]]=Checks!VF2","v":true},{"$f":"DATA[[#Headers],[VS4_SubAbuse_PSrvd]]=Checks!VG2","v":true},{"$f":"DATA[[#Headers],[VS4_SubAbuse_NotSrvd]]=Checks!VH2","v":true},{"$f":"DATA[[#Headers],[VS4_NotApprop_PSrvd]]=Checks!VI2","v":true},{"$f":"DATA[[#Headers],[VS4_NotApprop_NotSrvd]]=Checks!VJ2","v":true},{"$f":"DATA[[#Headers],[VS4_MaleAdolescent_PSrvd]]=Checks!VK2","v":true},{"$f":"DATA[[#Headers],[VS4_MaleAdolescent_NotSrvd]]=Checks!VL2","v":true},{"$f":"DATA[[#Headers],[VS4_Transport_PSrvd]]=Checks!VM2","v":true},{"$f":"DATA[[#Headers],[VS4_Transport_NotSrvd]]=Checks!VN2","v":true},{"$f":"DATA[[#Headers],[VS4_Other_PSrvd]]=Checks!VO2","v":true},{"$f":"DATA[[#Headers],[VS4_Other_NotSrvd]]=Checks!VP2","v":true},{"$f":"DATA[[#Headers],[VS4_OtherDesc]]=Checks!VQ2","v":true},{"$f":"DATA[[#Headers],[VS5_Race_AmerInd]]=Checks!VR2","v":true},{"$f":"DATA[[#Headers],[VS5_Race_Asian]]=Checks!VS2","v":true},{"$f":"DATA[[#Headers],[VS5_Race_Black]]=Checks!VT2","v":true},{"$f":"DATA[[#Headers],[VS5_Race_Hispanic]]=Checks!VU2","v":true},{"$f":"DATA[[#Headers],[VS5_Race_Pacific]]=Checks!VV2","v":true},{"$f":"DATA[[#Headers],[VS5_Race_White]]=Checks!VW2","v":true},{"$f":"DATA[[#Headers],[VS5_Race_Other]]=Checks!VX2","v":true},{"$f":"DATA[[#Headers],[VS5_Race_Unknown]]=Checks!VY2","v":true},{"$f":"DATA[[#Headers],[VS5_TOTAL_Race]]=Checks!VZ2","v":true},{"$f":"DATA[[#Headers],[VS5_Gen_Female]]=Checks!WA2","v":true},{"$f":"DATA[[#Headers],[VS5_Gen_Male]]=Checks!WB2","v":true},{"$f":"DATA[[#Headers],[VS5_Gen_Trans]]=Checks!WC2","v":true},{"$f":"DATA[[#Headers],[VS5_Gen_Unknown]]=Checks!WD2","v":true},{"$f":"DATA[[#Headers],[VS5_TOTAL_Gen]]=Checks!WE2","v":true},{"$f":"DATA[[#Headers],[VS5_Age_b11to17]]=Checks!WF2","v":true},{"$f":"DATA[[#Headers],[VS5_Age_c18to24]]=Checks!WG2","v":true},{"$f":"DATA[[#Headers],[VS5_Age_d25to59]]=Checks!WH2","v":true},{"$f":"DATA[[#Headers],[VS5_Age_e60plus]]=Checks!WI2","v":true},{"$f":"DATA[[#Headers],[VS5_Age_Unknown]]=Checks!WJ2","v":true},{"$f":"DATA[[#Headers],[VS5_TOTAL_Age]]=Checks!WK2","v":true},{"$f":"DATA[[#Headers],[VS5_Other_LGBTI]]=Checks!WL2","v":true},{"$f":"DATA[[#Headers],[VS5_Other_Disability]]=Checks!WM2","v":true},{"$f":"DATA[[#Headers],[VS5_Other_LEP]]=Checks!WN2","v":true},{"$f":"DATA[[#Headers],[VS5_Other_Deaf]]=Checks!WO2","v":true},{"$f":"DATA[[#Headers],[VS5_Other_Imm]]=Checks!WP2","v":true},{"$f":"DATA[[#Headers],[VS5_Other_Incarcerated]]=Checks!WQ2","v":true},{"$f":"DATA[[#Headers],[VS5_Other_Rural]]=Checks!WR2","v":true},{"$f":"DATA[[#Headers],[VS6_SA_Spouse]]=Checks!WS2","v":true},{"$f":"DATA[[#Headers],[VS6_DV_Spouse]]=Checks!WT2","v":true},{"$f":"DATA[[#Headers],[VS6_STK_Spouse]]=Checks!WU2","v":true},{"$f":"DATA[[#Headers],[VS6_SA_Family]]=Checks!WV2","v":true},{"$f":"DATA[[#Headers],[VS6_DV_Family]]=Checks!WW2","v":true},{"$f":"DATA[[#Headers],[VS6_STK_Family]]=Checks!WX2","v":true},{"$f":"DATA[[#Headers],[VS6_SA_Dating]]=Checks!WY2","v":true},{"$f":"DATA[[#Headers],[VS6_DV_Dating]]=Checks!WZ2","v":true},{"$f":"DATA[[#Headers],[VS6_STK_Dating]]=Checks!XA2","v":true},{"$f":"DATA[[#Headers],[VS6_SA_Acquaint]]=Checks!XB2","v":true},{"$f":"DATA[[#Headers],[VS6_DV_Acquaint]]=Checks!XC2","v":true},{"$f":"DATA[[#Headers],[VS6_STK_Acquaint]]=Checks!XD2","v":true},{"$f":"DATA[[#Headers],[VS6_SA_Stranger]]=Checks!XE2","v":true},{"$f":"DATA[[#Headers],[VS6_STK_Stranger]]=Checks!XF2","v":true},{"$f":"DATA[[#Headers],[VS6_SA_Unknown]]=Checks!XG2","v":true},{"$f":"DATA[[#Headers],[VS6_DV_Unknown]]=Checks!XH2","v":true},{"$f":"DATA[[#Headers],[VS6_STK_Unknown]]=Checks!XI2","v":true},{"$f":"DATA[[#Headers],[VS6_TOTAL_SA]]=Checks!XJ2","v":true},{"$f":"DATA[[#Headers],[VS6_TOTAL_DV]]=Checks!XK2","v":true},{"$f":"DATA[[#Headers],[VS6_TOTAL_STK]]=Checks!XL2","v":true},{"$f":"DATA[[#Headers],[VS7_Vic_CivLegalAdv]]=Checks!XM2","v":true},{"$f":"DATA[[#Headers],[VS7_Times_CivLegalAdv]]=Checks!XN2","v":true},{"$f":"DATA[[#Headers],[VS7_Vic_Counsel]]=Checks!XO2","v":true},{"$f":"DATA[[#Headers],[VS7_Times_Counsel]]=Checks!XP2","v":true},{"$f":"DATA[[#Headers],[VS7_Vic_CrimJustAdv]]=Checks!XQ2","v":true},{"$f":"DATA[[#Headers],[VS7_Times_CrimJustAdv]]=Checks!XR2","v":true},{"$f":"DATA[[#Headers],[VS7_Vic_CrisisInt]]=Checks!XS2","v":true},{"$f":"DATA[[#Headers],[VS7_Times_CrisisInt]]=Checks!XT2","v":true},{"$f":"DATA[[#Headers],[VS7_Vic_ForensicExam]]=Checks!XU2","v":true},{"$f":"DATA[[#Headers],[VS7_Times_ForensicExam]]=Checks!XV2","v":true},{"$f":"DATA[[#Headers],[VS7_Vic_HospResp]]=Checks!XW2","v":true},{"$f":"DATA[[#Headers],[VS7_Times_HospResp]]=Checks!XX2","v":true},{"$f":"DATA[[#Headers],[VS7_Vic_Language]]=Checks!XY2","v":true},{"$f":"DATA[[#Headers],[VS7_Times_Language]]=Checks!XZ2","v":true},{"$f":"DATA[[#Headers],[VS7_Vic_Transport]]=Checks!YA2","v":true},{"$f":"DATA[[#Headers],[VS7_Times_Transport]]=Checks!YB2","v":true},{"$f":"DATA[[#Headers],[VS7_Vic_VicAdv]]=Checks!YC2","v":true},{"$f":"DATA[[#Headers],[VS7_Times_VicAdv]]=Checks!YD2","v":true},{"$f":"DATA[[#Headers],[VS7_OtherDesc]]=Checks!YE2","v":true},{"$f":"DATA[[#Headers],[VS7_Vic_Other]]=Checks!YF2","v":true},{"$f":"DATA[[#Headers],[VS7_Times_Other]]=Checks!YG2","v":true},{"$f":"DATA[[#Headers],[VS7_Vic_Shelter]]=Checks!YH2","v":true},{"$f":"DATA[[#Headers],[VS7_Fam_Shelter]]=Checks!YI2","v":true},{"$f":"DATA[[#Headers],[VS7_Bednight_Shelter]]=Checks!YJ2","v":true},{"$f":"DATA[[#Headers],[VS7_Vic_Thousing]]=Checks!YK2","v":true},{"$f":"DATA[[#Headers],[VS7_Fam_Thousing]]=Checks!YL2","v":true},{"$f":"DATA[[#Headers],[VS7_Bednight_Thousing]]=Checks!YM2","v":true},{"$f":"DATA[[#Headers],[VS8_Hotline_Vic]]=Checks!YN2","v":true},{"$f":"DATA[[#Headers],[VS8_Hotline_Total]]=Checks!YO2","v":true},{"$f":"DATA[[#Headers],[VS9_Notification]]=Checks!YP2","v":true},{"$f":"DATA[[#Headers],[VS10_Req_Temp_SA]]=Checks!YQ2","v":true},{"$f":"DATA[[#Headers],[VS10_Req_Final_SA]]=Checks!YR2","v":true},{"$f":"DATA[[#Headers],[VS10_Grnt_Temp_SA]]=Checks!YS2","v":true},{"$f":"DATA[[#Headers],[VS10_Grnt_Final_SA]]=Checks!YT2","v":true},{"$f":"DATA[[#Headers],[VS10_Req_Temp_DV]]=Checks!YU2","v":true},{"$f":"DATA[[#Headers],[VS10_Req_Final_DV]]=Checks!YV2","v":true},{"$f":"DATA[[#Headers],[VS10_Grnt_Temp_DV]]=Checks!YW2","v":true},{"$f":"DATA[[#Headers],[VS10_Grnt_Final_DV]]=Checks!YX2","v":true},{"$f":"DATA[[#Headers],[VS10_Req_Temp_STK]]=Checks!YY2","v":true},{"$f":"DATA[[#Headers],[VS10_Req_Final_STK]]=Checks!YZ2","v":true},{"$f":"DATA[[#Headers],[VS10_Grnt_Temp_STK]]=Checks!ZA2","v":true},{"$f":"DATA[[#Headers],[VS10_Grnt_Final_STK]]=Checks!ZB2","v":true},{"$f":"DATA[[#Headers],[LS_FundsUsed_YesNo]]=Checks!ZC2","v":true},{"$f":"DATA[[#Headers],[LS_FundsUsed_1or0]]=Checks!ZD2","v":true},{"$f":"DATA[[#Headers],[LS1_PO]]=Checks!ZE2","v":true},{"$f":"DATA[[#Headers],[LS1_FamMat]]=Checks!ZF2","v":true},{"$f":"DATA[[#Headers],[LS1_FamMat_Divorce]]=Checks!ZG2","v":true},{"$f":"DATA[[#Headers],[LS1_FamMat_Custody]]=Checks!ZH2","v":true},{"$f":"DATA[[#Headers],[LS1_FamMat_Paternity]]=Checks!ZI2","v":true},{"$f":"DATA[[#Headers],[LS1_FamMat_ChildSupp]]=Checks!ZJ2","v":true},{"$f":"DATA[[#Headers],[LS1_FamMat_Other]]=Checks!ZK2","v":true},{"$f":"DATA[[#Headers],[LS1_Consumer]]=Checks!ZL2","v":true},{"$f":"DATA[[#Headers],[LS1_Employment]]=Checks!ZM2","v":true},{"$f":"DATA[[#Headers],[LS1_Income]]=Checks!ZN2","v":true},{"$f":"DATA[[#Headers],[LS1_Housing]]=Checks!ZO2","v":true},{"$f":"DATA[[#Headers],[LS1_ImmMat]]=Checks!ZP2","v":true},{"$f":"DATA[[#Headers],[LS1_ImmMat_VAWA]]=Checks!ZQ2","v":true},{"$f":"DATA[[#Headers],[LS1_ImmMat_Cancel]]=Checks!ZR2","v":true},{"$f":"DATA[[#Headers],[LS1_ImmMat_Uvisa]]=Checks!ZS2","v":true},{"$f":"DATA[[#Headers],[LS1_ImmMat_Tvisa]]=Checks!ZT2","v":true},{"$f":"DATA[[#Headers],[LS1_ImmMat_Other]]=Checks!ZU2","v":true},{"$f":"DATA[[#Headers],[LS1_Criminal]]=Checks!ZV2","v":true},{"$f":"DATA[[#Headers],[LS1_Education]]=Checks!ZW2","v":true},{"$f":"DATA[[#Headers],[LS1_OtherDesc]]=Checks!ZX2","v":true},{"$f":"DATA[[#Headers],[LS1_Other]]=Checks!ZY2","v":true},{"$f":"DATA[[#Headers],[LS2_LegalAssist]]=Checks!ZZ2","v":true},{"$f":"DATA[[#Headers],[LS2_LegalAssist_Multiple]]=Checks!AAA2","v":true},{"$f":"DATA[[#Headers],[LS3_PO_Info]]=Checks!AAB2","v":true},{"$f":"DATA[[#Headers],[LS3_PO_BriefService]]=Checks!AAC2","v":true},{"$f":"DATA[[#Headers],[LS3_PO_AdminDec]]=Checks!AAD2","v":true},{"$f":"DATA[[#Headers],[LS3_PO_CrtDec]]=Checks!AAE2","v":true},{"$f":"DATA[[#Headers],[LS3_PO_NegRes_Filed]]=Checks!AAF2","v":true},{"$f":"DATA[[#Headers],[LS3_PO_NegRes_NoFiled]]=Checks!AAG2","v":true},{"$f":"DATA[[#Headers],[LS3_PO_Withdrew]]=Checks!AAH2","v":true},{"$f":"DATA[[#Headers],[LS3_PO_Other]]=Checks!AAI2","v":true},{"$f":"DATA[[#Headers],[LS3_Divorce_Info]]=Checks!AAJ2","v":true},{"$f":"DATA[[#Headers],[LS3_Divorce_BriefService]]=Checks!AAK2","v":true},{"$f":"DATA[[#Headers],[LS3_Divorce_AdminDec]]=Checks!AAL2","v":true},{"$f":"DATA[[#Headers],[LS3_Divorce_CrtDec]]=Checks!AAM2","v":true},{"$f":"DATA[[#Headers],[LS3_Divorce_NegRes_Filed]]=Checks!AAN2","v":true},{"$f":"DATA[[#Headers],[LS3_Divorce_NegRes_NoFiled]]=Checks!AAO2","v":true},{"$f":"DATA[[#Headers],[LS3_Divorce_Withdrew]]=Checks!AAP2","v":true},{"$f":"DATA[[#Headers],[LS3_Divorce_Other]]=Checks!AAQ2","v":true},{"$f":"DATA[[#Headers],[LS3_Custody_Info]]=Checks!AAR2","v":true},{"$f":"DATA[[#Headers],[LS3_Custody_BriefService]]=Checks!AAS2","v":true},{"$f":"DATA[[#Headers],[LS3_Custody_AdminDec]]=Checks!AAT2","v":true},{"$f":"DATA[[#Headers],[LS3_Custody_CrtDec]]=Checks!AAU2","v":true},{"$f":"DATA[[#Headers],[LS3_Custody_NegRes_Filed]]=Checks!AAV2","v":true},{"$f":"DATA[[#Headers],[LS3_Custody_NegRes_NoFiled]]=Checks!AAW2","v":true},{"$f":"DATA[[#Headers],[LS3_Custody_Withdrew]]=Checks!AAX2","v":true},{"$f":"DATA[[#Headers],[LS3_Custody_Other]]=Checks!AAY2","v":true},{"$f":"DATA[[#Headers],[LS3_Paternity_Info]]=Checks!AAZ2","v":true},{"$f":"DATA[[#Headers],[LS3_Paternity_BriefService]]=Checks!ABA2","v":true},{"$f":"DATA[[#Headers],[LS3_Paternity_AdminDec]]=Checks!ABB2","v":true},{"$f":"DATA[[#Headers],[LS3_Paternity_CrtDec]]=Checks!ABC2","v":true},{"$f":"DATA[[#Headers],[LS3_Paternity_NegRes_Filed]]=Checks!ABD2","v":true},{"$f":"DATA[[#Headers],[LS3_Paternity_NegRes_NoFiled]]=Checks!ABE2","v":true},{"$f":"DATA[[#Headers],[LS3_Paternity_Withdrew]]=Checks!ABF2","v":true},{"$f":"DATA[[#Headers],[LS3_Paternity_Other]]=Checks!ABG2","v":true},{"$f":"DATA[[#Headers],[LS3_ChildSupp_Info]]=Checks!ABH2","v":true},{"$f":"DATA[[#Headers],[LS3_ChildSupp_BriefService]]=Checks!ABI2","v":true},{"$f":"DATA[[#Headers],[LS3_ChildSupp_AdminDec]]=Checks!ABJ2","v":true},{"$f":"DATA[[#Headers],[LS3_ChildSupp_CrtDec]]=Checks!ABK2","v":true},{"$f":"DATA[[#Headers],[LS3_ChildSupp_NegRes_Filed]]=Checks!ABL2","v":true},{"$f":"DATA[[#Headers],[LS3_ChildSupp_NegRes_NoFiled]]=Checks!ABM2","v":true},{"$f":"DATA[[#Headers],[LS3_ChildSupp_Withdrew]]=Checks!ABN2","v":true},{"$f":"DATA[[#Headers],[LS3_ChildSupp_Other]]=Checks!ABO2","v":true},{"$f":"DATA[[#Headers],[LS3_FamOther_Info]]=Checks!ABP2","v":true},{"$f":"DATA[[#Headers],[LS3_FamOther_BriefService]]=Checks!ABQ2","v":true},{"$f":"DATA[[#Headers],[LS3_FamOther_AdminDec]]=Checks!ABR2","v":true},{"$f":"DATA[[#Headers],[LS3_FamOther_CrtDec]]=Checks!ABS2","v":true},{"$f":"DATA[[#Headers],[LS3_FamOther_NegRes_Filed]]=Checks!ABT2","v":true},{"$f":"DATA[[#Headers],[LS3_FamOther_NegRes_NoFiled]]=Checks!ABU2","v":true},{"$f":"DATA[[#Headers],[LS3_FamOther_Withdrew]]=Checks!ABV2","v":true},{"$f":"DATA[[#Headers],[LS3_FamOther_Other]]=Checks!ABW2","v":true},{"$f":"DATA[[#Headers],[LS3_Consumer_Info]]=Checks!ABX2","v":true},{"$f":"DATA[[#Headers],[LS3_Consumer_BriefService]]=Checks!ABY2","v":true},{"$f":"DATA[[#Headers],[LS3_Consumer_AdminDec]]=Checks!ABZ2","v":true},{"$f":"DATA[[#Headers],[LS3_Consumer_CrtDec]]=Checks!ACA2","v":true},{"$f":"DATA[[#Headers],[LS3_Consumer_NegRes_Filed]]=Checks!ACB2","v":true},{"$f":"DATA[[#Headers],[LS3_Consumer_NegRes_NoFiled]]=Checks!ACC2","v":true},{"$f":"DATA[[#Headers],[LS3_Consumer_Withdrew]]=Checks!ACD2","v":true},{"$f":"DATA[[#Headers],[LS3_Consumer_Other]]=Checks!ACE2","v":true},{"$f":"DATA[[#Headers],[LS3_Employment_Info]]=Checks!ACF2","v":true},{"$f":"DATA[[#Headers],[LS3_Employment_BriefService]]=Checks!ACG2","v":true},{"$f":"DATA[[#Headers],[LS3_Employment_AdminDec]]=Checks!ACH2","v":true},{"$f":"DATA[[#Headers],[LS3_Employment_CrtDec]]=Checks!ACI2","v":true},{"$f":"DATA[[#Headers],[LS3_Employment_NegRes_Filed]]=Checks!ACJ2","v":true},{"$f":"DATA[[#Headers],[LS3_Employment_NegRes_NoFiled]]=Checks!ACK2","v":true},{"$f":"DATA[[#Headers],[LS3_Employment_Withdrew]]=Checks!ACL2","v":true},{"$f":"DATA[[#Headers],[LS3_Employment_Other]]=Checks!ACM2","v":true},{"$f":"DATA[[#Headers],[LS3_Income_Info]]=Checks!ACN2","v":true},{"$f":"DATA[[#Headers],[LS3_Income_BriefService]]=Checks!ACO2","v":true},{"$f":"DATA[[#Headers],[LS3_Income_AdminDec]]=Checks!ACP2","v":true},{"$f":"DATA[[#Headers],[LS3_Income_CrtDec]]=Checks!ACQ2","v":true},{"$f":"DATA[[#Headers],[LS3_Income_NegRes_Filed]]=Checks!ACR2","v":true},{"$f":"DATA[[#Headers],[LS3_Income_NegRes_NoFiled]]=Checks!ACS2","v":true},{"$f":"DATA[[#Headers],[LS3_Income_Withdrew]]=Checks!ACT2","v":true},{"$f":"DATA[[#Headers],[LS3_Income_Other]]=Checks!ACU2","v":true},{"$f":"DATA[[#Headers],[LS3_Housing_Info]]=Checks!ACV2","v":true},{"$f":"DATA[[#Headers],[LS3_Housing_BriefService]]=Checks!ACW2","v":true},{"$f":"DATA[[#Headers],[LS3_Housing_AdminDec]]=Checks!ACX2","v":true},{"$f":"DATA[[#Headers],[LS3_Housing_CrtDec]]=Checks!ACY2","v":true},{"$f":"DATA[[#Headers],[LS3_Housing_NegRes_Filed]]=Checks!ACZ2","v":true},{"$f":"DATA[[#Headers],[LS3_Housing_NegRes_NoFiled]]=Checks!ADA2","v":true},{"$f":"DATA[[#Headers],[LS3_Housing_Withdrew]]=Checks!ADB2","v":true},{"$f":"DATA[[#Headers],[LS3_Housing_Other]]=Checks!ADC2","v":true},{"$f":"DATA[[#Headers],[LS3_VAWA_Info]]=Checks!ADD2","v":true},{"$f":"DATA[[#Headers],[LS3_VAWA_BriefService]]=Checks!ADE2","v":true},{"$f":"DATA[[#Headers],[LS3_VAWA_AdminDec]]=Checks!ADF2","v":true},{"$f":"DATA[[#Headers],[LS3_VAWA_CrtDec]]=Checks!ADG2","v":true},{"$f":"DATA[[#Headers],[LS3_VAWA_NegRes_Filed]]=Checks!ADH2","v":true},{"$f":"DATA[[#Headers],[LS3_VAWA_NegRes_NoFiled]]=Checks!ADI2","v":true},{"$f":"DATA[[#Headers],[LS3_VAWA_Withdrew]]=Checks!ADJ2","v":true},{"$f":"DATA[[#Headers],[LS3_VAWA_Other]]=Checks!ADK2","v":true},{"$f":"DATA[[#Headers],[LS3_Cancel_Info]]=Checks!ADL2","v":true},{"$f":"DATA[[#Headers],[LS3_Cancel_BriefService]]=Checks!ADM2","v":true},{"$f":"DATA[[#Headers],[LS3_Cancel_AdminDec]]=Checks!ADN2","v":true},{"$f":"DATA[[#Headers],[LS3_Cancel_CrtDec]]=Checks!ADO2","v":true},{"$f":"DATA[[#Headers],[LS3_Cancel_NegRes_Filed]]=Checks!ADP2","v":true},{"$f":"DATA[[#Headers],[LS3_Cancel_NegRes_NoFiled]]=Checks!ADQ2","v":true},{"$f":"DATA[[#Headers],[LS3_Cancel_Withdrew]]=Checks!ADR2","v":true},{"$f":"DATA[[#Headers],[LS3_Cancel_Other]]=Checks!ADS2","v":true},{"$f":"DATA[[#Headers],[LS3_Uvisa_Info]]=Checks!ADT2","v":true},{"$f":"DATA[[#Headers],[LS3_Uvisa_BriefService]]=Checks!ADU2","v":true},{"$f":"DATA[[#Headers],[LS3_Uvisa_AdminDec]]=Checks!ADV2","v":true},{"$f":"DATA[[#Headers],[LS3_Uvisa_CrtDec]]=Checks!ADW2","v":true},{"$f":"DATA[[#Headers],[LS3_Uvisa_NegRes_Filed]]=Checks!ADX2","v":true},{"$f":"DATA[[#Headers],[LS3_Uvisa_NegRes_NoFiled]]=Checks!ADY2","v":true},{"$f":"DATA[[#Headers],[LS3_Uvisa_Withdrew]]=Checks!ADZ2","v":true},{"$f":"DATA[[#Headers],[LS3_Uvisa_Other]]=Checks!AEA2","v":true},{"$f":"DATA[[#Headers],[LS3_Tvisa_Info]]=Checks!AEB2","v":true},{"$f":"DATA[[#Headers],[LS3_Tvisa_BriefService]]=Checks!AEC2","v":true},{"$f":"DATA[[#Headers],[LS3_Tvisa_AdminDec]]=Checks!AED2","v":true},{"$f":"DATA[[#Headers],[LS3_Tvisa_CrtDec]]=Checks!AEE2","v":true},{"$f":"DATA[[#Headers],[LS3_Tvisa_NegRes_Filed]]=Checks!AEF2","v":true},{"$f":"DATA[[#Headers],[LS3_Tvisa_NegRes_NoFiled]]=Checks!AEG2","v":true},{"$f":"DATA[[#Headers],[LS3_Tvisa_Withdrew]]=Checks!AEH2","v":true},{"$f":"DATA[[#Headers],[LS3_Tvisa_Other]]=Checks!AEI2","v":true},{"$f":"DATA[[#Headers],[LS3_ImmOther_Info]]=Checks!AEJ2","v":true},{"$f":"DATA[[#Headers],[LS3_ImmOther_BriefService]]=Checks!AEK2","v":true},{"$f":"DATA[[#Headers],[LS3_ImmOther_AdminDec]]=Checks!AEL2","v":true},{"$f":"DATA[[#Headers],[LS3_ImmOther_CrtDec]]=Checks!AEM2","v":true},{"$f":"DATA[[#Headers],[LS3_ImmOther_NegRes_Filed]]=Checks!AEN2","v":true},{"$f":"DATA[[#Headers],[LS3_ImmOther_NegRes_NoFiled]]=Checks!AEO2","v":true},{"$f":"DATA[[#Headers],[LS3_ImmOther_Withdrew]]=Checks!AEP2","v":true},{"$f":"DATA[[#Headers],[LS3_ImmOther_Other]]=Checks!AEQ2","v":true},{"$f":"DATA[[#Headers],[LS3_Criminal_Info]]=Checks!AER2","v":true},{"$f":"DATA[[#Headers],[LS3_Criminal_BriefService]]=Checks!AES2","v":true},{"$f":"DATA[[#Headers],[LS3_Criminal_AdminDec]]=Checks!AET2","v":true},{"$f":"DATA[[#Headers],[LS3_Criminal_CrtDec]]=Checks!AEU2","v":true},{"$f":"DATA[[#Headers],[LS3_Criminal_NegRes_Filed]]=Checks!AEV2","v":true},{"$f":"DATA[[#Headers],[LS3_Criminal_NegRes_NoFiled]]=Checks!AEW2","v":true},{"$f":"DATA[[#Headers],[LS3_Criminal_Withdrew]]=Checks!AEX2","v":true},{"$f":"DATA[[#Headers],[LS3_Criminal_Other]]=Checks!AEY2","v":true},{"$f":"DATA[[#Headers],[LS3_Education_Info]]=Checks!AEZ2","v":true},{"$f":"DATA[[#Headers],[LS3_Education_BriefService]]=Checks!AFA2","v":true},{"$f":"DATA[[#Headers],[LS3_Education_AdminDec]]=Checks!AFB2","v":true},{"$f":"DATA[[#Headers],[LS3_Education_CrtDec]]=Checks!AFC2","v":true},{"$f":"DATA[[#Headers],[LS3_Education_NegRes_Filed]]=Checks!AFD2","v":true},{"$f":"DATA[[#Headers],[LS3_Education_NegRes_NoFiled]]=Checks!AFE2","v":true},{"$f":"DATA[[#Headers],[LS3_Education_Withdrew]]=Checks!AFF2","v":true},{"$f":"DATA[[#Headers],[LS3_Education_Other]]=Checks!AFG2","v":true},{"$f":"DATA[[#Headers],[LS3_OtherDesc]]=Checks!AFH2","v":true},{"$f":"DATA[[#Headers],[LS3_Other_Info]]=Checks!AFI2","v":true},{"$f":"DATA[[#Headers],[LS3_Other_BriefService]]=Checks!AFJ2","v":true},{"$f":"DATA[[#Headers],[LS3_Other_AdminDec]]=Checks!AFK2","v":true},{"$f":"DATA[[#Headers],[LS3_Other_CrtDec]]=Checks!AFL2","v":true},{"$f":"DATA[[#Headers],[LS3_Other_NegRes_Filed]]=Checks!AFM2","v":true},{"$f":"DATA[[#Headers],[LS3_Other_NegRes_NoFiled]]=Checks!AFN2","v":true},{"$f":"DATA[[#Headers],[LS3_Other_Withdrew]]=Checks!AFO2","v":true},{"$f":"DATA[[#Headers],[LS3_Other_Other]]=Checks!AFP2","v":true},{"$f":"DATA[[#Headers],[LE_FundsUsed_YesNo]]=Checks!AFQ2","v":true},{"$f":"DATA[[#Headers],[LE_FundsUsed_1or0]]=Checks!AFR2","v":true},{"$f":"DATA[[#Headers],[LE1_Calls_SA]]=Checks!AFS2","v":true},{"$f":"DATA[[#Headers],[LE1_Calls_DV]]=Checks!AFT2","v":true},{"$f":"DATA[[#Headers],[LE1_Calls_STK]]=Checks!AFU2","v":true},{"$f":"DATA[[#Headers],[LE1_IncidentRpt_SA]]=Checks!AFV2","v":true},{"$f":"DATA[[#Headers],[LE1_IncidentRpt_DV]]=Checks!AFW2","v":true},{"$f":"DATA[[#Headers],[LE1_IncidentRpt_STK]]=Checks!AFX2","v":true},{"$f":"DATA[[#Headers],[LE1_Investigated_SA]]=Checks!AFY2","v":true},{"$f":"DATA[[#Headers],[LE1_Investigated_DV]]=Checks!AFZ2","v":true},{"$f":"DATA[[#Headers],[LE1_Investigated_STK]]=Checks!AGA2","v":true},{"$f":"DATA[[#Headers],[LE1_ForensicEvid_SA]]=Checks!AGB2","v":true},{"$f":"DATA[[#Headers],[LE1_Arrest_SA]]=Checks!AGC2","v":true},{"$f":"DATA[[#Headers],[LE1_Arrest_DV]]=Checks!AGD2","v":true},{"$f":"DATA[[#Headers],[LE1_Arrest_STK]]=Checks!AGE2","v":true},{"$f":"DATA[[#Headers],[LE1_DualArrest_DV]]=Checks!AGF2","v":true},{"$f":"DATA[[#Headers],[LE1_POserved_SA]]=Checks!AGG2","v":true},{"$f":"DATA[[#Headers],[LE1_POserved_DV]]=Checks!AGH2","v":true},{"$f":"DATA[[#Headers],[LE1_POserved_STK]]=Checks!AGI2","v":true},{"$f":"DATA[[#Headers],[LE1_Arrest_BailViol_SA]]=Checks!AGJ2","v":true},{"$f":"DATA[[#Headers],[LE1_Arrest_BailViol_DV]]=Checks!AGK2","v":true},{"$f":"DATA[[#Headers],[LE1_Arrest_BailViol_STK]]=Checks!AGL2","v":true},{"$f":"DATA[[#Headers],[LE1_Warrant_SA]]=Checks!AGM2","v":true},{"$f":"DATA[[#Headers],[LE1_Warrant_DV]]=Checks!AGN2","v":true},{"$f":"DATA[[#Headers],[LE1_Warrant_STK]]=Checks!AGO2","v":true},{"$f":"DATA[[#Headers],[LE1_Arrest_POViol_SA]]=Checks!AGP2","v":true},{"$f":"DATA[[#Headers],[LE1_Arrest_POViol_DV]]=Checks!AGQ2","v":true},{"$f":"DATA[[#Headers],[LE1_Arrest_POViol_STK]]=Checks!AGR2","v":true},{"$f":"DATA[[#Headers],[LE1_POissued_SA]]=Checks!AGS2","v":true},{"$f":"DATA[[#Headers],[LE1_POissued_DV]]=Checks!AGT2","v":true},{"$f":"DATA[[#Headers],[LE1_POissued_STK]]=Checks!AGU2","v":true},{"$f":"DATA[[#Headers],[LE1_RefToPros_SA]]=Checks!AGV2","v":true},{"$f":"DATA[[#Headers],[LE1_RefToPros_DV]]=Checks!AGW2","v":true},{"$f":"DATA[[#Headers],[LE1_RefToPros_STK]]=Checks!AGX2","v":true},{"$f":"DATA[[#Headers],[LE1_RefToPros_Fed_SA]]=Checks!AGY2","v":true},{"$f":"DATA[[#Headers],[LE1_RefToPros_Fed_DV]]=Checks!AGZ2","v":true},{"$f":"DATA[[#Headers],[LE1_RefToPros_Fed_STK]]=Checks!AHA2","v":true},{"$f":"DATA[[#Headers],[LE2_VSRef_Govt]]=Checks!AHB2","v":true},{"$f":"DATA[[#Headers],[LE2_VSRef_NonGovt]]=Checks!AHC2","v":true},{"$f":"DATA[[#Headers],[LE3_Req_Temp_SA]]=Checks!AHD2","v":true},{"$f":"DATA[[#Headers],[LE3_Req_Final_SA]]=Checks!AHE2","v":true},{"$f":"DATA[[#Headers],[LE3_Grnt_Temp_SA]]=Checks!AHF2","v":true},{"$f":"DATA[[#Headers],[LE3_Grnt_Final_SA]]=Checks!AHG2","v":true},{"$f":"DATA[[#Headers],[LE3_Req_Temp_DV]]=Checks!AHH2","v":true},{"$f":"DATA[[#Headers],[LE3_Req_Final_DV]]=Checks!AHI2","v":true},{"$f":"DATA[[#Headers],[LE3_Grnt_Temp_DV]]=Checks!AHJ2","v":true},{"$f":"DATA[[#Headers],[LE3_Grnt_Final_DV]]=Checks!AHK2","v":true},{"$f":"DATA[[#Headers],[LE3_Req_Temp_STK]]=Checks!AHL2","v":true},{"$f":"DATA[[#Headers],[LE3_Req_Final_STK]]=Checks!AHM2","v":true},{"$f":"DATA[[#Headers],[LE3_Grnt_Temp_STK]]=Checks!AHN2","v":true},{"$f":"DATA[[#Headers],[LE3_Grnt_Final_STK]]=Checks!AHO2","v":true},{"$f":"DATA[[#Headers],[Pros_FundsUsed_YesNo]]=Checks!AHP2","v":true},{"$f":"DATA[[#Headers],[Pros_FundsUsed_1or0]]=Checks!AHQ2","v":true},{"$f":"DATA[[#Headers],[Pros1_Received_DV]]=Checks!AHR2","v":true},{"$f":"DATA[[#Headers],[Pros1_Received_SA]]=Checks!AHS2","v":true},{"$f":"DATA[[#Headers],[Pros1_Received_STK]]=Checks!AHT2","v":true},{"$f":"DATA[[#Headers],[Pros1_Accepted_DV]]=Checks!AHU2","v":true},{"$f":"DATA[[#Headers],[Pros1_Accepted_SA]]=Checks!AHV2","v":true},{"$f":"DATA[[#Headers],[Pros1_Accepted_STK]]=Checks!AHW2","v":true},{"$f":"DATA[[#Headers],[Pros1_Declined_DV]]=Checks!AHX2","v":true},{"$f":"DATA[[#Headers],[Pros1_Declined_SA]]=Checks!AHY2","v":true},{"$f":"DATA[[#Headers],[Pros1_Declined_STK]]=Checks!AHZ2","v":true},{"$f":"DATA[[#Headers],[Pros1_Transfer_DV]]=Checks!AIA2","v":true},{"$f":"DATA[[#Headers],[Pros1_Transfer_SA]]=Checks!AIB2","v":true},{"$f":"DATA[[#Headers],[Pros1_Transfer_STK]]=Checks!AIC2","v":true},{"$f":"DATA[[#Headers],[Pros1_RefToFed_DV]]=Checks!AID2","v":true},{"$f":"DATA[[#Headers],[Pros1_RefToFed_SA]]=Checks!AIE2","v":true},{"$f":"DATA[[#Headers],[Pros1_RefToFed_STK]]=Checks!AIF2","v":true},{"$f":"DATA[[#Headers],[Pros2_IE_Return_DV]]=Checks!AIG2","v":true},{"$f":"DATA[[#Headers],[Pros2_IE_Return_SA]]=Checks!AIH2","v":true},{"$f":"DATA[[#Headers],[Pros2_IE_Return_STK]]=Checks!AII2","v":true},{"$f":"DATA[[#Headers],[Pros2_IE_Unavail_DV]]=Checks!AIJ2","v":true},{"$f":"DATA[[#Headers],[Pros2_IE_Unavail_SA]]=Checks!AIK2","v":true},{"$f":"DATA[[#Headers],[Pros2_IE_Unavail_STK]]=Checks!AIL2","v":true},{"$f":"DATA[[#Headers],[Pros2_VicReq_DV]]=Checks!AIM2","v":true},{"$f":"DATA[[#Headers],[Pros2_VicReq_SA]]=Checks!AIN2","v":true},{"$f":"DATA[[#Headers],[Pros2_VicReq_STK]]=Checks!AIO2","v":true},{"$f":"DATA[[#Headers],[Pros2_OtherDesc]]=Checks!AIP2","v":true},{"$f":"DATA[[#Headers],[Pros2_Other_DV]]=Checks!AIQ2","v":true},{"$f":"DATA[[#Headers],[Pros2_Other_SA]]=Checks!AIR2","v":true},{"$f":"DATA[[#Headers],[Pros2_Other_STK]]=Checks!AIS2","v":true},{"$f":"DATA[[#Headers],[Pros3_Dismiss_DV_Ord]]=Checks!AIT2","v":true},{"$f":"DATA[[#Headers],[Pros3_DefAdj_DV_Ord]]=Checks!AIU2","v":true},{"$f":"DATA[[#Headers],[Pros3_Convict_PAC_DV_Ord]]=Checks!AIV2","v":true},{"$f":"DATA[[#Headers],[Pros3_Convict_PSC_DV_Ord]]=Checks!AIW2","v":true},{"$f":"DATA[[#Headers],[Pros3_Convict_PLC_DV_Ord]]=Checks!AIX2","v":true},{"$f":"DATA[[#Headers],[Pros3_Convict_GAC_DV_Ord]]=Checks!AIY2","v":true},{"$f":"DATA[[#Headers],[Pros3_Convict_GSC_DV_Ord]]=Checks!AIZ2","v":true},{"$f":"DATA[[#Headers],[Pros3_Convict_GLC_DV_Ord]]=Checks!AJA2","v":true},{"$f":"DATA[[#Headers],[Pros3_Acquit_DV_Ord]]=Checks!AJB2","v":true},{"$f":"DATA[[#Headers],[Pros3_Total_DV_Ord]]=Checks!AJC2","v":true},{"$f":"DATA[[#Headers],[Pros3_Dismiss_DV_Mis]]=Checks!AJD2","v":true},{"$f":"DATA[[#Headers],[Pros3_DefAdj_DV_Mis]]=Checks!AJE2","v":true},{"$f":"DATA[[#Headers],[Pros3_Convict_PAC_DV_Mis]]=Checks!AJF2","v":true},{"$f":"DATA[[#Headers],[Pros3_Convict_PSC_DV_Mis]]=Checks!AJG2","v":true},{"$f":"DATA[[#Headers],[Pros3_Convict_PLC_DV_Mis]]=Checks!AJH2","v":true},{"$f":"DATA[[#Headers],[Pros3_Convict_GAC_DV_Mis]]=Checks!AJI2","v":true},{"$f":"DATA[[#Headers],[Pros3_Convict_GSC_DV_Mis]]=Checks!AJJ2","v":true},{"$f":"DATA[[#Headers],[Pros3_Convict_GLC_DV_Mis]]=Checks!AJK2","v":true},{"$f":"DATA[[#Headers],[Pros3_Acquit_DV_Mis]]=Checks!AJL2","v":true},{"$f":"DATA[[#Headers],[Pros3_Total_DV_Mis]]=Checks!AJM2","v":true},{"$f":"DATA[[#Headers],[Pros3_Dismiss_DV_Fel]]=Checks!AJN2","v":true},{"$f":"DATA[[#Headers],[Pros3_DefAdj_DV_Fel]]=Checks!AJO2","v":true},{"$f":"DATA[[#Headers],[Pros3_Convict_PAC_DV_Fel]]=Checks!AJP2","v":true},{"$f":"DATA[[#Headers],[Pros3_Convict_PSC_DV_Fel]]=Checks!AJQ2","v":true},{"$f":"DATA[[#Headers],[Pros3_Convict_PLC_DV_Fel]]=Checks!AJR2","v":true},{"$f":"DATA[[#Headers],[Pros3_Convict_GAC_DV_Fel]]=Checks!AJS2","v":true},{"$f":"DATA[[#Headers],[Pros3_Convict_GSC_DV_Fel]]=Checks!AJT2","v":true},{"$f":"DATA[[#Headers],[Pros3_Convict_GLC_DV_Fel]]=Checks!AJU2","v":true},{"$f":"DATA[[#Headers],[Pros3_Acquit_DV_Fel]]=Checks!AJV2","v":true},{"$f":"DATA[[#Headers],[Pros3_Total_DV_Fel]]=Checks!AJW2","v":true},{"$f":"DATA[[#Headers],[Pros3_Dismiss_DV_Hom]]=Checks!AJX2","v":true},{"$f":"DATA[[#Headers],[Pros3_DefAdj_DV_Hom]]=Checks!AJY2","v":true},{"$f":"DATA[[#Headers],[Pros3_Convict_PAC_DV_Hom]]=Checks!AJZ2","v":true},{"$f":"DATA[[#Headers],[Pros3_Convict_PSC_DV_Hom]]=Checks!AKA2","v":true},{"$f":"DATA[[#Headers],[Pros3_Convict_PLC_DV_Hom]]=Checks!AKB2","v":true},{"$f":"DATA[[#Headers],[Pros3_Convict_GAC_DV_Hom]]=Checks!AKC2","v":true},{"$f":"DATA[[#Headers],[Pros3_Convict_GSC_DV_Hom]]=Checks!AKD2","v":true},{"$f":"DATA[[#Headers],[Pros3_Convict_GLC_DV_Hom]]=Checks!AKE2","v":true},{"$f":"DATA[[#Headers],[Pros3_Acquit_DV_Hom]]=Checks!AKF2","v":true},{"$f":"DATA[[#Headers],[Pros3_Total_DV_Hom]]=Checks!AKG2","v":true},{"$f":"DATA[[#Headers],[Pros3_Dismiss_SA_Mis]]=Checks!AKH2","v":true},{"$f":"DATA[[#Headers],[Pros3_DefAdj_SA_Mis]]=Checks!AKI2","v":true},{"$f":"DATA[[#Headers],[Pros3_Convict_PAC_SA_Mis]]=Checks!AKJ2","v":true},{"$f":"DATA[[#Headers],[Pros3_Convict_PSC_SA_Mis]]=Checks!AKK2","v":true},{"$f":"DATA[[#Headers],[Pros3_Convict_PLC_SA_Mis]]=Checks!AKL2","v":true},{"$f":"DATA[[#Headers],[Pros3_Convict_GAC_SA_Mis]]=Checks!AKM2","v":true},{"$f":"DATA[[#Headers],[Pros3_Convict_GSC_SA_Mis]]=Checks!AKN2","v":true},{"$f":"DATA[[#Headers],[Pros3_Convict_GLC_SA_Mis]]=Checks!AKO2","v":true},{"$f":"DATA[[#Headers],[Pros3_Acquit_SA_Mis]]=Checks!AKP2","v":true},{"$f":"DATA[[#Headers],[Pros3_Total_SA_Mis]]=Checks!AKQ2","v":true},{"$f":"DATA[[#Headers],[Pros3_Dismiss_SA_Fel]]=Checks!AKR2","v":true},{"$f":"DATA[[#Headers],[Pros3_DefAdj_SA_Fel]]=Checks!AKS2","v":true},{"$f":"DATA[[#Headers],[Pros3_Convict_PAC_SA_Fel]]=Checks!AKT2","v":true},{"$f":"DATA[[#Headers],[Pros3_Convict_PSC_SA_Fel]]=Checks!AKU2","v":true},{"$f":"DATA[[#Headers],[Pros3_Convict_PLC_SA_Fel]]=Checks!AKV2","v":true},{"$f":"DATA[[#Headers],[Pros3_Convict_GAC_SA_Fel]]=Checks!AKW2","v":true},{"$f":"DATA[[#Headers],[Pros3_Convict_GSC_SA_Fel]]=Checks!AKX2","v":true},{"$f":"DATA[[#Headers],[Pros3_Convict_GLC_SA_Fel]]=Checks!AKY2","v":true},{"$f":"DATA[[#Headers],[Pros3_Acquit_SA_Fel]]=Checks!AKZ2","v":true},{"$f":"DATA[[#Headers],[Pros3_Total_SA_Fel]]=Checks!ALA2","v":true},{"$f":"DATA[[#Headers],[Pros3_Dismiss_SA_Hom]]=Checks!ALB2","v":true},{"$f":"DATA[[#Headers],[Pros3_DefAdj_SA_Hom]]=Checks!ALC2","v":true},{"$f":"DATA[[#Headers],[Pros3_Convict_PAC_SA_Hom]]=Checks!ALD2","v":true},{"$f":"DATA[[#Headers],[Pros3_Convict_PSC_SA_Hom]]=Checks!ALE2","v":true},{"$f":"DATA[[#Headers],[Pros3_Convict_PLC_SA_Hom]]=Checks!ALF2","v":true},{"$f":"DATA[[#Headers],[Pros3_Convict_GAC_SA_Hom]]=Checks!ALG2","v":true},{"$f":"DATA[[#Headers],[Pros3_Convict_GSC_SA_Hom]]=Checks!ALH2","v":true},{"$f":"DATA[[#Headers],[Pros3_Convict_GLC_SA_Hom]]=Checks!ALI2","v":true},{"$f":"DATA[[#Headers],[Pros3_Acquit_SA_Hom]]=Checks!ALJ2","v":true},{"$f":"DATA[[#Headers],[Pros3_Total_SA_Hom]]=Checks!ALK2","v":true},{"$f":"DATA[[#Headers],[Pros3_Dismiss_STK_Ord]]=Checks!ALL2","v":true},{"$f":"DATA[[#Headers],[Pros3_DefAdj_STK_Ord]]=Checks!ALM2","v":true},{"$f":"DATA[[#Headers],[Pros3_Convict_PAC_STK_Ord]]=Checks!ALN2","v":true},{"$f":"DATA[[#Headers],[Pros3_Convict_PSC_STK_Ord]]=Checks!ALO2","v":true},{"$f":"DATA[[#Headers],[Pros3_Convict_PLC_STK_Ord]]=Checks!ALP2","v":true},{"$f":"DATA[[#Headers],[Pros3_Convict_GAC_STK_Ord]]=Checks!ALQ2","v":true},{"$f":"DATA[[#Headers],[Pros3_Convict_GSC_STK_Ord]]=Checks!ALR2","v":true},{"$f":"DATA[[#Headers],[Pros3_Convict_GLC_STK_Ord]]=Checks!ALS2","v":true},{"$f":"DATA[[#Headers],[Pros3_Acquit_STK_Ord]]=Checks!ALT2","v":true},{"$f":"DATA[[#Headers],[Pros3_Total_STK_Ord]]=Checks!ALU2","v":true},{"$f":"DATA[[#Headers],[Pros3_Dismiss_STK_Mis]]=Checks!ALV2","v":true},{"$f":"DATA[[#Headers],[Pros3_DefAdj_STK_Mis]]=Checks!ALW2","v":true},{"$f":"DATA[[#Headers],[Pros3_Convict_PAC_STK_Mis]]=Checks!ALX2","v":true},{"$f":"DATA[[#Headers],[Pros3_Convict_PSC_STK_Mis]]=Checks!ALY2","v":true},{"$f":"DATA[[#Headers],[Pros3_Convict_PLC_STK_Mis]]=Checks!ALZ2","v":true},{"$f":"DATA[[#Headers],[Pros3_Convict_GAC_STK_Mis]]=Checks!AMA2","v":true},{"$f":"DATA[[#Headers],[Pros3_Convict_GSC_STK_Mis]]=Checks!AMB2","v":true},{"$f":"DATA[[#Headers],[Pros3_Convict_GLC_STK_Mis]]=Checks!AMC2","v":true},{"$f":"DATA[[#Headers],[Pros3_Acquit_STK_Mis]]=Checks!AMD2","v":true},{"$f":"DATA[[#Headers],[Pros3_Total_STK_Mis]]=Checks!AME2","v":true},{"$f":"DATA[[#Headers],[Pros3_Dismiss_STK_Fel]]=Checks!AMF2","v":true},{"$f":"DATA[[#Headers],[Pros3_DefAdj_STK_Fel]]=Checks!AMG2","v":true},{"$f":"DATA[[#Headers],[Pros3_Convict_PAC_STK_Fel]]=Checks!AMH2","v":true},{"$f":"DATA[[#Headers],[Pros3_Convict_PSC_STK_Fel]]=Checks!AMI2","v":true},{"$f":"DATA[[#Headers],[Pros3_Convict_PLC_STK_Fel]]=Checks!AMJ2","v":true},{"$f":"DATA[[#Headers],[Pros3_Convict_GAC_STK_Fel]]=Checks!AMK2","v":true},{"$f":"DATA[[#Headers],[Pros3_Convict_GSC_STK_Fel]]=Checks!AML2","v":true},{"$f":"DATA[[#Headers],[Pros3_Convict_GLC_STK_Fel]]=Checks!AMM2","v":true},{"$f":"DATA[[#Headers],[Pros3_Acquit_STK_Fel]]=Checks!AMN2","v":true},{"$f":"DATA[[#Headers],[Pros3_Total_STK_Fel]]=Checks!AMO2","v":true},{"$f":"DATA[[#Headers],[Pros3_Dismiss_STK_Hom]]=Checks!AMP2","v":true},{"$f":"DATA[[#Headers],[Pros3_DefAdj_STK_Hom]]=Checks!AMQ2","v":true},{"$f":"DATA[[#Headers],[Pros3_Convict_PAC_STK_Hom]]=Checks!AMR2","v":true},{"$f":"DATA[[#Headers],[Pros3_Convict_PSC_STK_Hom]]=Checks!AMS2","v":true},{"$f":"DATA[[#Headers],[Pros3_Convict_PLC_STK_Hom]]=Checks!AMT2","v":true},{"$f":"DATA[[#Headers],[Pros3_Convict_GAC_STK_Hom]]=Checks!AMU2","v":true},{"$f":"DATA[[#Headers],[Pros3_Convict_GSC_STK_Hom]]=Checks!AMV2","v":true},{"$f":"DATA[[#Headers],[Pros3_Convict_GLC_STK_Hom]]=Checks!AMW2","v":true},{"$f":"DATA[[#Headers],[Pros3_Acquit_STK_Hom]]=Checks!AMX2","v":true},{"$f":"DATA[[#Headers],[Pros3_Total_STK_Hom]]=Checks!AMY2","v":true},{"$f":"DATA[[#Headers],[Pros3_Dismiss_BailViol]]=Checks!AMZ2","v":true},{"$f":"DATA[[#Headers],[Pros3_DefAdj_BailViol]]=Checks!ANA2","v":true},{"$f":"DATA[[#Headers],[Pros3_Convict_PAC_BailViol]]=Checks!ANB2","v":true},{"$f":"DATA[[#Headers],[Pros3_Convict_PSC_BailViol]]=Checks!ANC2","v":true},{"$f":"DATA[[#Headers],[Pros3_Convict_PLC_BailViol]]=Checks!AND2","v":true},{"$f":"DATA[[#Headers],[Pros3_Convict_GAC_BailViol]]=Checks!ANE2","v":true},{"$f":"DATA[[#Headers],[Pros3_Convict_GSC_BailViol]]=Checks!ANF2","v":true},{"$f":"DATA[[#Headers],[Pros3_Convict_GLC_BailViol]]=Checks!ANG2","v":true},{"$f":"DATA[[#Headers],[Pros3_Acquit_BailViol]]=Checks!ANH2","v":true},{"$f":"DATA[[#Headers],[Pros3_Total_BailViol]]=Checks!ANI2","v":true},{"$f":"DATA[[#Headers],[Pros3_Dismiss_ProbViol]]=Checks!ANJ2","v":true},{"$f":"DATA[[#Headers],[Pros3_DefAdj_ProbViol]]=Checks!ANK2","v":true},{"$f":"DATA[[#Headers],[Pros3_Convict_PAC_ProbViol]]=Checks!ANL2","v":true},{"$f":"DATA[[#Headers],[Pros3_Convict_PSC_ProbViol]]=Checks!ANM2","v":true},{"$f":"DATA[[#Headers],[Pros3_Convict_PLC_ProbViol]]=Checks!ANN2","v":true},{"$f":"DATA[[#Headers],[Pros3_Convict_GAC_ProbViol]]=Checks!ANO2","v":true},{"$f":"DATA[[#Headers],[Pros3_Convict_GSC_ProbViol]]=Checks!ANP2","v":true},{"$f":"DATA[[#Headers],[Pros3_Convict_GLC_ProbViol]]=Checks!ANQ2","v":true},{"$f":"DATA[[#Headers],[Pros3_Acquit_ProbViol]]=Checks!ANR2","v":true},{"$f":"DATA[[#Headers],[Pros3_Total_ProbViol]]=Checks!ANS2","v":true},{"$f":"DATA[[#Headers],[Pros3_Dismiss_POViol]]=Checks!ANT2","v":true},{"$f":"DATA[[#Headers],[Pros3_DefAdj_POViol]]=Checks!ANU2","v":true},{"$f":"DATA[[#Headers],[Pros3_Convict_PAC_POViol]]=Checks!ANV2","v":true},{"$f":"DATA[[#Headers],[Pros3_Convict_PSC_POViol]]=Checks!ANW2","v":true},{"$f":"DATA[[#Headers],[Pros3_Convict_PLC_POViol]]=Checks!ANX2","v":true},{"$f":"DATA[[#Headers],[Pros3_Convict_GAC_POViol]]=Checks!ANY2","v":true},{"$f":"DATA[[#Headers],[Pros3_Convict_GSC_POViol]]=Checks!ANZ2","v":true},{"$f":"DATA[[#Headers],[Pros3_Convict_GLC_POViol]]=Checks!AOA2","v":true},{"$f":"DATA[[#Headers],[Pros3_Acquit_POViol]]=Checks!AOB2","v":true},{"$f":"DATA[[#Headers],[Pros3_Total_POViol]]=Checks!AOC2","v":true},{"$f":"DATA[[#Headers],[Pros3_Dismiss_CrtOrder]]=Checks!AOD2","v":true},{"$f":"DATA[[#Headers],[Pros3_DefAdj_CrtOrder]]=Checks!AOE2","v":true},{"$f":"DATA[[#Headers],[Pros3_Convict_PAC_CrtOrder]]=Checks!AOF2","v":true},{"$f":"DATA[[#Headers],[Pros3_Convict_PSC_CrtOrder]]=Checks!AOG2","v":true},{"$f":"DATA[[#Headers],[Pros3_Convict_PLC_CrtOrder]]=Checks!AOH2","v":true},{"$f":"DATA[[#Headers],[Pros3_Convict_GAC_CrtOrder]]=Checks!AOI2","v":true},{"$f":"DATA[[#Headers],[Pros3_Convict_GSC_CrtOrder]]=Checks!AOJ2","v":true},{"$f":"DATA[[#Headers],[Pros3_Convict_GLC_CrtOrder]]=Checks!AOK2","v":true},{"$f":"DATA[[#Headers],[Pros3_Acquit_CrtOrder]]=Checks!AOL2","v":true},{"$f":"DATA[[#Headers],[Pros3_Total_CrtOrder]]=Checks!AOM2","v":true},{"$f":"DATA[[#Headers],[Pros3_OtherDesc]]=Checks!AON2","v":true},{"$f":"DATA[[#Headers],[Pros3_Dismiss_Other]]=Checks!AOO2","v":true},{"$f":"DATA[[#Headers],[Pros3_DefAdj_Other]]=Checks!AOP2","v":true},{"$f":"DATA[[#Headers],[Pros3_Convict_PAC_Other]]=Checks!AOQ2","v":true},{"$f":"DATA[[#Headers],[Pros3_Convict_PSC_Other]]=Checks!AOR2","v":true},{"$f":"DATA[[#Headers],[Pros3_Convict_PLC_Other]]=Checks!AOS2","v":true},{"$f":"DATA[[#Headers],[Pros3_Convict_GAC_Other]]=Checks!AOT2","v":true},{"$f":"DATA[[#Headers],[Pros3_Convict_GSC_Other]]=Checks!AOU2","v":true},{"$f":"DATA[[#Headers],[Pros3_Convict_GLC_Other]]=Checks!AOV2","v":true},{"$f":"DATA[[#Headers],[Pros3_Acquit_Other]]=Checks!AOW2","v":true},{"$f":"DATA[[#Headers],[Pros3_Total_Other]]=Checks!AOX2","v":true},{"$f":"DATA[[#Headers],[Pros3_TOTAL_Dismiss]]=Checks!AOY2","v":true},{"$f":"DATA[[#Headers],[Pros3_TOTAL_DefAdj]]=Checks!AOZ2","v":true},{"$f":"DATA[[#Headers],[Pros3_TOTAL_Convict_PAC]]=Checks!APA2","v":true},{"$f":"DATA[[#Headers],[Pros3_TOTAL_Convict_PSC]]=Checks!APB2","v":true},{"$f":"DATA[[#Headers],[Pros3_TOTAL_Convict_PLC]]=Checks!APC2","v":true},{"$f":"DATA[[#Headers],[Pros3_TOTAL_Convict_GAC]]=Checks!APD2","v":true},{"$f":"DATA[[#Headers],[Pros3_TOTAL_Convict_GSC]]=Checks!APE2","v":true},{"$f":"DATA[[#Headers],[Pros3_TOTAL_Convict_GLC]]=Checks!APF2","v":true},{"$f":"DATA[[#Headers],[Pros3_TOTAL_Acquit]]=Checks!APG2","v":true},{"$f":"DATA[[#Headers],[Pros3_TOTAL_Total]]=Checks!APH2","v":true},{"$f":"DATA[[#Headers],[Pros4_RefToFed]]=Checks!API2","v":true},{"$f":"DATA[[#Headers],[Pros4_RefToState]]=Checks!APJ2","v":true},{"$f":"DATA[[#Headers],[Pros4_TOTAL]]=Checks!APK2","v":true},{"$f":"DATA[[#Headers],[Pros5_VSRef_Govt]]=Checks!APL2","v":true},{"$f":"DATA[[#Headers],[Pros5_VSRef_NonGovt]]=Checks!APM2","v":true},{"$f":"DATA[[#Headers],[Pros6_Req_Temp_SA]]=Checks!APN2","v":true},{"$f":"DATA[[#Headers],[Pros6_Req_Final_SA]]=Checks!APO2","v":true},{"$f":"DATA[[#Headers],[Pros6_Grnt_Temp_SA]]=Checks!APP2","v":true},{"$f":"DATA[[#Headers],[Pros6_Grnt_Final_SA]]=Checks!APQ2","v":true},{"$f":"DATA[[#Headers],[Pros6_Req_Temp_DV]]=Checks!APR2","v":true},{"$f":"DATA[[#Headers],[Pros6_Req_Final_DV]]=Checks!APS2","v":true},{"$f":"DATA[[#Headers],[Pros6_Grnt_Temp_DV]]=Checks!APT2","v":true},{"$f":"DATA[[#Headers],[Pros6_Grnt_Final_DV]]=Checks!APU2","v":true},{"$f":"DATA[[#Headers],[Pros6_Req_Temp_STK]]=Checks!APV2","v":true},{"$f":"DATA[[#Headers],[Pros6_Req_Final_STK]]=Checks!APW2","v":true},{"$f":"DATA[[#Headers],[Pros6_Grnt_Temp_STK]]=Checks!APX2","v":true},{"$f":"DATA[[#Headers],[Pros6_Grnt_Final_STK]]=Checks!APY2","v":true},{"$f":"DATA[[#Headers],[Crt_FundsUsed_YesNo]]=Checks!APZ2","v":true},{"$f":"DATA[[#Headers],[Crt_FundsUsed_1or0]]=Checks!AQA2","v":true},{"$f":"DATA[[#Headers],[Crt2_Dismiss_SA_Mis]]=Checks!AQB2","v":true},{"$f":"DATA[[#Headers],[Crt2_DefAdj_SA_Mis]]=Checks!AQC2","v":true},{"$f":"DATA[[#Headers],[Crt2_Convict_SA_Mis]]=Checks!AQD2","v":true},{"$f":"DATA[[#Headers],[Crt2_Acquit_SA_Mis]]=Checks!AQE2","v":true},{"$f":"DATA[[#Headers],[Crt2_Dismiss_SA_Fel]]=Checks!AQF2","v":true},{"$f":"DATA[[#Headers],[Crt2_DefAdj_SA_Fel]]=Checks!AQG2","v":true},{"$f":"DATA[[#Headers],[Crt2_Convict_SA_Fel]]=Checks!AQH2","v":true},{"$f":"DATA[[#Headers],[Crt2_Acquit_SA_Fel]]=Checks!AQI2","v":true},{"$f":"DATA[[#Headers],[Crt2_Dismiss_Hom]]=Checks!AQJ2","v":true},{"$f":"DATA[[#Headers],[Crt2_DefAdj_Hom]]=Checks!AQK2","v":true},{"$f":"DATA[[#Headers],[Crt2_Convict_Hom]]=Checks!AQL2","v":true},{"$f":"DATA[[#Headers],[Crt2_Acquit_Hom]]=Checks!AQM2","v":true},{"$f":"DATA[[#Headers],[Crt2_Dismiss_DV_Ord]]=Checks!AQN2","v":true},{"$f":"DATA[[#Headers],[Crt2_DefAdj_DV_Ord]]=Checks!AQO2","v":true},{"$f":"DATA[[#Headers],[Crt2_Convict_DV_Ord]]=Checks!AQP2","v":true},{"$f":"DATA[[#Headers],[Crt2_Acquit_DV_Ord]]=Checks!AQQ2","v":true},{"$f":"DATA[[#Headers],[Crt2_Dismiss_DV_Mis]]=Checks!AQR2","v":true},{"$f":"DATA[[#Headers],[Crt2_DefAdj_DV_Mis]]=Checks!AQS2","v":true},{"$f":"DATA[[#Headers],[Crt2_Convict_DV_Mis]]=Checks!AQT2","v":true},{"$f":"DATA[[#Headers],[Crt2_Acquit_DV_Mis]]=Checks!AQU2","v":true},{"$f":"DATA[[#Headers],[Crt2_Dismiss_DV_Fel]]=Checks!AQV2","v":true},{"$f":"DATA[[#Headers],[Crt2_DefAdj_DV_Fel]]=Checks!AQW2","v":true},{"$f":"DATA[[#Headers],[Crt2_Convict_DV_Fel]]=Checks!AQX2","v":true},{"$f":"DATA[[#Headers],[Crt2_Acquit_DV_Fel]]=Checks!AQY2","v":true},{"$f":"DATA[[#Headers],[Crt2_Dismiss_STK_Ord]]=Checks!AQZ2","v":true},{"$f":"DATA[[#Headers],[Crt2_DefAdj_STK_Ord]]=Checks!ARA2","v":true},{"$f":"DATA[[#Headers],[Crt2_Convict_STK_Ord]]=Checks!ARB2","v":true},{"$f":"DATA[[#Headers],[Crt2_Acquit_STK_Ord]]=Checks!ARC2","v":true},{"$f":"DATA[[#Headers],[Crt2_Dismiss_STK_Mis]]=Checks!ARD2","v":true},{"$f":"DATA[[#Headers],[Crt2_DefAdj_STK_Mis]]=Checks!ARE2","v":true},{"$f":"DATA[[#Headers],[Crt2_Convict_STK_Mis]]=Checks!ARF2","v":true},{"$f":"DATA[[#Headers],[Crt2_Acquit_STK_Mis]]=Checks!ARG2","v":true},{"$f":"DATA[[#Headers],[Crt2_Dismiss_STK_Fel]]=Checks!ARH2","v":true},{"$f":"DATA[[#Headers],[Crt2_DefAdj_STK_Fel]]=Checks!ARI2","v":true},{"$f":"DATA[[#Headers],[Crt2_Convict_STK_Fel]]=Checks!ARJ2","v":true},{"$f":"DATA[[#Headers],[Crt2_Acquit_STK_Fel]]=Checks!ARK2","v":true},{"$f":"DATA[[#Headers],[Crt2_Dismiss_POViol]]=Checks!ARL2","v":true},{"$f":"DATA[[#Headers],[Crt2_DefAdj_POViol]]=Checks!ARM2","v":true},{"$f":"DATA[[#Headers],[Crt2_Convict_POViol]]=Checks!ARN2","v":true},{"$f":"DATA[[#Headers],[Crt2_Acquit_POViol]]=Checks!ARO2","v":true},{"$f":"DATA[[#Headers],[Crt2_Dismiss_BailViol]]=Checks!ARP2","v":true},{"$f":"DATA[[#Headers],[Crt2_DefAdj_BailViol]]=Checks!ARQ2","v":true},{"$f":"DATA[[#Headers],[Crt2_Convict_BailViol]]=Checks!ARR2","v":true},{"$f":"DATA[[#Headers],[Crt2_Acquit_BailViol]]=Checks!ARS2","v":true},{"$f":"DATA[[#Headers],[Crt2_Dismiss_ProbViol]]=Checks!ART2","v":true},{"$f":"DATA[[#Headers],[Crt2_DefAdj_ProbViol]]=Checks!ARU2","v":true},{"$f":"DATA[[#Headers],[Crt2_Convict_ProbViol]]=Checks!ARV2","v":true},{"$f":"DATA[[#Headers],[Crt2_Acquit_ProbViol]]=Checks!ARW2","v":true},{"$f":"DATA[[#Headers],[Crt2_Dismiss_CrtOrder]]=Checks!ARX2","v":true},{"$f":"DATA[[#Headers],[Crt2_DefAdj_CrtOrder]]=Checks!ARY2","v":true},{"$f":"DATA[[#Headers],[Crt2_Convict_CrtOrder]]=Checks!ARZ2","v":true},{"$f":"DATA[[#Headers],[Crt2_Acquit_CrtOrder]]=Checks!ASA2","v":true},{"$f":"DATA[[#Headers],[Crt2_TOTAL_Dismiss]]=Checks!ASB2","v":true},{"$f":"DATA[[#Headers],[Crt2_TOTAL_DefAdj]]=Checks!ASC2","v":true},{"$f":"DATA[[#Headers],[Crt2_TOTAL_Convict]]=Checks!ASD2","v":true},{"$f":"DATA[[#Headers],[Crt2_TOTAL_Acquit]]=Checks!ASE2","v":true},{"$f":"DATA[[#Headers],[Crt3_Offender]]=Checks!ASF2","v":true},{"$f":"DATA[[#Headers],[Crt3_Hearing]]=Checks!ASG2","v":true},{"$f":"DATA[[#Headers],[Crt4_NoAction_PO]]=Checks!ASH2","v":true},{"$f":"DATA[[#Headers],[Crt4_Warning_PO]]=Checks!ASI2","v":true},{"$f":"DATA[[#Headers],[Crt4_Fine_PO]]=Checks!ASJ2","v":true},{"$f":"DATA[[#Headers],[Crt4_AddCond_PO]]=Checks!ASK2","v":true},{"$f":"DATA[[#Headers],[Crt4_Revoke_PO]]=Checks!ASL2","v":true},{"$f":"DATA[[#Headers],[Crt4_NoAction_NewCrim]]=Checks!ASM2","v":true},{"$f":"DATA[[#Headers],[Crt4_Warning_NewCrim]]=Checks!ASN2","v":true},{"$f":"DATA[[#Headers],[Crt4_Fine_NewCrim]]=Checks!ASO2","v":true},{"$f":"DATA[[#Headers],[Crt4_AddCond_NewCrim]]=Checks!ASP2","v":true},{"$f":"DATA[[#Headers],[Crt4_Revoke_NewCrim]]=Checks!ASQ2","v":true},{"$f":"DATA[[#Headers],[Crt4_NoAction_BIP]]=Checks!ASR2","v":true},{"$f":"DATA[[#Headers],[Crt4_Warning_BIP]]=Checks!ASS2","v":true},{"$f":"DATA[[#Headers],[Crt4_Fine_BIP]]=Checks!AST2","v":true},{"$f":"DATA[[#Headers],[Crt4_AddCond_BIP]]=Checks!ASU2","v":true},{"$f":"DATA[[#Headers],[Crt4_Revoke_BIP]]=Checks!ASV2","v":true},{"$f":"DATA[[#Headers],[Crt4_NoAction_OtherTreat]]=Checks!ASW2","v":true},{"$f":"DATA[[#Headers],[Crt4_Warning_OtherTreat]]=Checks!ASX2","v":true},{"$f":"DATA[[#Headers],[Crt4_Fine_OtherTreat]]=Checks!ASY2","v":true},{"$f":"DATA[[#Headers],[Crt4_AddCond_OtherTreat]]=Checks!ASZ2","v":true},{"$f":"DATA[[#Headers],[Crt4_Revoke_OtherTreat]]=Checks!ATA2","v":true},{"$f":"DATA[[#Headers],[Crt4_NoAction_OtherCond]]=Checks!ATB2","v":true},{"$f":"DATA[[#Headers],[Crt4_Warning_OtherCond]]=Checks!ATC2","v":true},{"$f":"DATA[[#Headers],[Crt4_Fine_OtherCond]]=Checks!ATD2","v":true},{"$f":"DATA[[#Headers],[Crt4_AddCond_OtherCond]]=Checks!ATE2","v":true},{"$f":"DATA[[#Headers],[Crt4_Revoke_OtherCond]]=Checks!ATF2","v":true},{"$f":"DATA[[#Headers],[Crt4_TOTAL_NoAction]]=Checks!ATG2","v":true},{"$f":"DATA[[#Headers],[Crt4_TOTAL_Warning]]=Checks!ATH2","v":true},{"$f":"DATA[[#Headers],[Crt4_TOTAL_Fine]]=Checks!ATI2","v":true},{"$f":"DATA[[#Headers],[Crt4_TOTAL_AddCond]]=Checks!ATJ2","v":true},{"$f":"DATA[[#Headers],[Crt4_TOTAL_Revoke]]=Checks!ATK2","v":true},{"$f":"DATA[[#Headers],[Crt5_VSRef_Govt]]=Checks!ATL2","v":true},{"$f":"DATA[[#Headers],[Crt5_VSRef_NonGovt]]=Checks!ATM2","v":true},{"$f":"DATA[[#Headers],[Crt6_Req_Temp_SA]]=Checks!ATN2","v":true},{"$f":"DATA[[#Headers],[Crt6_Req_Final_SA]]=Checks!ATO2","v":true},{"$f":"DATA[[#Headers],[Crt6_Grnt_Temp_SA]]=Checks!ATP2","v":true},{"$f":"DATA[[#Headers],[Crt6_Grnt_Final_SA]]=Checks!ATQ2","v":true},{"$f":"DATA[[#Headers],[Crt6_Req_Temp_DV]]=Checks!ATR2","v":true},{"$f":"DATA[[#Headers],[Crt6_Req_Final_DV]]=Checks!ATS2","v":true},{"$f":"DATA[[#Headers],[Crt6_Grnt_Temp_DV]]=Checks!ATT2","v":true},{"$f":"DATA[[#Headers],[Crt6_Grnt_Final_DV]]=Checks!ATU2","v":true},{"$f":"DATA[[#Headers],[Crt6_Req_Temp_STK]]=Checks!ATV2","v":true},{"$f":"DATA[[#Headers],[Crt6_Req_Final_STK]]=Checks!ATW2","v":true},{"$f":"DATA[[#Headers],[Crt6_Grnt_Temp_STK]]=Checks!ATX2","v":true},{"$f":"DATA[[#Headers],[Crt6_Grnt_Final_STK]]=Checks!ATY2","v":true},{"$f":"DATA[[#Headers],[Crt7_Req_Crim]]=Checks!ATZ2","v":true},{"$f":"DATA[[#Headers],[Crt7_Grant_Crim]]=Checks!AUA2","v":true},{"$f":"DATA[[#Headers],[Prob_FundsUsed_YesNo]]=Checks!AUB2","v":true},{"$f":"DATA[[#Headers],[Prob_FundsUsed_1or0]]=Checks!AUC2","v":true},{"$f":"DATA[[#Headers],[Prob1_Offender_DV]]=Checks!AUD2","v":true},{"$f":"DATA[[#Headers],[Prob1_Comp_NoViol_DV]]=Checks!AUE2","v":true},{"$f":"DATA[[#Headers],[Prob1_Comp_Viol_DV]]=Checks!AUF2","v":true},{"$f":"DATA[[#Headers],[Prob1_Offender_SA]]=Checks!AUG2","v":true},{"$f":"DATA[[#Headers],[Prob1_Comp_NoViol_SA]]=Checks!AUH2","v":true},{"$f":"DATA[[#Headers],[Prob1_Comp_Viol_SA]]=Checks!AUI2","v":true},{"$f":"DATA[[#Headers],[Prob1_Offender_STK]]=Checks!AUJ2","v":true},{"$f":"DATA[[#Headers],[Prob1_Comp_NoViol_STK]]=Checks!AUK2","v":true},{"$f":"DATA[[#Headers],[Prob1_Comp_Viol_STK]]=Checks!AUL2","v":true},{"$f":"DATA[[#Headers],[Prob1_TOTAL_Offender]]=Checks!AUM2","v":true},{"$f":"DATA[[#Headers],[Prob1_TOTAL_Comp_NoViol]]=Checks!AUN2","v":true},{"$f":"DATA[[#Headers],[Prob1_TOTAL_Comp_Viol]]=Checks!AUO2","v":true},{"$f":"DATA[[#Headers],[Prob2_Face_Offender]]=Checks!AUP2","v":true},{"$f":"DATA[[#Headers],[Prob2_Face_Contacts]]=Checks!AUQ2","v":true},{"$f":"DATA[[#Headers],[Prob2_Phone_Offender]]=Checks!AUR2","v":true},{"$f":"DATA[[#Headers],[Prob2_Phone_Contacts]]=Checks!AUS2","v":true},{"$f":"DATA[[#Headers],[Prob2_Surveil_Offender]]=Checks!AUT2","v":true},{"$f":"DATA[[#Headers],[Prob2_Surveil_Contacts]]=Checks!AUU2","v":true},{"$f":"DATA[[#Headers],[Prob2_ElecMonitor_Offender]]=Checks!AUV2","v":true},{"$f":"DATA[[#Headers],[Prob2_VicOutreach_Vic]]=Checks!AUW2","v":true},{"$f":"DATA[[#Headers],[Prob2_VicOutreach_Contacts]]=Checks!AUX2","v":true},{"$f":"DATA[[#Headers],[Prob3_NoAction_PO]]=Checks!AUY2","v":true},{"$f":"DATA[[#Headers],[Prob3_Warning_PO]]=Checks!AUZ2","v":true},{"$f":"DATA[[#Headers],[Prob3_Fine_PO]]=Checks!AVA2","v":true},{"$f":"DATA[[#Headers],[Prob3_AddCond_PO]]=Checks!AVB2","v":true},{"$f":"DATA[[#Headers],[Prob3_Revoke_PO]]=Checks!AVC2","v":true},{"$f":"DATA[[#Headers],[Prob3_NoAction_NewCrim]]=Checks!AVD2","v":true},{"$f":"DATA[[#Headers],[Prob3_Warning_NewCrim]]=Checks!AVE2","v":true},{"$f":"DATA[[#Headers],[Prob3_Fine_NewCrim]]=Checks!AVF2","v":true},{"$f":"DATA[[#Headers],[Prob3_AddCond_NewCrim]]=Checks!AVG2","v":true},{"$f":"DATA[[#Headers],[Prob3_Revoke_NewCrim]]=Checks!AVH2","v":true},{"$f":"DATA[[#Headers],[Prob3_NoAction_BIP]]=Checks!AVI2","v":true},{"$f":"DATA[[#Headers],[Prob3_Warning_BIP]]=Checks!AVJ2","v":true},{"$f":"DATA[[#Headers],[Prob3_Fine_BIP]]=Checks!AVK2","v":true},{"$f":"DATA[[#Headers],[Prob3_AddCond_BIP]]=Checks!AVL2","v":true},{"$f":"DATA[[#Headers],[Prob3_Revoke_BIP]]=Checks!AVM2","v":true},{"$f":"DATA[[#Headers],[Prob3_NoAction_OtherTreat]]=Checks!AVN2","v":true},{"$f":"DATA[[#Headers],[Prob3_Warning_OtherTreat]]=Checks!AVO2","v":true},{"$f":"DATA[[#Headers],[Prob3_Fine_OtherTreat]]=Checks!AVP2","v":true},{"$f":"DATA[[#Headers],[Prob3_AddCond_OtherTreat]]=Checks!AVQ2","v":true},{"$f":"DATA[[#Headers],[Prob3_Revoke_OtherTreat]]=Checks!AVR2","v":true},{"$f":"DATA[[#Headers],[Prob3_NoAction_OtherCond]]=Checks!AVS2","v":true},{"$f":"DATA[[#Headers],[Prob3_Warning_OtherCond]]=Checks!AVT2","v":true},{"$f":"DATA[[#Headers],[Prob3_Fine_OtherCond]]=Checks!AVU2","v":true},{"$f":"DATA[[#Headers],[Prob3_AddCond_OtherCond]]=Checks!AVV2","v":true},{"$f":"DATA[[#Headers],[Prob3_Revoke_OtherCond]]=Checks!AVW2","v":true},{"$f":"DATA[[#Headers],[Prob3_TOTAL_NoAction]]=Checks!AVX2","v":true},{"$f":"DATA[[#Headers],[Prob3_TOTAL_Warning]]=Checks!AVY2","v":true},{"$f":"DATA[[#Headers],[Prob3_TOTAL_Fine]]=Checks!AVZ2","v":true},{"$f":"DATA[[#Headers],[Prob3_TOTAL_AddCond]]=Checks!AWA2","v":true},{"$f":"DATA[[#Headers],[Prob3_TOTAL_Revoke]]=Checks!AWB2","v":true},{"$f":"DATA[[#Headers],[Prob4_VSRef_Govt]]=Checks!AWC2","v":true},{"$f":"DATA[[#Headers],[Prob4_VSRef_NonGovt]]=Checks!AWD2","v":true},{"$f":"DATA[[#Headers],[BIP_FundsUsed_YesNo]]=Checks!AWE2","v":true},{"$f":"DATA[[#Headers],[BIP_FundsUsed_1or0]]=Checks!AWF2","v":true},{"$f":"DATA[[#Headers],[BIP1_Offender_BIP]]=Checks!AWG2","v":true},{"$f":"DATA[[#Headers],[BIP2_Complete_BIP]]=Checks!AWH2","v":true},{"$f":"DATA[[#Headers],[BIP2_Terminate_BIP]]=Checks!AWI2","v":true},{"$f":"DATA[[#Headers],[BIP2_Return_BIP]]=Checks!AWJ2","v":true},{"$f":"DATA[[#Headers],[BIP2_OtherDesc]]=Checks!AWK2","v":true},{"$f":"DATA[[#Headers],[BIP2_Other_BIP]]=Checks!AWL2","v":true},{"$f":"DATA[[#Headers],[BIP3_Weeks_A]]=Checks!AWM2","v":true},{"$f":"DATA[[#Headers],[BIP3_Weeks_B]]=Checks!AWN2","v":true},{"$f":"DATA[[#Headers],[BIP3_Weeks_C]]=Checks!AWO2","v":true},{"$f":"DATA[[#Headers],[Tr_Narrative]]=Checks!AWP2","v":true},{"$f":"DATA[[#Headers],[CCR_Narrative]]=Checks!AWQ2","v":true},{"$f":"DATA[[#Headers],[Pol2_Narrative]]=Checks!AWR2","v":true},{"$f":"DATA[[#Headers],[Pol_Narrative]]=Checks!AWS2","v":true},{"$f":"DATA[[#Headers],[VS_Narrative]]=Checks!AWT2","v":true},{"$f":"DATA[[#Headers],[LE_Narrative]]=Checks!AWU2","v":true},{"$f":"DATA[[#Headers],[Pros3_Narrative]]=Checks!AWV2","v":true},{"$f":"DATA[[#Headers],[Pros_Narrative]]=Checks!AWW2","v":true},{"$f":"DATA[[#Headers],[Crt_Narrative]]=Checks!AWX2","v":true},{"$f":"DATA[[#Headers],[Prob_Narrative]]=Checks!AWY2","v":true},{"$f":"DATA[[#Headers],[Narr2_RAN_1]]=Checks!AWZ2","v":true},{"$f":"DATA[[#Headers],[Narr2_RAN_2]]=Checks!AXA2","v":true},{"$f":"DATA[[#Headers],[Narr3_FundAllow_1]]=Checks!AXB2","v":true},{"$f":"DATA[[#Headers],[Narr3_FundAllow_2]]=Checks!AXC2","v":true},{"$f":"DATA[[#Headers],[Narr_stop_CrystalJudson_1]]=Checks!AXD2","v":true},{"$f":"DATA[[#Headers],[Narr_stop_CrystalJudson_2]]=Checks!AXE2","v":true},{"$f":"DATA[[#Headers],[Narr4_Effectiveness_1]]=Checks!AXF2","v":true},{"$f":"DATA[[#Headers],[Narr4_Effectiveness_2]]=Checks!AXG2","v":true},{"$f":"DATA[[#Headers],[Narr5_Data_1]]=Checks!AXH2","v":true},{"$f":"DATA[[#Headers],[Narr5_Data_2]]=Checks!AXI2","v":true}]
["NOTE: Step 1 checks whether the order of the variables in the current SPSS data set and the Dashboard template are aligned. All checks in row 3 should say TRUE after the data is pasted."]
[]
[]
["Step 2 - Paste the Descriptive Statistics table for the state in cell A8 below:",null,null,null,"Checks calculations in workbook against Descriptives",null,null,null,null,null,null,"Checks Variable Alignment for the Descriptives"]
["Descriptive Statistics",null,null,null,"Partial sums, if needed:",null,"From workbook:",null,"Check:",null,null,"For Descriptives, use Variable Names, not Labels. "]
[null,"N","Sum",null,null,null,null,null,null,null,null,"If there are any FALSE warnings after the descriptives were pasted in A8, the order of the variables has changed and the checks will not be comparing the correct numbers."]
["ID",42,1935801,null,null,null,{"$f":"COUNT(DATA[ID])","v":42},null,{"$f":"B10=G10","v":true},null,null,"ID",{"$f":"A10=L10","v":true}]
["GI1_Date",42,"6723556 00:00:00",null,null,null,null,null,null,null,null,"GI1_Date",{"$f":"A11=L11","v":true}]
["GI2_Year",42,84840,null,null,null,null,null,null,null,null,"GI2_Year",true]
["GI9_Prct_SA",42,1087,null,null,null,null,null,null,null,null,"GI9_Prct_SA",true]
["GI9_Prct_DV",42,3001,null,null,null,null,null,null,null,null,"GI9_Prct_DV",true]
["GI9_Prct_STK",42,112,null,null,null,null,null,null,null,null,"GI9_Prct_STK",true]
["GI9_TOTAL",42,4200,null,null,null,null,null,null,null,null,"GI9_TOTAL",true]
["St_FundsUsed_1or0",42,38,null,null,null,{"$f":"SUM(DATA[St_FundsUsed_1or0])","v":38},null,{"$f":"C17=G17","v":true},null,null,"St_FundsUsed_1or0",true]
["St1_Admin",42,0.04,null,null,null,{"$f":"Staff!D8","v":10.890000000000002},null,{"$f":"C18=G18","v":false},null,null,"St1_Admin",true]
["St1_Attorney",42,0.49,null,null,null,{"$f":"Staff!D9","v":5.63},null,{"$f":"C19=G19","v":false},null,null,"St1_Attorney",true]
["St1_Counselor",42,0.38,null,null,null,{"$f":"Staff!D10","v":2.4300000000000002},null,false,null,null,"St1_Counselor",true]
["St1_Court",42,0,null,null,null,{"$f":"Staff!D11","v":2.41},null,false,null,null,"St1_Court",true]
["St1_ITstaff",42,0,null,null,null,{"$f":"Staff!D12","v":1.48},null,false,null,null,"St1_ITstaff",true]
["St1_Investigator",42,0.63,null,null,null,{"$f":"Staff!D13","v":0.63},null,true,null,null,"St1_Investigator",true]
["St1_LEO",42,0,null,null,null,{"$f":"Staff!D14","v":0.49},null,false,null,null,"St1_LEO",true]
["St1_LegalAdv",42,1.48,null,null,null,{"$f":"Staff!D15","v":0.39},null,false,null,null,"St1_LegalAdv",true]
["St1_Outreach",42,0,null,null,null,{"$f":"Staff!D17","v":0.22},null,false,null,null,"St1_Outreach",true]
["St1_Paralegal",42,0,null,null,null,{"$f":"Staff!D18","v":0.04},null,false,null,null,"St1_Paralegal",true]
["St1_Probation",42,0,null,null,null,{"$f":"Staff!D19","v":0},null,true,null,null,"St1_Probation",true]
["St1_PrgmCoord",42,2.4300000000000002,null,null,null,{"$f":"Staff!D20","v":0},null,false,null,null,"St1_PrgmCoord",true]
["St1_Prosecutor",42,2.41,null,null,null,{"$f":"Staff!D21","v":0},null,false,null,null,"St1_Prosecutor",true]
["St1_SANE",42,0,null,null,null,{"$f":"Staff!D22","v":0},null,true,null,null,"St1_SANE",true]
["St1_SuppStaff",42,0.22,null,null,null,{"$f":"Staff!D23","v":0},null,false,null,null,"St1_SuppStaff",true]
["St1_Trainer",42,0.39,null,null,null,{"$f":"Staff!D24","v":0},null,false,null,null,"St1_Trainer",true]
["St1_Translator",42,0,null,null,null,{"$f":"Staff!D25","v":0},null,true,null,null,"St1_Translator",true]
["St1_VicAdv",42,10.89,null,null,null,{"$f":"Staff!D26","v":0},null,false,null,null,"St1_VicAdv",true]
["St1_VicAssist",42,5.63,null,null,null,{"$f":"Staff!D27","v":0},null,false,null,null,"St1_VicAssist",true]
["St1_Other",42,0,null,null,null,{"$f":"Staff!D16","v":0.38},null,false,null,null,"St1_Other",true]
["St1_TOTAL",42,24.99,null,null,null,{"$f":"Staff!D28","v":24.99},null,true,null,null,"St1_TOTAL",true]
["PA13_STOP_1",42,9,null,null,null,null,null,null,null,null,"PA13_STOP_1",true]
["PA13_STOP_2",42,3,null,null,null,null,null,null,null,null,"PA13_STOP_2",true]
["PA13_STOP_3",42,3,null,null,null,null,null,null,null,null,"PA13_STOP_3",true]
["PA13_STOP_4",42,0,null,null,null,null,null,null,null,null,"PA13_STOP_4",true]
["PA13_STOP_5",42,31,null,null,null,null,null,null,null,null,"PA13_STOP_5",true]
["PA13_STOP_6",42,11,null,null,null,null,null,null,null,null,"PA13_STOP_6",true]
["PA13_STOP_7",42,2,null,null,null,null,null,null,null,null,"PA13_STOP_7",true]
["PA13_STOP_8",42,0,null,null,null,null,null,null,null,null,"PA13_STOP_8",true]
["PA13_STOP_9",42,2,null,null,null,null,null,null,null,null,"PA13_STOP_9",true]
["PA13_STOP_10",42,7,null,null,null,null,null,null,null,null,"PA13_STOP_10",true]
["PA13_STOP_11",42,6,null,null,null,null,null,null,null,null,"PA13_STOP_11",true]
["PA13_STOP_12",42,1,null,null,null,null,null,null,null,null,"PA13_STOP_12",true]
["PA13_STOP_13",42,0,null,null,null,null,null,null,null,null,"PA13_STOP_13",true]
["PA13_STOP_14",42,2,null,null,null,null,null,null,null,null,"PA13_STOP_14",true]
["PA13_STOP_15",42,1,null,null,null,null,null,null,null,null,"PA13_STOP_15",true]
["PA13_STOP_16",42,1,null,null,null,null,null,null,null,null,"PA13_STOP_16",true]
["PA13_STOP_17",42,0,null,null,null,null,null,null,null,null,"PA13_STOP_17",true]
["PA13_STOP_18",42,0,null,null,null,null,null,null,null,null,"PA13_STOP_18",true]
["PA13_STOP_19",42,4,null,null,null,null,null,null,null,null,"PA13_STOP_19",true]
["PA13_STOP_20",42,1,null,null,null,null,null,null,null,null,"PA13_STOP_20",true]
["Tr_FundsUsed_1or0",42,9,null,null,null,{"$f":"SUM(DATA[Tr_FundsUsed_1or0])","v":9},null,true,null,null,"Tr_FundsUsed_1or0",true]
["Tr1_TrnEvents",42,47,null,null,null,{"$f":"SUM(DATA[Tr1_TrnEvents])","v":47},null,true,null,null,"Tr1_TrnEvents",true]
["Tr2_AdvOrg",42,1,null,null,null,{"$f":"Training!D10","v":1301},null,false,null,null,"Tr2_AdvOrg",true]
["Tr2_Attorney",42,18,null,null,null,{"$f":"Training!D11","v":929},null,false,null,null,"Tr2_Attorney",true]
["Tr2_BIP",42,29,null,null,null,{"$f":"Training!D12","v":626},null,false,null,null,"Tr2_BIP",true]
["Tr2_Corrections",42,27,null,null,null,{"$f":"Training!D13","v":74},null,false,null,null,"Tr2_Corrections",true]
["Tr2_Court",42,25,null,null,null,{"$f":"Training!D14","v":29},null,false,null,null,"Tr2_Court",true]
["Tr2_DisOrg",42,2,null,null,null,{"$f":"Training!D15","v":27},null,false,null,null,"Tr2_DisOrg",true]
["Tr2_Educator",42,10,null,null,null,{"$f":"Training!D16","v":25},null,false,null,null,"Tr2_Educator",true]
["Tr2_Elder",42,1,null,null,null,{"$f":"Training!D17","v":21},null,false,null,null,"Tr2_Elder",true]
["Tr2_FaithBased",42,6,null,null,null,{"$f":"Training!D18","v":20},null,false,null,null,"Tr2_FaithBased",true]
["Tr2_Govt",42,16,null,null,null,{"$f":"Training!D19","v":18},null,false,null,null,"Tr2_Govt",true]
["Tr2_HealthProf",42,5,null,null,null,{"$f":"Training!D20","v":18},null,false,null,null,"Tr2_HealthProf",true]
["Tr2_ImmOrg",42,1,null,null,null,{"$f":"Training!D21","v":16},null,false,null,null,"Tr2_ImmOrg",true]
["Tr2_LEO",42,1301,null,null,null,{"$f":"Training!D22","v":16},null,false,null,null,"Tr2_LEO",true]
["Tr2_LegServ",42,5,null,null,null,{"$f":"Training!D23","v":12},null,false,null,null,"Tr2_LegServ",true]
["Tr2_HealthProf_MH",42,12,null,null,null,{"$f":"Training!D24","v":10},null,false,null,null,"Tr2_HealthProf_MH",{"$f":"A75=L75","v":true}]
["Tr2_Prosecutor",42,929,null,null,null,{"$f":"Training!D26","v":5},null,false,null,null,"Tr2_Prosecutor",true]
["Tr2_SexOffTreat",42,0,null,null,null,{"$f":"Training!D28","v":2},null,false,null,null,"Tr2_SexOffTreat",true]
["Tr2_HealthProf_SANE",42,16,null,null,null,{"$f":"Training!D27","v":5},null,false,null,null,"Tr2_HealthProf_SANE",true]
["Tr2_SocialServ",42,1,null,null,null,{"$f":"Training!D29","v":2},null,false,null,null,"Tr2_SocialServ",true]
["Tr2_SubAbuse",42,0,null,null,null,{"$f":"Training!D30","v":1},null,false,null,null,"Tr2_SubAbuse",true]
["Tr2_SupVisit",42,0,null,null,null,{"$f":"Training!D31","v":1},null,false,null,null,"Tr2_SupVisit",true]
["Tr2_Translator",42,2,null,null,null,{"$f":"Training!D32","v":1},null,false,null,null,"Tr2_Translator",true]
["Tr2_Govt_Tribal",42,18,null,null,null,{"$f":"Training!D33","v":1},null,{"$f":"C83=G83","v":false},null,null,"Tr2_Govt_Tribal",true]
["Tr2_VSProv_VicAdv",42,626,null,null,null,{"$f":"Training!D34","v":0},null,false,null,null,"Tr2_VSProv_VicAdv",true]
["Tr2_VSProv_VicAssist",42,74,null,null,null,{"$f":"Training!D35","v":0},null,false,null,null,"Tr2_VSProv_VicAssist",true]
["Tr2_Volunteer",42,21,null,null,null,{"$f":"Training!D36","v":0},null,false,null,null,"Tr2_Volunteer",true]
["Tr2_Other",42,20,null,null,null,{"$f":"Training!D25","v":6},null,false,null,null,"Tr2_Other",true]
["Tr2_TOTAL",42,3166,null,null,null,{"$f":"Training!D37","v":3166},null,true,null,null,"Tr2_TOTAL",true]
["Tr3_Gen_AdvResp",42,8,null,null,null,null,null,null,null,null,"Tr3_Gen_AdvResp",true]
["Tr3_Gen_ChildWit",42,4,null,null,null,null,null,null,null,null,"Tr3_Gen_ChildWit",true]
["Tr3_Gen_Confidential",42,5,null,null,null,null,null,null,null,null,"Tr3_Gen_Confidential",true]
["Tr3_Gen_Overview_DAT",42,4,null,null,null,null,null,null,null,null,"Tr3_Gen_Overview_DAT",true]
["Tr3_Gen_Overview_DV",42,7,null,null,null,null,null,null,null,null,"Tr3_Gen_Overview_DV",true]
["Tr3_Gen_MandReport",42,5,null,null,null,null,null,null,null,null,"Tr3_Gen_MandReport",true]
["Tr3_Gen_Traffick",42,3,null,null,null,null,null,null,null,null,"Tr3_Gen_Traffick",true]
["Tr3_Gen_Incarcerated",42,1,null,null,null,null,null,null,null,null,"Tr3_Gen_Incarcerated",true]
["Tr3_Gen_SafetyPlan",42,6,null,null,null,null,null,null,null,null,"Tr3_Gen_SafetyPlan",true]
["Tr3_Gen_Overview_SA",42,5,null,null,null,null,null,null,null,null,"Tr3_Gen_Overview_SA",true]
["Tr3_Gen_Overview_STK",42,6,null,null,null,null,null,null,null,null,"Tr3_Gen_Overview_STK",true]
["Tr3_Gen_SupVisits",42,0,null,null,null,null,null,null,null,null,"Tr3_Gen_SupVisits",true]
["Tr3_Gen_Other",42,0,null,null,null,null,null,null,null,null,"Tr3_Gen_Other",true]
["Tr3_JS_CivCrtProc",42,3,null,null,null,null,null,null,null,null,"Tr3_JS_CivCrtProc",true]
["Tr3_JS_CrimCrtProc",42,5,null,null,null,null,null,null,null,null,"Tr3_JS_CrimCrtProc",true]
["Tr3_JS_DVbyLEO",42,0,null,null,null,null,null,null,null,null,"Tr3_JS_DVbyLEO",true]
["Tr3_JS_Statutes_DV",42,7,null,null,null,null,null,null,null,null,"Tr3_JS_Statutes_DV",true]
["Tr3_JS_Firearms",42,5,null,null,null,null,null,null,null,null,"Tr3_JS_Firearms",true]
["Tr3_JS_HomicidePrev",42,3,null,null,null,null,null,null,null,null,"Tr3_JS_HomicidePrev",true]
["Tr3_JS_PredomAggressor",42,2,null,null,null,null,null,null,null,null,"Tr3_JS_PredomAggressor",true]
["Tr3_JS_Immigration",42,2,null,null,null,null,null,null,null,null,"Tr3_JS_Immigration",true]
["Tr3_JS_Response_Judicial",42,4,null,null,null,null,null,null,null,null,"Tr3_JS_Response_Judicial",true]
["Tr3_JS_Response_LEO",42,7,null,null,null,null,null,null,null,null,"Tr3_JS_Response_LEO",true]
["Tr3_JS_ProArrest",42,2,null,null,null,null,null,null,null,null,"Tr3_JS_ProArrest",true]
["Tr3_JS_Response_Probation",42,2,null,null,null,null,null,null,null,null,"Tr3_JS_Response_Probation",true]
["Tr3_JS_Response_Prosecutor",42,5,null,null,null,null,null,null,null,null,"Tr3_JS_Response_Prosecutor",true]
["Tr3_JS_POEnforce",42,7,null,null,null,null,null,null,null,null,"Tr3_JS_POEnforce",true]
["Tr3_JS_EvidCollect_SA",42,2,null,null,null,null,null,null,null,null,"Tr3_JS_EvidCollect_SA",true]
["Tr3_JS_Statutes_SA",42,3,null,null,null,null,null,null,null,null,"Tr3_JS_Statutes_SA",true]
["Tr3_JS_FrnExam_SA",42,2,null,null,null,null,null,null,null,null,"Tr3_JS_FrnExam_SA",true]
["Tr3_JS_Statutes_STK",42,5,null,null,null,null,null,null,null,null,"Tr3_JS_Statutes_STK",true]
["Tr3_JS_TribJuris",42,1,null,null,null,null,null,null,null,null,"Tr3_JS_TribJuris",true]
["Tr3_JS_Other",42,0,null,null,null,null,null,null,null,null,"Tr3_JS_Other",true]
["Tr3_US_AmerInd",42,3,null,null,null,null,null,null,null,null,"Tr3_US_AmerInd",true]
["Tr3_US_Asian",42,1,null,null,null,null,null,null,null,null,"Tr3_US_Asian",true]
["Tr3_US_Black",42,2,null,null,null,null,null,null,null,null,"Tr3_US_Black",true]
["Tr3_US_Deaf",42,1,null,null,null,null,null,null,null,null,"Tr3_US_Deaf",true]
["Tr3_US_Elderly",42,3,null,null,null,null,null,null,null,null,"Tr3_US_Elderly",true]
["Tr3_US_Hispanic",42,4,null,null,null,null,null,null,null,null,"Tr3_US_Hispanic",true]
["Tr3_US_Homeless",42,4,null,null,null,null,null,null,null,null,"Tr3_US_Homeless",true]
["Tr3_US_Immigrant",42,5,null,null,null,null,null,null,null,null,"Tr3_US_Immigrant",true]
["Tr3_US_Incarcerated",42,2,null,null,null,null,null,null,null,null,"Tr3_US_Incarcerated",true]
["Tr3_US_LGBTI",42,3,null,null,null,null,null,null,null,null,"Tr3_US_LGBTI",true]
["Tr3_US_Pacific",42,0,null,null,null,null,null,null,null,null,"Tr3_US_Pacific",true]
["Tr3_US_Disability",42,4,null,null,null,null,null,null,null,null,"Tr3_US_Disability",true]
["Tr3_US_LEP",42,3,null,null,null,null,null,null,null,null,"Tr3_US_LEP",true]
["Tr3_US_MH",42,4,null,null,null,null,null,null,null,null,"Tr3_US_MH",true]
["Tr3_US_SubAbuse",42,4,null,null,null,null,null,null,null,null,"Tr3_US_SubAbuse",true]
["Tr3_US_Rural",42,4,null,null,null,null,null,null,null,null,"Tr3_US_Rural",true]
["Tr3_US_Other",42,0,null,null,null,null,null,null,null,null,"Tr3_US_Other",true]
["Tr3_CR_CommResp_SA",42,3,null,null,null,null,null,null,null,null,"Tr3_CR_CommResp_SA",{"$f":"A139=L139","v":true}]
["Tr3_CR_CCR",42,8,null,null,null,null,null,null,null,null,"Tr3_CR_CCR",true]
["Tr3_CR_RespTeams",42,5,null,null,null,null,null,null,null,null,"Tr3_CR_RespTeams",true]
["Tr3_CR_Technology",42,0,null,null,null,null,null,null,null,null,"Tr3_CR_Technology",true]
["Tr3_CR_Other",42,1,null,null,null,null,null,null,null,null,"Tr3_CR_Other",true]
["Ed_FundsUsed_1or0",42,0,null,null,null,null,null,null,null,null,"Ed_FundsUsed_1or0",true]
["Ed1_EdEvents",42,0,null,null,null,null,null,null,null,null,"Ed1_EdEvents",true]
["Ed2a_ChildCare",42,0,null,null,null,null,null,null,null,null,"Ed2a_ChildCare",true]
["Ed2a_AdvGroup",42,0,null,null,null,null,null,null,null,null,"Ed2a_AdvGroup",true]
["Ed2a_Business",42,0,null,null,null,null,null,null,null,null,"Ed2a_Business",true]
["Ed2a_CommGroup",42,0,null,null,null,null,null,null,null,null,"Ed2a_CommGroup",true]
["Ed2a_CommMember",42,0,null,null,null,null,null,null,null,null,"Ed2a_CommMember",true]
["Ed2a_Educator",42,0,null,null,null,null,null,null,null,null,"Ed2a_Educator",true]
["Ed2a_Student_Elem",42,0,null,null,null,null,null,null,null,null,"Ed2a_Student_Elem",true]
["Ed2a_FaithBased",42,0,null,null,null,null,null,null,null,null,"Ed2a_FaithBased",true]
["Ed2a_Student_MSandHS",42,0,null,null,null,null,null,null,null,null,"Ed2a_Student_MSandHS",true]
["Ed2a_Parents",42,0,null,null,null,null,null,null,null,null,"Ed2a_Parents",true]
["Ed2a_Student_Univ",42,0,null,null,null,null,null,null,null,null,"Ed2a_Student_Univ",true]
["Ed2a_Victim",42,0,null,null,null,null,null,null,null,null,"Ed2a_Victim",true]
["Ed2a_Other",42,0,null,null,null,null,null,null,null,null,"Ed2a_Other",true]
["Ed3_Gen_Overview_DAT",42,0,null,null,null,null,null,null,null,null,"Ed3_Gen_Overview_DAT",true]
["Ed3_Gen_Prevention_DAT",42,0,null,null,null,null,null,null,null,null,"Ed3_Gen_Prevention_DAT",true]
["Ed3_Gen_Overview_DV",42,0,null,null,null,null,null,null,null,null,"Ed3_Gen_Overview_DV",true]
["Ed3_Gen_Prevention_DV",42,0,null,null,null,null,null,null,null,null,"Ed3_Gen_Prevention_DV",true]
["Ed3_Gen_HealthRel_6to12",42,0,null,null,null,null,null,null,null,null,"Ed3_Gen_HealthRel_6to12",true]
["Ed3_Gen_HealthyRel_Comm",42,0,null,null,null,null,null,null,null,null,"Ed3_Gen_HealthyRel_Comm",true]
["Ed3_Gen_Healthy_Univ",42,0,null,null,null,null,null,null,null,null,"Ed3_Gen_Healthy_Univ",true]
["Ed3_Gen_IndigenousPrev",42,0,null,null,null,null,null,null,null,null,"Ed3_Gen_IndigenousPrev",true]
["Ed3_Gen_SafetyPlan",42,0,null,null,null,null,null,null,null,null,"Ed3_Gen_SafetyPlan",true]
["Ed3_Gen_Overview_SA",42,0,null,null,null,null,null,null,null,null,"Ed3_Gen_Overview_SA",true]
["Ed3_Gen_Prevention_SA",42,0,null,null,null,null,null,null,null,null,"Ed3_Gen_Prevention_SA",true]
["Ed3_Gen_Overview_STK",42,0,null,null,null,null,null,null,null,null,"Ed3_Gen_Overview_STK",true]
["Ed3_Gen_Prevention_STK",42,0,null,null,null,null,null,null,null,null,"Ed3_Gen_Prevention_STK",true]
["Ed3_Gen_WorkVIolence",42,0,null,null,null,null,null,null,null,null,"Ed3_Gen_WorkVIolence",true]
["Ed3_Gen_Other",42,0,null,null,null,null,null,null,null,null,"Ed3_Gen_Other",true]
["Ed3_US_AmerInd",42,0,null,null,null,null,null,null,null,null,"Ed3_US_AmerInd",true]
["Ed3_US_Asian",42,0,null,null,null,null,null,null,null,null,"Ed3_US_Asian",true]
["Ed3_US_Black",42,0,null,null,null,null,null,null,null,null,"Ed3_US_Black",true]
["Ed3_US_Deaf",42,0,null,null,null,null,null,null,null,null,"Ed3_US_Deaf",true]
["Ed3_US_Elderly",42,0,null,null,null,null,null,null,null,null,"Ed3_US_Elderly",true]
["Ed3_US_Rural_GeoIsolated",42,0,null,null,null,null,null,null,null,null,"Ed3_US_Rural_GeoIsolated",true]
["Ed3_US_Hispanic",42,0,null,null,null,null,null,null,null,null,"Ed3_US_Hispanic",true]
["Ed3_US_Homeless",42,0,null,null,null,null,null,null,null,null,"Ed3_US_Homeless",true]
["Ed3_US_Immigrant",42,0,null,null,null,null,null,null,null,null,"Ed3_US_Immigrant",true]
["Ed3_US_LGBTI",42,0,null,null,null,null,null,null,null,null,"Ed3_US_LGBTI",true]
["Ed3_US_Pacific",42,0,null,null,null,null,null,null,null,null,"Ed3_US_Pacific",true]
["Ed3_US_Disability",42,0,null,null,null,null,null,null,null,null,"Ed3_US_Disability",true]
["Ed3_US_MH",42,0,null,null,null,null,null,null,null,null,"Ed3_US_MH",true]
["Ed3_US_SubAbuse",42,0,null,null,null,null,null,null,null,null,"Ed3_US_SubAbuse",true]
["Ed3_US_Rural",42,0,null,null,null,null,null,null,null,null,"Ed3_US_Rural",true]
["Ed3_US_Urban",42,0,null,null,null,null,null,null,null,null,"Ed3_US_Urban",true]
["Ed3_US_Other",42,0,null,null,null,null,null,null,null,null,"Ed3_US_Other",true]
["Pol_FundsUsed_1or0",42,2,null,null,null,null,null,null,null,null,"Pol_FundsUsed_1or0",true]
["Pol1_VS_Underserved",42,0,null,null,null,null,null,null,null,null,"Pol1_VS_Underserved",true]
["Pol1_VS_SubAbuseMH",42,0,null,null,null,null,null,null,null,null,"Pol1_VS_SubAbuseMH",true]
["Pol1_VS_ElderDis",42,0,null,null,null,null,null,null,null,null,"Pol1_VS_ElderDis",true]
["Pol1_VS_Incarcerated",42,0,null,null,null,null,null,null,null,null,"Pol1_VS_Incarcerated",true]
["Pol1_VS_SexOrient",42,0,null,null,null,null,null,null,null,null,"Pol1_VS_SexOrient",true]
["Pol1_VS_Confidential",42,0,null,null,null,null,null,null,null,null,"Pol1_VS_Confidential",true]
["Pol1_VS_HomicidePrev",42,0,null,null,null,null,null,null,null,null,"Pol1_VS_HomicidePrev",true]
["Pol1_VS_MandTrain",42,0,null,null,null,null,null,null,null,null,"Pol1_VS_MandTrain",true]
["Pol1_VS_JaneDoe",42,0,null,null,null,null,null,null,null,null,"Pol1_VS_JaneDoe",true]
["Pol1_VS_EvidCollect_SA",42,0,null,null,null,null,null,null,null,null,"Pol1_VS_EvidCollect_SA",true]
["Pol1_VS_Diversity",42,0,null,null,null,null,null,null,null,null,"Pol1_VS_Diversity",true]
["Pol1_VS_CrimeVicComp",42,0,null,null,null,null,null,null,null,null,"Pol1_VS_CrimeVicComp",{"$f":"A203=L203","v":true}]
["Pol1_VS_Other",42,0,null,null,null,null,null,null,null,null,"Pol1_VS_Other",true]
["Pol1_LE_Underserved",42,0,null,null,null,null,null,null,null,null,"Pol1_LE_Underserved",true]
["Pol1_LE_ElderDis",42,0,null,null,null,null,null,null,null,null,"Pol1_LE_ElderDis",true]
["Pol1_LE_Incarcerated",42,0,null,null,null,null,null,null,null,null,"Pol1_LE_Incarcerated",true]
["Pol1_LE_SexOrient",42,0,null,null,null,null,null,null,null,null,"Pol1_LE_SexOrient",true]
["Pol1_LE_DVbyLEO",42,0,null,null,null,null,null,null,null,null,"Pol1_LE_DVbyLEO",true]
["Pol1_LE_HomicidePrev",42,1,null,null,null,null,null,null,null,null,"Pol1_LE_HomicidePrev",true]
["Pol1_LE_PredomAggressor",42,0,null,null,null,null,null,null,null,null,"Pol1_LE_PredomAggressor",true]
["Pol1_LE_ImmAccessPO",42,1,null,null,null,null,null,null,null,null,"Pol1_LE_ImmAccessPO",true]
["Pol1_LE_MandTrain",42,0,null,null,null,null,null,null,null,null,"Pol1_LE_MandTrain",true]
["Pol1_LE_NoCharge_Serv",42,0,null,null,null,null,null,null,null,null,"Pol1_LE_NoCharge_Serv",true]
["Pol1_LE_NoCharge_Exam",42,0,null,null,null,null,null,null,null,null,"Pol1_LE_NoCharge_Exam",true]
["Pol1_LE_NoCharge_Invest",42,0,null,null,null,null,null,null,null,null,"Pol1_LE_NoCharge_Invest",true]
["Pol1_LE_NoPolygraph",42,0,null,null,null,null,null,null,null,null,"Pol1_LE_NoPolygraph",true]
["Pol1_LE_InternetDisc",42,0,null,null,null,null,null,null,null,null,"Pol1_LE_InternetDisc",true]
["Pol1_LE_ProArrest",42,0,null,null,null,null,null,null,null,null,"Pol1_LE_ProArrest",true]
["Pol1_LE_JaneDoe",42,0,null,null,null,null,null,null,null,null,"Pol1_LE_JaneDoe",true]
["Pol1_LE_POEnforce",42,0,null,null,null,null,null,null,null,null,"Pol1_LE_POEnforce",true]
["Pol1_LE_InformVic",42,1,null,null,null,null,null,null,null,null,"Pol1_LE_InformVic",true]
["Pol1_LE_EvidCollect_SA",42,0,null,null,null,null,null,null,null,null,"Pol1_LE_EvidCollect_SA",true]
["Pol1_LE_ResponseSA",42,0,null,null,null,null,null,null,null,null,"Pol1_LE_ResponseSA",true]
["Pol1_LE_Other",42,1,null,null,null,null,null,null,null,null,"Pol1_LE_Other",true]
["Pol1_Pros_Underserved",42,0,null,null,null,null,null,null,null,null,"Pol1_Pros_Underserved",true]
["Pol1_Pros_ElderDis",42,0,null,null,null,null,null,null,null,null,"Pol1_Pros_ElderDis",true]
["Pol1_Pros_Incarcerated",42,0,null,null,null,null,null,null,null,null,"Pol1_Pros_Incarcerated",true]
["Pol1_Pros_SexOrient",42,0,null,null,null,null,null,null,null,null,"Pol1_Pros_SexOrient",true]
["Pol1_Pros_MandTrain",42,0,null,null,null,null,null,null,null,null,"Pol1_Pros_MandTrain",true]
["Pol1_Pros_NoCharge_Pros",42,0,null,null,null,null,null,null,null,null,"Pol1_Pros_NoCharge_Pros",true]
["Pol1_Pros_NoPolygraph",42,0,null,null,null,null,null,null,null,null,"Pol1_Pros_NoPolygraph",true]
["Pol1_Pros_InternetDisc",42,0,null,null,null,null,null,null,null,null,"Pol1_Pros_InternetDisc",true]
["Pol1_Pros_POEnforce",42,0,null,null,null,null,null,null,null,null,"Pol1_Pros_POEnforce",true]
["Pol1_Pros_EvidCollect_SA",42,0,null,null,null,null,null,null,null,null,"Pol1_Pros_EvidCollect_SA",true]
["Pol1_Pros_ResponseSA",42,0,null,null,null,null,null,null,null,null,"Pol1_Pros_ResponseSA",true]
["Pol1_Pros_VerticalPros",42,0,null,null,null,null,null,null,null,null,"Pol1_Pros_VerticalPros",true]
["Pol1_Pros_Notification",42,0,null,null,null,null,null,null,null,null,"Pol1_Pros_Notification",true]
["Pol1_Pros_Other",42,0,null,null,null,null,null,null,null,null,"Pol1_Pros_Other",true]
["Pol1_Crt_AccTrial",42,0,null,null,null,null,null,null,null,null,"Pol1_Crt_AccTrial",true]
["Pol1_Crt_Underserved",42,0,null,null,null,null,null,null,null,null,"Pol1_Crt_Underserved",true]
["Pol1_Crt_ElderDis",42,1,null,null,null,null,null,null,null,null,"Pol1_Crt_ElderDis",true]
["Pol1_Crt_Incarcerated",42,0,null,null,null,null,null,null,null,null,"Pol1_Crt_Incarcerated",true]
["Pol1_Crt_SexOrient",42,0,null,null,null,null,null,null,null,null,"Pol1_Crt_SexOrient",true]
["Pol1_Crt_DVDocket",42,0,null,null,null,null,null,null,null,null,"Pol1_Crt_DVDocket",true]
["Pol1_Crt_FullFaithPO",42,1,null,null,null,null,null,null,null,null,"Pol1_Crt_FullFaithPO",true]
["Pol1_Crt_ImmAccessPO",42,1,null,null,null,null,null,null,null,null,"Pol1_Crt_ImmAccessPO",true]
["Pol1_Crt_JudMonitor",42,1,null,null,null,null,null,null,null,null,"Pol1_Crt_JudMonitor",true]
["Pol1_Crt_MandTrain",42,0,null,null,null,null,null,null,null,null,"Pol1_Crt_MandTrain",true]
["Pol1_Crt_NoCharge_PO",42,1,null,null,null,null,null,null,null,null,"Pol1_Crt_NoCharge_PO",true]
["Pol1_Crt_InternetDisc",42,1,null,null,null,null,null,null,null,null,"Pol1_Crt_InternetDisc",true]
["Pol1_Crt_MutualPO",42,0,null,null,null,null,null,null,null,null,"Pol1_Crt_MutualPO",true]
["Pol1_Crt_CrtSecurity",42,0,null,null,null,null,null,null,null,null,"Pol1_Crt_CrtSecurity",true]
["Pol1_Crt_EvidCollect_SA",42,0,null,null,null,null,null,null,null,null,"Pol1_Crt_EvidCollect_SA",true]
["Pol1_Crt_StandardPO",42,1,null,null,null,null,null,null,null,null,"Pol1_Crt_StandardPO",true]
["Pol1_Crt_Other",42,1,null,null,null,null,null,null,null,null,"Pol1_Crt_Other",true]
["Pol1_Prob_Underserved",42,0,null,null,null,null,null,null,null,null,"Pol1_Prob_Underserved",true]
["Pol1_Prob_ElderDis",42,0,null,null,null,null,null,null,null,null,"Pol1_Prob_ElderDis",true]
["Pol1_Prob_Incarcerated",42,0,null,null,null,null,null,null,null,null,"Pol1_Prob_Incarcerated",true]
["Pol1_Prob_SexOrient",42,0,null,null,null,null,null,null,null,null,"Pol1_Prob_SexOrient",true]
["Pol1_Prob_MandTrain",42,0,null,null,null,null,null,null,null,null,"Pol1_Prob_MandTrain",true]
["Pol1_Prob_ProtectVIc",42,0,null,null,null,null,null,null,null,null,"Pol1_Prob_ProtectVIc",true]
["Pol1_Prob_VicInclusion",42,0,null,null,null,null,null,null,null,null,"Pol1_Prob_VicInclusion",true]
["Pol1_Prob_Notification",42,0,null,null,null,null,null,null,null,null,"Pol1_Prob_Notification",true]
["Pol1_Prob_Other",42,0,null,null,null,null,null,null,null,null,"Pol1_Prob_Other",true]
["Pol1_HC_AdvER",42,0,null,null,null,null,null,null,null,null,"Pol1_HC_AdvER",true]
["Pol1_HC_Underserved",42,0,null,null,null,null,null,null,null,null,"Pol1_HC_Underserved",{"$f":"A267=L267","v":true}]
["Pol1_HC_AvoidTrauma",42,1,null,null,null,null,null,null,null,null,"Pol1_HC_AvoidTrauma",true]
["Pol1_HC_ElderDis",42,0,null,null,null,null,null,null,null,null,"Pol1_HC_ElderDis",true]
["Pol1_HC_Incarcerated",42,0,null,null,null,null,null,null,null,null,"Pol1_HC_Incarcerated",true]
["Pol1_HC_SexOrient",42,0,null,null,null,null,null,null,null,null,"Pol1_HC_SexOrient",true]
["Pol1_HC_NoCharge_Exam",42,0,null,null,null,null,null,null,null,null,"Pol1_HC_NoCharge_Exam",true]
["Pol1_HC_MandTrain",42,0,null,null,null,null,null,null,null,null,"Pol1_HC_MandTrain",true]
["Pol1_HC_Screening",42,0,null,null,null,null,null,null,null,null,"Pol1_HC_Screening",true]
["Pol1_HC_EvidCollect_SA",42,0,null,null,null,null,null,null,null,null,"Pol1_HC_EvidCollect_SA",true]
["Pol1_HC_Other",42,0,null,null,null,null,null,null,null,null,"Pol1_HC_Other",true]
["Prod_FundsUsed_1or0",42,6,null,null,null,null,null,null,null,null,"Prod_FundsUsed_1or0",true]
["Prod1_Brochures1_Dev",42,1,null,null,null,null,null,null,null,null,"Prod1_Brochures1_Dev",true]
["Prod1_Brochures2_Dev",42,2,null,null,null,null,null,null,null,null,"Prod1_Brochures2_Dev",true]
["Prod1_Brochures3_Dev",42,1,null,null,null,null,null,null,null,null,"Prod1_Brochures3_Dev",true]
["Prod1_Manuals1_Dev",42,1,null,null,null,null,null,null,null,null,"Prod1_Manuals1_Dev",true]
["Prod1_Manuals2_Dev",42,0,null,null,null,null,null,null,null,null,"Prod1_Manuals2_Dev",true]
["Prod1_Manuals3_Dev",42,0,null,null,null,null,null,null,null,null,"Prod1_Manuals3_Dev",true]
["Prod1_TrnMatCurr1_Dev",42,10,null,null,null,null,null,null,null,null,"Prod1_TrnMatCurr1_Dev",true]
["Prod1_TrnMatCurr2_Dev",42,6,null,null,null,null,null,null,null,null,"Prod1_TrnMatCurr2_Dev",true]
["Prod1_TrnMatCurr3_Dev",42,1,null,null,null,null,null,null,null,null,"Prod1_TrnMatCurr3_Dev",true]
["Prod1_Other1_Dev",42,11,null,null,null,null,null,null,null,null,"Prod1_Other1_Dev",true]
["Prod1_Other2_Dev",42,2,null,null,null,null,null,null,null,null,"Prod1_Other2_Dev",true]
["Prod1_Other3_Dev",42,1,null,null,null,null,null,null,null,null,"Prod1_Other3_Dev",true]
["Data_FundsUsed_1or0",42,3,null,null,null,null,null,null,null,null,"Data_FundsUsed_1or0",true]
["Data1_Develop",42,2,null,null,null,null,null,null,null,null,"Data1_Develop",true]
["Data1_Install",42,1,null,null,null,null,null,null,null,null,"Data1_Install",true]
["Data1_Expand",42,3,null,null,null,null,null,null,null,null,"Data1_Expand",true]
["Data1_Link",42,0,null,null,null,null,null,null,null,null,"Data1_Link",true]
["Data1_Share",42,1,null,null,null,null,null,null,null,null,"Data1_Share",true]
["Data1_Manage",42,1,null,null,null,null,null,null,null,null,"Data1_Manage",true]
["Data1_Purchase",42,0,null,null,null,null,null,null,null,null,"Data1_Purchase",true]
["Data2_Arrests",42,1,null,null,null,null,null,null,null,null,"Data2_Arrests",true]
["Data2_Bail",42,0,null,null,null,null,null,null,null,null,"Data2_Bail",true]
["Data2_CaseMgmt",42,2,null,null,null,null,null,null,null,null,"Data2_CaseMgmt",true]
["Data2_Compliance",42,0,null,null,null,null,null,null,null,null,"Data2_Compliance",true]
["Data2_Convictions",42,1,null,null,null,null,null,null,null,null,"Data2_Convictions",true]
["Data2_DocketMgmt",42,2,null,null,null,null,null,null,null,null,"Data2_DocketMgmt",true]
["Data2_Evaluation",42,1,null,null,null,null,null,null,null,null,"Data2_Evaluation",true]
["Data2_IncidentRep",42,0,null,null,null,null,null,null,null,null,"Data2_IncidentRep",true]
["Data2_Probation",42,1,null,null,null,null,null,null,null,null,"Data2_Probation",true]
["Data2_Prosecution",42,1,null,null,null,null,null,null,null,null,"Data2_Prosecution",true]
["Data2_PO",42,3,null,null,null,null,null,null,null,null,"Data2_PO",true]
["Data2_Recidivism",42,0,null,null,null,null,null,null,null,null,"Data2_Recidivism",true]
["Data2_Sentencing",42,1,null,null,null,null,null,null,null,null,"Data2_Sentencing",true]
["Data2_EvidCollect_SA",42,0,null,null,null,null,null,null,null,null,"Data2_EvidCollect_SA",true]
["Data2_STKOrders",42,2,null,null,null,null,null,null,null,null,"Data2_STKOrders",true]
["Data2_VicNotification",42,1,null,null,null,null,null,null,null,null,"Data2_VicNotification",true]
["Data2_VicServices",42,0,null,null,null,null,null,null,null,null,"Data2_VicServices",true]
["Data2_ViolPO",42,1,null,null,null,null,null,null,null,null,"Data2_ViolPO",true]
["Data2_Warrants",42,1,null,null,null,null,null,null,null,null,"Data2_Warrants",true]
["Data2_Other",42,2,null,null,null,null,null,null,null,null,"Data2_Other",true]
["SU_FundsUsed_1or0",42,2,null,null,null,null,null,null,null,null,"SU_FundsUsed_1or0",true]
["SU1_Develop_LE",42,0,null,null,null,null,null,null,null,null,"SU1_Develop_LE",true]
["SU1_Develop_Pros",42,0,null,null,null,null,null,null,null,null,"SU1_Develop_Pros",true]
["SU1_Develop_Crt",42,0,null,null,null,null,null,null,null,null,"SU1_Develop_Crt",true]
["SU1_Develop_Prob",42,0,null,null,null,null,null,null,null,null,"SU1_Develop_Prob",true]
["SU1_Support_LE",42,0,null,null,null,null,null,null,null,null,"SU1_Support_LE",true]
["SU1_Support_Pros",42,2,null,null,null,null,null,null,null,null,"SU1_Support_Pros",true]
["SU1_Support_Crt",42,0,null,null,null,null,null,null,null,null,"SU1_Support_Crt",true]
["SU1_Support_Prob",42,0,null,null,null,null,null,null,null,null,"SU1_Support_Prob",true]
["SU1_Train_LE",42,0,null,null,null,null,null,null,null,null,"SU1_Train_LE",true]
["SU1_Train_Pros",42,1,null,null,null,null,null,null,null,null,"SU1_Train_Pros",true]
["SU1_Train_Crt",42,0,null,null,null,null,null,null,null,null,"SU1_Train_Crt",true]
["SU1_Train_Prob",42,0,null,null,null,null,null,null,null,null,"SU1_Train_Prob",true]
["SU1_Other_LE",42,0,null,null,null,null,null,null,null,null,"SU1_Other_LE",{"$f":"A331=L331","v":true}]
["SU1_Other_Pros",42,0,null,null,null,null,null,null,null,null,"SU1_Other_Pros",true]
["SU1_Other_Crt",42,0,null,null,null,null,null,null,null,null,"SU1_Other_Crt",true]
["SU1_Other_Prob",42,0,null,null,null,null,null,null,null,null,"SU1_Other_Prob",true]
["SU2_SA_LE",42,0,null,null,null,null,null,null,null,null,"SU2_SA_LE",true]
["SU2_SA_Pros",42,1,null,null,null,null,null,null,null,null,"SU2_SA_Pros",true]
["SU2_SA_Crt",42,0,null,null,null,null,null,null,null,null,"SU2_SA_Crt",true]
["SU2_SA_Prob",42,0,null,null,null,null,null,null,null,null,"SU2_SA_Prob",true]
["SU2_DV_LE",42,0,null,null,null,null,null,null,null,null,"SU2_DV_LE",true]
["SU2_DV_Pros",42,2,null,null,null,null,null,null,null,null,"SU2_DV_Pros",true]
["SU2_DV_Crt",42,0,null,null,null,null,null,null,null,null,"SU2_DV_Crt",true]
["SU2_DV_Prob",42,0,null,null,null,null,null,null,null,null,"SU2_DV_Prob",true]
["SU2_STK_LE",42,0,null,null,null,null,null,null,null,null,"SU2_STK_LE",true]
["SU2_STK_Pros",42,0,null,null,null,null,null,null,null,null,"SU2_STK_Pros",true]
["SU2_STK_Crt",42,0,null,null,null,null,null,null,null,null,"SU2_STK_Crt",true]
["SU2_STK_Prob",42,0,null,null,null,null,null,null,null,null,"SU2_STK_Prob",true]
["SI_FundsUsed_1or0",42,4,null,null,null,null,null,null,null,null,"SI_FundsUsed_1or0",true]
["SI1_Evaluation_VS",42,1,null,null,null,null,null,null,null,null,"SI1_Evaluation_VS",true]
["SI1_Evaluation_LE",42,0,null,null,null,null,null,null,null,null,"SI1_Evaluation_LE",true]
["SI1_Evaluation_Pros",42,0,null,null,null,null,null,null,null,null,"SI1_Evaluation_Pros",true]
["SI1_Evaluation_Crt",42,1,null,null,null,null,null,null,null,null,"SI1_Evaluation_Crt",true]
["SI1_Evaluation_Prob",42,0,null,null,null,null,null,null,null,null,"SI1_Evaluation_Prob",true]
["SI1_FatalityRev_VS",42,1,null,null,null,null,null,null,null,null,"SI1_FatalityRev_VS",true]
["SI1_FatalityRev_LE",42,1,null,null,null,null,null,null,null,null,"SI1_FatalityRev_LE",true]
["SI1_FatalityRev_Pros",42,1,null,null,null,null,null,null,null,null,"SI1_FatalityRev_Pros",true]
["SI1_FatalityRev_Crt",42,1,null,null,null,null,null,null,null,null,"SI1_FatalityRev_Crt",true]
["SI1_FatalityRev_Prob",42,1,null,null,null,null,null,null,null,null,"SI1_FatalityRev_Prob",true]
["SI1_Interpreter_VS",42,1,null,null,null,null,null,null,null,null,"SI1_Interpreter_VS",true]
["SI1_Interpreter_LE",42,0,null,null,null,null,null,null,null,null,"SI1_Interpreter_LE",true]
["SI1_Interpreter_Pros",42,0,null,null,null,null,null,null,null,null,"SI1_Interpreter_Pros",true]
["SI1_Interpreter_Crt",42,0,null,null,null,null,null,null,null,null,"SI1_Interpreter_Crt",true]
["SI1_Interpreter_Prob",42,0,null,null,null,null,null,null,null,null,"SI1_Interpreter_Prob",true]
["SI1_LAP_VS",42,1,null,null,null,null,null,null,null,null,"SI1_LAP_VS",true]
["SI1_LAP_LE",42,0,null,null,null,null,null,null,null,null,"SI1_LAP_LE",true]
["SI1_LAP_Pros",42,0,null,null,null,null,null,null,null,null,"SI1_LAP_Pros",true]
["SI1_LAP_Crt",42,0,null,null,null,null,null,null,null,null,"SI1_LAP_Crt",true]
["SI1_LAP_Prob",42,0,null,null,null,null,null,null,null,null,"SI1_LAP_Prob",true]
["SI1_Language_VS",42,1,null,null,null,null,null,null,null,null,"SI1_Language_VS",true]
["SI1_Language_LE",42,0,null,null,null,null,null,null,null,null,"SI1_Language_LE",true]
["SI1_Language_Pros",42,0,null,null,null,null,null,null,null,null,"SI1_Language_Pros",true]
["SI1_Language_Crt",42,0,null,null,null,null,null,null,null,null,"SI1_Language_Crt",true]
["SI1_Language_Prob",42,0,null,null,null,null,null,null,null,null,"SI1_Language_Prob",true]
["SI1_MtgTrib_VS",42,1,null,null,null,null,null,null,null,null,"SI1_MtgTrib_VS",true]
["SI1_MtgTrib_LE",42,0,null,null,null,null,null,null,null,null,"SI1_MtgTrib_LE",true]
["SI1_MtgTrib_Pros",42,0,null,null,null,null,null,null,null,null,"SI1_MtgTrib_Pros",true]
["SI1_MtgTrib_Crt",42,1,null,null,null,null,null,null,null,null,"SI1_MtgTrib_Crt",true]
["SI1_MtgTrib_Prob",42,0,null,null,null,null,null,null,null,null,"SI1_MtgTrib_Prob",true]
["SI1_SafetyAudits_VS",42,1,null,null,null,null,null,null,null,null,"SI1_SafetyAudits_VS",true]
["SI1_SafetyAudits_LE",42,0,null,null,null,null,null,null,null,null,"SI1_SafetyAudits_LE",true]
["SI1_SafetyAudits_Pros",42,0,null,null,null,null,null,null,null,null,"SI1_SafetyAudits_Pros",true]
["SI1_SafetyAudits_Crt",42,0,null,null,null,null,null,null,null,null,"SI1_SafetyAudits_Crt",true]
["SI1_SafetyAudits_Prob",42,0,null,null,null,null,null,null,null,null,"SI1_SafetyAudits_Prob",true]
["SI1_Security_VS",42,0,null,null,null,null,null,null,null,null,"SI1_Security_VS",true]
["SI1_Security_LE",42,0,null,null,null,null,null,null,null,null,"SI1_Security_LE",true]
["SI1_Security_Pros",42,0,null,null,null,null,null,null,null,null,"SI1_Security_Pros",true]
["SI1_Security_Crt",42,0,null,null,null,null,null,null,null,null,"SI1_Security_Crt",true]
["SI1_Security_Prob",42,0,null,null,null,null,null,null,null,null,"SI1_Security_Prob",true]
["SI1_Translation_VS",42,2,null,null,null,null,null,null,null,null,"SI1_Translation_VS",true]
["SI1_Translation_LE",42,0,null,null,null,null,null,null,null,null,"SI1_Translation_LE",true]
["SI1_Translation_Pros",42,0,null,null,null,null,null,null,null,null,"SI1_Translation_Pros",true]
["SI1_Translation_Crt",42,1,null,null,null,null,null,null,null,null,"SI1_Translation_Crt",true]
["SI1_Translation_Prob",42,0,null,null,null,null,null,null,null,null,"SI1_Translation_Prob",true]
["SI1_Other_VS",42,0,null,null,null,null,null,null,null,null,"SI1_Other_VS",true]
["SI1_Other_LE",42,0,null,null,null,null,null,null,null,null,"SI1_Other_LE",true]
["SI1_Other_Pros",42,0,null,null,null,null,null,null,null,null,"SI1_Other_Pros",{"$f":"A395=L395","v":true}]
["SI1_Other_Crt",42,0,null,null,null,null,null,null,null,null,"SI1_Other_Crt",true]
["SI1_Other_Prob",42,0,null,null,null,null,null,null,null,null,"SI1_Other_Prob",true]
["VS_FundsUsed_1or0",42,35,null,null,null,{"$f":"SUM(DATA[VS_FundsUsed_1or0])","v":35},null,{"$f":"C398=G398","v":true},null,null,"VS_FundsUsed_1or0",true]
["VS1_Srvd_SA",42,1281,null,null,null,{"$f":"'Victim Services'!F9","v":1281},null,{"$f":"C399=G399","v":true},null,null,"VS1_Srvd_SA",true]
["VS1_Srvd_DV",42,3991,null,null,null,{"$f":"'Victim Services'!D9","v":3991},null,true,null,null,"VS1_Srvd_DV",true]
["VS1_Srvd_STK",42,166,null,null,null,{"$f":"'Victim Services'!H9","v":166},null,true,null,null,"VS1_Srvd_STK",true]
["VS1_TOTAL_Srvd",42,5438,null,null,null,{"$f":"'Victim Services'!J9","v":5438},null,true,null,null,"VS1_TOTAL_Srvd",true]
["VS1_PSrvd_SA",42,9,null,null,null,{"$f":"'Victim Services'!F10","v":9},null,true,null,null,"VS1_PSrvd_SA",true]
["VS1_PSrvd_DV",42,121,null,null,null,{"$f":"'Victim Services'!D10","v":121},null,true,null,null,"VS1_PSrvd_DV",true]
["VS1_PSrvd_STK",42,5,null,null,null,{"$f":"'Victim Services'!H10","v":5},null,true,null,null,"VS1_PSrvd_STK",true]
["VS1_TOTAL_PSrvd",42,135,null,null,null,{"$f":"'Victim Services'!J10","v":135},null,true,null,null,"VS1_TOTAL_PSrvd",true]
["VS1_SrvdPSrvd_SA",42,1290,null,null,null,{"$f":"'Victim Services'!D21","v":1290},null,true,null,null,"VS1_SrvdPSrvd_SA",true]
["VS1_SrvdPSrvd_DV",42,4112,null,null,null,{"$f":"'Victim Services'!D20","v":4112},null,true,null,null,"VS1_SrvdPSrvd_DV",true]
["VS1_SrvdPSrvd_STK",42,171,null,null,null,{"$f":"'Victim Services'!D22","v":171},null,true,null,null,"VS1_SrvdPSrvd_STK",true]
["VS1_TOTAL_SrvdPSrvd",42,5573,null,null,null,{"$f":"'Victim Services'!D23","v":5573},null,true,null,null,"VS1_TOTAL_SrvdPSrvd",true]
["VS1_NotSrvd_SA",42,1,null,null,null,{"$f":"'Victim Services'!F11","v":1},null,true,null,null,"VS1_NotSrvd_SA",true]
["VS1_NotSrvd_DV",42,1,null,null,null,{"$f":"'Victim Services'!D11","v":1},null,true,null,null,"VS1_NotSrvd_DV",true]
["VS1_NotSrvd_STK",42,0,null,null,null,{"$f":"'Victim Services'!H11","v":0},null,true,null,null,"VS1_NotSrvd_STK",true]
["VS1_TOTAL_NotSrvd",42,2,null,null,null,{"$f":"'Victim Services'!J11","v":2},null,true,null,null,"VS1_TOTAL_NotSrvd",true]
["VS2_NewSrvd_SA",42,712,null,null,null,{"$f":"'Victim Services'!J21","v":712},null,true,null,null,"VS2_NewSrvd_SA",true]
["VS2_NewSrvd_DV",42,3754,null,null,null,{"$f":"'Victim Services'!J20","v":3754},null,true,null,null,"VS2_NewSrvd_DV",true]
["VS2_NewSrvd_STK",42,154,null,null,null,{"$f":"'Victim Services'!J22","v":154},null,true,null,null,"VS2_NewSrvd_STK",true]
["VS2_TOTAL_NewSrvd",42,4620,null,null,null,null,null,null,null,null,"VS2_TOTAL_NewSrvd",true]
["VS3_AddSA_SA",42,1290,null,null,null,null,null,null,null,null,"VS3_AddSA_SA",true]
["VS3_AddDV_SA",42,29,null,null,null,null,null,null,null,null,"VS3_AddDV_SA",true]
["VS3_AddSTK_SA",42,10,null,null,null,null,null,null,null,null,"VS3_AddSTK_SA",true]
["VS3_AddTFK_SA",42,17,null,null,null,null,null,null,null,null,"VS3_AddTFK_SA",true]
["VS3_AddSA_DV",42,166,null,null,null,null,null,null,null,null,"VS3_AddSA_DV",true]
["VS3_AddDV_DV",42,4112,null,null,null,null,null,null,null,null,"VS3_AddDV_DV",true]
["VS3_AddSTK_DV",42,50,null,null,null,null,null,null,null,null,"VS3_AddSTK_DV",true]
["VS3_AddTFK_DV",42,3,null,null,null,null,null,null,null,null,"VS3_AddTFK_DV",true]
["VS3_AddSA_STK",42,19,null,null,null,null,null,null,null,null,"VS3_AddSA_STK",true]
["VS3_AddDV_STK",42,32,null,null,null,null,null,null,null,null,"VS3_AddDV_STK",true]
["VS3_AddSTK_STK",42,171,null,null,null,null,null,null,null,null,"VS3_AddSTK_STK",true]
["VS3_AddTFK_STK",42,0,null,null,null,null,null,null,null,null,"VS3_AddTFK_STK",true]
["VS3_TOTAL_AddSA",42,1475,null,null,null,null,null,null,null,null,"VS3_TOTAL_AddSA",true]
["VS3_TOTAL_AddDV",42,4173,null,null,null,null,null,null,null,null,"VS3_TOTAL_AddDV",true]
["VS3_TOTAL_AddSTK",42,231,null,null,null,null,null,null,null,null,"VS3_TOTAL_AddSTK",true]
["VS3_TOTAL_AddTFK",42,20,null,null,null,null,null,null,null,null,"VS3_TOTAL_AddTFK",true]
["IE1_SrvdPSrvd_SA",42,66,null,null,null,null,null,null,null,null,"IE1_SrvdPSrvd_SA",true]
["IE1_SrvdPSrvd_DV",42,620,null,null,null,null,null,null,null,null,"IE1_SrvdPSrvd_DV",true]
["IE1_SrvdPSrvd_STK",42,13,null,null,null,null,null,null,null,null,"IE1_SrvdPSrvd_STK",true]
["IE1_TOTAL_SrvdPSrvd",42,699,null,null,null,null,null,null,null,null,"IE1_TOTAL_SrvdPSrvd",true]
["VS4_Conflict_PSrvd",42,0,null,null,null,null,null,null,null,null,"VS4_Conflict_PSrvd",true]
["VS4_Conflict_NotSrvd",42,0,null,null,null,null,null,null,null,null,"VS4_Conflict_NotSrvd",true]
["VS4_StatReq_PSrvd",42,0,null,null,null,null,null,null,null,null,"VS4_StatReq_PSrvd",true]
["VS4_StatReq_NotSrvd",42,0,null,null,null,null,null,null,null,null,"VS4_StatReq_NotSrvd",true]
["VS4_Hours_PSrvd",42,0,null,null,null,null,null,null,null,null,"VS4_Hours_PSrvd",true]
["VS4_Hours_NotSrvd",42,0,null,null,null,null,null,null,null,null,"VS4_Hours_NotSrvd",true]
["VS4_CulturalSrv_PSrvd",42,0,null,null,null,null,null,null,null,null,"VS4_CulturalSrv_PSrvd",true]
["VS4_CulturalSrv_NotSrvd",42,0,null,null,null,null,null,null,null,null,"VS4_CulturalSrv_NotSrvd",true]
["VS4_Language_PSrvd",42,0,null,null,null,null,null,null,null,null,"VS4_Language_PSrvd",true]
["VS4_Language_NotSrvd",42,0,null,null,null,null,null,null,null,null,"VS4_Language_NotSrvd",true]
["VS4_Disability_PSrvd",42,0,null,null,null,null,null,null,null,null,"VS4_Disability_PSrvd",true]
["VS4_Disability_NotSrvd",42,0,null,null,null,null,null,null,null,null,"VS4_Disability_NotSrvd",true]
["VS4_Childcare_PSrvd",42,0,null,null,null,null,null,null,null,null,"VS4_Childcare_PSrvd",true]
["VS4_Childcare_NotSrvd",42,0,null,null,null,null,null,null,null,null,"VS4_Childcare_NotSrvd",true]
["VS4_Capacity_PSrvd",42,3,null,null,null,null,null,null,null,null,"VS4_Capacity_PSrvd",true]
["VS4_Capacity_NotSrvd",42,0,null,null,null,null,null,null,null,null,"VS4_Capacity_NotSrvd",true]
["VS4_Rules_PSrvd",42,1,null,null,null,null,null,null,null,null,"VS4_Rules_PSrvd",true]
["VS4_Rules_NotSrvd",42,0,null,null,null,null,null,null,null,null,"VS4_Rules_NotSrvd",true]
["VS4_Resources_PSrvd",42,1,null,null,null,null,null,null,null,null,"VS4_Resources_PSrvd",true]
["VS4_Resources_NotSrvd",42,0,null,null,null,null,null,null,null,null,"VS4_Resources_NotSrvd",true]
["VS4_MH_PSrvd",42,3,null,null,null,null,null,null,null,null,"VS4_MH_PSrvd",{"$f":"A459=L459","v":true}]
["VS4_MH_NotSrvd",42,0,null,null,null,null,null,null,null,null,"VS4_MH_NotSrvd",true]
["VS4_SubAbuse_PSrvd",42,3,null,null,null,null,null,null,null,null,"VS4_SubAbuse_PSrvd",true]
["VS4_SubAbuse_NotSrvd",42,0,null,null,null,null,null,null,null,null,"VS4_SubAbuse_NotSrvd",true]
["VS4_NotApprop_PSrvd",42,0,null,null,null,null,null,null,null,null,"VS4_NotApprop_PSrvd",true]
["VS4_NotApprop_NotSrvd",42,1,null,null,null,null,null,null,null,null,"VS4_NotApprop_NotSrvd",true]
["VS4_MaleAdolescent_PSrvd",42,0,null,null,null,null,null,null,null,null,"VS4_MaleAdolescent_PSrvd",true]
["VS4_MaleAdolescent_NotSrvd",42,0,null,null,null,null,null,null,null,null,"VS4_MaleAdolescent_NotSrvd",true]
["VS4_Transport_PSrvd",42,0,null,null,null,null,null,null,null,null,"VS4_Transport_PSrvd",true]
["VS4_Transport_NotSrvd",42,0,null,null,null,null,null,null,null,null,"VS4_Transport_NotSrvd",true]
["VS4_Other_PSrvd",42,0,null,null,null,null,null,null,null,null,"VS4_Other_PSrvd",true]
["VS4_Other_NotSrvd",42,0,null,null,null,null,null,null,null,null,"VS4_Other_NotSrvd",true]
["VS5_Race_AmerInd",42,299,null,null,null,{"$f":"'Victim Services'!V9","v":299},null,{"$f":"C471=G471","v":true},null,null,"VS5_Race_AmerInd",true]
["VS5_Race_Asian",42,42,null,null,null,{"$f":"'Victim Services'!V10","v":42},null,{"$f":"C472=G472","v":true},null,null,"VS5_Race_Asian",true]
["VS5_Race_Black",42,116,null,null,null,{"$f":"'Victim Services'!V11","v":116},null,true,null,null,"VS5_Race_Black",true]
["VS5_Race_Hispanic",42,848,null,null,null,{"$f":"'Victim Services'!V12","v":848},null,true,null,null,"VS5_Race_Hispanic",true]
["VS5_Race_Pacific",42,41,null,null,null,{"$f":"'Victim Services'!V13","v":41},null,true,null,null,"VS5_Race_Pacific",true]
["VS5_Race_White",42,2731,null,null,null,{"$f":"'Victim Services'!V14","v":2731},null,true,null,null,"VS5_Race_White",true]
["VS5_Race_Other",42,85,null,null,null,{"$f":"'Victim Services'!V15","v":85},null,true,null,null,"VS5_Race_Other",true]
["VS5_Race_Unknown",42,1438,null,null,null,{"$f":"'Victim Services'!V16","v":1438},null,true,null,null,"VS5_Race_Unknown",true]
["VS5_TOTAL_Race",42,5600,null,null,null,{"$f":"SUM('Victim Services'!V9:V16)","v":5600},null,true,null,null,"VS5_TOTAL_Race",true]
["VS5_Gen_Female",42,4216,null,null,null,{"$f":"'Victim Services'!V18","v":4216},null,true,null,null,"VS5_Gen_Female",true]
["VS5_Gen_Male",42,666,null,null,null,{"$f":"'Victim Services'!V19","v":666},null,true,null,null,"VS5_Gen_Male",true]
["VS5_Gen_Trans",42,43,null,null,null,{"$f":"'Victim Services'!V20","v":43},null,true,null,null,"VS5_Gen_Trans",true]
["VS5_Gen_Unknown",42,648,null,null,null,{"$f":"'Victim Services'!V21","v":648},null,true,null,null,"VS5_Gen_Unknown",true]
["VS5_TOTAL_Gen",42,5573,null,null,null,{"$f":"SUM('Victim Services'!V18:V21)","v":5573},null,true,null,null,"VS5_TOTAL_Gen",true]
["VS5_Age_b11to17",42,232,null,null,null,{"$f":"'Victim Services'!V23","v":232},null,true,null,null,"VS5_Age_b11to17",true]
["VS5_Age_c18to24",42,747,null,null,null,{"$f":"'Victim Services'!V24","v":747},null,true,null,null,"VS5_Age_c18to24",true]
["VS5_Age_d25to59",42,3421,null,null,null,{"$f":"'Victim Services'!V25","v":3421},null,true,null,null,"VS5_Age_d25to59",true]
["VS5_Age_e60plus",42,400,null,null,null,{"$f":"'Victim Services'!V26","v":400},null,true,null,null,"VS5_Age_e60plus",true]
["VS5_Age_Unknown",42,773,null,null,null,{"$f":"'Victim Services'!V27","v":773},null,true,null,null,"VS5_Age_Unknown",true]
["VS5_TOTAL_Age",42,5573,null,null,null,{"$f":"SUM('Victim Services'!V23:V27)","v":5573},null,true,null,null,"VS5_TOTAL_Age",true]
["VS5_Other_LGBTI",42,92,null,null,null,null,null,null,null,null,"VS5_Other_LGBTI",true]
["VS5_Other_Disability",42,353,null,null,null,null,null,null,null,null,"VS5_Other_Disability",true]
["VS5_Other_LEP",42,681,null,null,null,null,null,null,null,null,"VS5_Other_LEP",true]
["VS5_Other_Deaf",42,20,null,null,null,null,null,null,null,null,"VS5_Other_Deaf",true]
["VS5_Other_Imm",42,132,null,null,null,null,null,null,null,null,"VS5_Other_Imm",true]
["VS5_Other_Incarcerated",42,12,null,null,null,null,null,null,null,null,"VS5_Other_Incarcerated",true]
["VS5_Other_Rural",42,2530,null,null,null,null,null,null,null,null,"VS5_Other_Rural",true]
["VS6_SA_Spouse",42,254,null,null,null,{"$f":"'Victim Services'!P9","v":254},null,{"$f":"C498=G498","v":true},null,null,"VS6_SA_Spouse",true]
["VS6_DV_Spouse",42,2763,null,null,null,{"$f":"'Victim Services'!N9","v":2763},null,{"$f":"C499=G499","v":true},null,null,"VS6_DV_Spouse",true]
["VS6_STK_Spouse",42,98,null,null,null,{"$f":"'Victim Services'!R9","v":98},null,true,null,null,"VS6_STK_Spouse",true]
["VS6_SA_Family",42,149,null,null,null,{"$f":"'Victim Services'!P10","v":149},null,true,null,null,"VS6_SA_Family",true]
["VS6_DV_Family",42,682,null,null,null,{"$f":"'Victim Services'!N10","v":682},null,true,null,null,"VS6_DV_Family",true]
["VS6_STK_Family",42,9,null,null,null,{"$f":"'Victim Services'!R10","v":9},null,true,null,null,"VS6_STK_Family",true]
["VS6_SA_Dating",42,53,null,null,null,{"$f":"'Victim Services'!P11","v":53},null,true,null,null,"VS6_SA_Dating",true]
["VS6_DV_Dating",42,370,null,null,null,{"$f":"'Victim Services'!N11","v":370},null,true,null,null,"VS6_DV_Dating",true]
["VS6_STK_Dating",42,16,null,null,null,{"$f":"'Victim Services'!R11","v":16},null,true,null,null,"VS6_STK_Dating",true]
["VS6_SA_Acquaint",42,157,null,null,null,{"$f":"'Victim Services'!P12","v":157},null,true,null,null,"VS6_SA_Acquaint",true]
["VS6_DV_Acquaint",42,56,null,null,null,{"$f":"'Victim Services'!N12","v":56},null,true,null,null,"VS6_DV_Acquaint",true]
["VS6_STK_Acquaint",42,20,null,null,null,{"$f":"'Victim Services'!R12","v":20},null,true,null,null,"VS6_STK_Acquaint",true]
["VS6_SA_Stranger",42,68,null,null,null,{"$f":"'Victim Services'!P13","v":68},null,true,null,null,"VS6_SA_Stranger",true]
["VS6_STK_Stranger",42,6,null,null,null,{"$f":"'Victim Services'!R13","v":6},null,true,null,null,"VS6_STK_Stranger",true]
["VS6_SA_Unknown",42,623,null,null,null,{"$f":"'Victim Services'!P14","v":623},null,true,null,null,"VS6_SA_Unknown",true]
["VS6_DV_Unknown",42,261,null,null,null,{"$f":"'Victim Services'!N14","v":261},null,true,null,null,"VS6_DV_Unknown",true]
["VS6_STK_Unknown",42,34,null,null,null,{"$f":"'Victim Services'!R14","v":34},null,true,null,null,"VS6_STK_Unknown",true]
["VS6_TOTAL_SA",42,1304,null,null,null,{"$f":"SUM('Victim Services'!P9:P14)","v":1304},null,true,null,null,"VS6_TOTAL_SA",true]
["VS6_TOTAL_DV",42,4132,null,null,null,{"$f":"SUM('Victim Services'!N9:N14)","v":4132},null,true,null,null,"VS6_TOTAL_DV",true]
["VS6_TOTAL_STK",42,183,null,null,null,{"$f":"SUM('Victim Services'!R9:R14)","v":183},null,true,null,null,"VS6_TOTAL_STK",true]
["VS7_Vic_CivLegalAdv",42,1043,null,null,null,{"$f":"'Victim Services'!O19","v":3614},null,false,null,null,"VS7_Vic_CivLegalAdv",true]
["VS7_Times_CivLegalAdv",42,2045,null,null,null,{"$f":"'Victim Services'!Q19","v":7220},null,false,null,null,"VS7_Times_CivLegalAdv",true]
["VS7_Vic_Counsel",42,784,null,null,null,{"$f":"'Victim Services'!O20","v":2074},null,false,null,null,"VS7_Vic_Counsel",true]
["VS7_Times_Counsel",42,4249,null,null,null,{"$f":"'Victim Services'!Q20","v":7738},null,false,null,null,"VS7_Times_Counsel",true]
["VS7_Vic_CrimJustAdv",42,1626,null,null,null,{"$f":"'Victim Services'!O21","v":1626},null,true,null,null,"VS7_Vic_CrimJustAdv",true]
["VS7_Times_CrimJustAdv",42,4884,null,null,null,{"$f":"'Victim Services'!Q21","v":4884},null,true,null,null,"VS7_Times_CrimJustAdv",{"$f":"A523=L523","v":true}]
["VS7_Vic_CrisisInt",42,3614,null,null,null,{"$f":"'Victim Services'!O22","v":1043},null,false,null,null,"VS7_Vic_CrisisInt",true]
["VS7_Times_CrisisInt",42,7220,null,null,null,{"$f":"'Victim Services'!Q22","v":2045},null,false,null,null,"VS7_Times_CrisisInt",true]
["VS7_Vic_ForensicExam",42,11,null,null,null,{"$f":"'Victim Services'!O23","v":784},null,false,null,null,"VS7_Vic_ForensicExam",true]
["VS7_Times_ForensicExam",42,11,null,null,null,{"$f":"'Victim Services'!Q23","v":4249},null,false,null,null,"VS7_Times_ForensicExam",true]
["VS7_Vic_HospResp",42,76,null,null,null,{"$f":"'Victim Services'!O24","v":296},null,false,null,null,"VS7_Vic_HospResp",true]
["VS7_Times_HospResp",42,96,null,null,null,{"$f":"'Victim Services'!Q24","v":352},null,false,null,null,"VS7_Times_HospResp",true]
["VS7_Vic_Language",42,296,null,null,null,{"$f":"'Victim Services'!O25","v":203},null,false,null,null,"VS7_Vic_Language",true]
["VS7_Times_Language",42,352,null,null,null,{"$f":"'Victim Services'!Q25","v":543},null,false,null,null,"VS7_Times_Language",true]
["VS7_Vic_Transport",42,203,null,null,null,{"$f":"'Victim Services'!O26","v":76},null,false,null,null,"VS7_Vic_Transport",true]
["VS7_Times_Transport",42,543,null,null,null,{"$f":"'Victim Services'!Q26","v":96},null,false,null,null,"VS7_Times_Transport",true]
["VS7_Vic_VicAdv",42,2074,null,null,null,{"$f":"'Victim Services'!O27","v":11},null,false,null,null,"VS7_Vic_VicAdv",true]
["VS7_Times_VicAdv",42,7738,null,null,null,{"$f":"'Victim Services'!Q27","v":11},null,false,null,null,"VS7_Times_VicAdv",true]
["VS7_Vic_Other",42,0,null,null,null,{"$f":"'Victim Services'!O28","v":0},null,true,null,null,"VS7_Vic_Other",true]
["VS7_Times_Other",42,0,null,null,null,{"$f":"'Victim Services'!Q28","v":0},null,true,null,null,"VS7_Times_Other",true]
["VS7_Vic_Shelter",42,488,null,null,null,null,null,null,null,null,"VS7_Vic_Shelter",true]
["VS7_Fam_Shelter",42,182,null,null,null,null,null,null,null,null,"VS7_Fam_Shelter",true]
["VS7_Bednight_Shelter",42,19719,null,null,null,null,null,null,null,null,"VS7_Bednight_Shelter",true]
["VS7_Vic_Thousing",42,53,null,null,null,null,null,null,null,null,"VS7_Vic_Thousing",true]
["VS7_Fam_Thousing",42,52,null,null,null,null,null,null,null,null,"VS7_Fam_Thousing",true]
["VS7_Bednight_Thousing",42,12226,null,null,null,null,null,null,null,null,"VS7_Bednight_Thousing",true]
["VS8_Hotline_Vic",42,6006,null,null,null,null,null,null,null,null,"VS8_Hotline_Vic",true]
["VS8_Hotline_Total",42,11429,null,null,null,null,null,null,null,null,"VS8_Hotline_Total",true]
["VS9_Notification",42,3615,null,null,null,null,null,null,null,null,"VS9_Notification",true]
["VS10_Req_Temp_SA",42,24,null,"Protection orders, SA:",null,null,null,null,null,null,"VS10_Req_Temp_SA",true]
["VS10_Req_Final_SA",42,8,null,"Temp, requested:",null,null,null,null,null,null,"VS10_Req_Final_SA",true]
["VS10_Grnt_Temp_SA",42,18,null,{"$f":"SUM(C547,C764,C979)","v":24},null,{"$f":"Highlights!C14","v":24},null,{"$f":"E549=G549","v":true},null,null,"VS10_Grnt_Temp_SA",true]
["VS10_Grnt_Final_SA",42,7,null,"Temp, granted:",null,null,null,null,null,null,"VS10_Grnt_Final_SA",true]
["VS10_Req_Temp_DV",42,1005,null,{"$f":"SUM(C549,C766,C981)","v":18},null,{"$f":"Highlights!C15","v":18},null,{"$f":"E551=G551","v":true},null,null,"VS10_Req_Temp_DV",true]
["VS10_Req_Final_DV",42,190,null,"Final, requested:",null,null,null,null,null,null,"VS10_Req_Final_DV",true]
["VS10_Grnt_Temp_DV",42,768,null,{"$f":"SUM(C548,C765,C980)","v":8},null,{"$f":"Highlights!D14","v":8},null,{"$f":"E553=G553","v":true},null,null,"VS10_Grnt_Temp_DV",true]
["VS10_Grnt_Final_DV",42,96,null,"Final, granted:",null,null,null,null,null,null,"VS10_Grnt_Final_DV",true]
["VS10_Req_Temp_STK",42,144,null,{"$f":"SUM(C550,C767,C982)","v":7},null,{"$f":"Highlights!D15","v":7},null,{"$f":"E555=G555","v":true},null,null,"VS10_Req_Temp_STK",true]
["VS10_Req_Final_STK",42,36,null,null,null,null,null,null,null,null,"VS10_Req_Final_STK",true]
["VS10_Grnt_Temp_STK",42,111,null,null,null,null,null,null,null,null,"VS10_Grnt_Temp_STK",true]
["VS10_Grnt_Final_STK",42,33,null,null,null,null,null,null,null,null,"VS10_Grnt_Final_STK",true]
["LS_FundsUsed_1or0",42,0,null,null,null,null,null,null,null,null,"LS_FundsUsed_1or0",true]
["LS1_PO",42,0,null,null,null,null,null,null,null,null,"LS1_PO",true]
["LS1_FamMat",42,0,null,null,null,null,null,null,null,null,"LS1_FamMat",true]
["LS1_FamMat_Divorce",42,0,null,null,null,null,null,null,null,null,"LS1_FamMat_Divorce",true]
["LS1_FamMat_Custody",42,0,null,null,null,null,null,null,null,null,"LS1_FamMat_Custody",true]
["LS1_FamMat_Paternity",42,0,null,null,null,null,null,null,null,null,"LS1_FamMat_Paternity",true]
["LS1_FamMat_ChildSupp",42,0,null,null,null,null,null,null,null,null,"LS1_FamMat_ChildSupp",true]
["LS1_FamMat_Other",42,0,null,null,null,null,null,null,null,null,"LS1_FamMat_Other",true]
["LS1_Consumer",42,0,null,null,null,null,null,null,null,null,"LS1_Consumer",true]
["LS1_Employment",42,0,null,null,null,null,null,null,null,null,"LS1_Employment",true]
["LS1_Income",42,0,null,null,null,null,null,null,null,null,"LS1_Income",true]
["LS1_Housing",42,0,null,null,null,null,null,null,null,null,"LS1_Housing",true]
["LS1_ImmMat",42,0,null,null,null,null,null,null,null,null,"LS1_ImmMat",true]
["LS1_ImmMat_VAWA",42,0,null,null,null,null,null,null,null,null,"LS1_ImmMat_VAWA",true]
["LS1_ImmMat_Cancel",42,0,null,null,null,null,null,null,null,null,"LS1_ImmMat_Cancel",true]
["LS1_ImmMat_Uvisa",42,0,null,null,null,null,null,null,null,null,"LS1_ImmMat_Uvisa",true]
["LS1_ImmMat_Tvisa",42,0,null,null,null,null,null,null,null,null,"LS1_ImmMat_Tvisa",true]
["LS1_ImmMat_Other",42,0,null,null,null,null,null,null,null,null,"LS1_ImmMat_Other",true]
["LS1_Criminal",42,0,null,null,null,null,null,null,null,null,"LS1_Criminal",true]
["LS1_Education",42,0,null,null,null,null,null,null,null,null,"LS1_Education",true]
["LS1_Other",42,0,null,null,null,null,null,null,null,null,"LS1_Other",true]
["LS2_LegalAssist",42,0,null,null,null,null,null,null,null,null,"LS2_LegalAssist",true]
["LS2_LegalAssist_Multiple",42,0,null,null,null,null,null,null,null,null,"LS2_LegalAssist_Multiple",true]
["LS3_PO_Info",42,0,null,null,null,null,null,null,null,null,"LS3_PO_Info",true]
["LS3_PO_BriefService",42,0,null,null,null,null,null,null,null,null,"LS3_PO_BriefService",true]
["LS3_PO_AdminDec",42,0,null,null,null,null,null,null,null,null,"LS3_PO_AdminDec",true]
["LS3_PO_CrtDec",42,0,null,null,null,null,null,null,null,null,"LS3_PO_CrtDec",true]
["LS3_PO_NegRes_Filed",42,0,null,null,null,null,null,null,null,null,"LS3_PO_NegRes_Filed",true]
["LS3_PO_NegRes_NoFiled",42,0,null,null,null,null,null,null,null,null,"LS3_PO_NegRes_NoFiled",{"$f":"A587=L587","v":true}]
["LS3_PO_Withdrew",42,0,null,null,null,null,null,null,null,null,"LS3_PO_Withdrew",true]
["LS3_PO_Other",42,0,null,null,null,null,null,null,null,null,"LS3_PO_Other",true]
["LS3_Divorce_Info",42,0,null,null,null,null,null,null,null,null,"LS3_Divorce_Info",true]
["LS3_Divorce_BriefService",42,0,null,null,null,null,null,null,null,null,"LS3_Divorce_BriefService",true]
["LS3_Divorce_AdminDec",42,0,null,null,null,null,null,null,null,null,"LS3_Divorce_AdminDec",true]
["LS3_Divorce_CrtDec",42,0,null,null,null,null,null,null,null,null,"LS3_Divorce_CrtDec",true]
["LS3_Divorce_NegRes_Filed",42,0,null,null,null,null,null,null,null,null,"LS3_Divorce_NegRes_Filed",true]
["LS3_Divorce_NegRes_NoFiled",42,0,null,null,null,null,null,null,null,null,"LS3_Divorce_NegRes_NoFiled",true]
["LS3_Divorce_Withdrew",42,0,null,null,null,null,null,null,null,null,"LS3_Divorce_Withdrew",true]
["LS3_Divorce_Other",42,0,null,null,null,null,null,null,null,null,"LS3_Divorce_Other",true]
["LS3_Custody_Info",42,0,null,null,null,null,null,null,null,null,"LS3_Custody_Info",true]
["LS3_Custody_BriefService",42,0,null,null,null,null,null,null,null,null,"LS3_Custody_BriefService",true]
["LS3_Custody_AdminDec",42,0,null,null,null,null,null,null,null,null,"LS3_Custody_AdminDec",true]
["LS3_Custody_CrtDec",42,0,null,null,null,null,null,null,null,null,"LS3_Custody_CrtDec",true]
["LS3_Custody_NegRes_Filed",42,0,null,null,null,null,null,null,null,null,"LS3_Custody_NegRes_Filed",true]
["LS3_Custody_NegRes_NoFiled",42,0,null,null,null,null,null,null,null,null,"LS3_Custody_NegRes_NoFiled",true]
["LS3_Custody_Withdrew",42,0,null,null,null,null,null,null,null,null,"LS3_Custody_Withdrew",true]
["LS3_Custody_Other",42,0,null,null,null,null,null,null,null,null,"LS3_Custody_Other",true]
["LS3_Paternity_Info",42,0,null,null,null,null,null,null,null,null,"LS3_Paternity_Info",true]
["LS3_Paternity_BriefService",42,0,null,null,null,null,null,null,null,null,"LS3_Paternity_BriefService",true]
["LS3_Paternity_AdminDec",42,0,null,null,null,null,null,null,null,null,"LS3_Paternity_AdminDec",true]
["LS3_Paternity_CrtDec",42,0,null,null,null,null,null,null,null,null,"LS3_Paternity_CrtDec",true]
["LS3_Paternity_NegRes_Filed",42,0,null,null,null,null,null,null,null,null,"LS3_Paternity_NegRes_Filed",true]
["LS3_Paternity_NegRes_NoFiled",42,0,null,null,null,null,null,null,null,null,"LS3_Paternity_NegRes_NoFiled",true]
["LS3_Paternity_Withdrew",42,0,null,null,null,null,null,null,null,null,"LS3_Paternity_Withdrew",true]
["LS3_Paternity_Other",42,0,null,null,null,null,null,null,null,null,"LS3_Paternity_Other",true]
["LS3_ChildSupp_Info",42,0,null,null,null,null,null,null,null,null,"LS3_ChildSupp_Info",true]
["LS3_ChildSupp_BriefService",42,0,null,null,null,null,null,null,null,null,"LS3_ChildSupp_BriefService",true]
["LS3_ChildSupp_AdminDec",42,0,null,null,null,null,null,null,null,null,"LS3_ChildSupp_AdminDec",true]
["LS3_ChildSupp_CrtDec",42,0,null,null,null,null,null,null,null,null,"LS3_ChildSupp_CrtDec",true]
["LS3_ChildSupp_NegRes_Filed",42,0,null,null,null,null,null,null,null,null,"LS3_ChildSupp_NegRes_Filed",true]
["LS3_ChildSupp_NegRes_NoFiled",42,0,null,null,null,null,null,null,null,null,"LS3_ChildSupp_NegRes_NoFiled",true]
["LS3_ChildSupp_Withdrew",42,0,null,null,null,null,null,null,null,null,"LS3_ChildSupp_Withdrew",true]
["LS3_ChildSupp_Other",42,0,null,null,null,null,null,null,null,null,"LS3_ChildSupp_Other",true]
["LS3_FamOther_Info",42,0,null,null,null,null,null,null,null,null,"LS3_FamOther_Info",true]
["LS3_FamOther_BriefService",42,0,null,null,null,null,null,null,null,null,"LS3_FamOther_BriefService",true]
["LS3_FamOther_AdminDec",42,0,null,null,null,null,null,null,null,null,"LS3_FamOther_AdminDec",true]
["LS3_FamOther_CrtDec",42,0,null,null,null,null,null,null,null,null,"LS3_FamOther_CrtDec",true]
["LS3_FamOther_NegRes_Filed",42,0,null,null,null,null,null,null,null,null,"LS3_FamOther_NegRes_Filed",true]
["LS3_FamOther_NegRes_NoFiled",42,0,null,null,null,null,null,null,null,null,"LS3_FamOther_NegRes_NoFiled",true]
["LS3_FamOther_Withdrew",42,0,null,null,null,null,null,null,null,null,"LS3_FamOther_Withdrew",true]
["LS3_FamOther_Other",42,0,null,null,null,null,null,null,null,null,"LS3_FamOther_Other",true]
["LS3_Consumer_Info",42,0,null,null,null,null,null,null,null,null,"LS3_Consumer_Info",true]
["LS3_Consumer_BriefService",42,0,null,null,null,null,null,null,null,null,"LS3_Consumer_BriefService",true]
["LS3_Consumer_AdminDec",42,0,null,null,null,null,null,null,null,null,"LS3_Consumer_AdminDec",true]
["LS3_Consumer_CrtDec",42,0,null,null,null,null,null,null,null,null,"LS3_Consumer_CrtDec",true]
["LS3_Consumer_NegRes_Filed",42,0,null,null,null,null,null,null,null,null,"LS3_Consumer_NegRes_Filed",true]
["LS3_Consumer_NegRes_NoFiled",42,0,null,null,null,null,null,null,null,null,"LS3_Consumer_NegRes_NoFiled",true]
["LS3_Consumer_Withdrew",42,0,null,null,null,null,null,null,null,null,"LS3_Consumer_Withdrew",true]
["LS3_Consumer_Other",42,0,null,null,null,null,null,null,null,null,"LS3_Consumer_Other",true]
["LS3_Employment_Info",42,0,null,null,null,null,null,null,null,null,"LS3_Employment_Info",true]
["LS3_Employment_BriefService",42,0,null,null,null,null,null,null,null,null,"LS3_Employment_BriefService",true]
["LS3_Employment_AdminDec",42,0,null,null,null,null,null,null,null,null,"LS3_Employment_AdminDec",true]
["LS3_Employment_CrtDec",42,0,null,null,null,null,null,null,null,null,"LS3_Employment_CrtDec",true]
["LS3_Employment_NegRes_Filed",42,0,null,null,null,null,null,null,null,null,"LS3_Employment_NegRes_Filed",true]
["LS3_Employment_NegRes_NoFiled",42,0,null,null,null,null,null,null,null,null,"LS3_Employment_NegRes_NoFiled",true]
["LS3_Employment_Withdrew",42,0,null,null,null,null,null,null,null,null,"LS3_Employment_Withdrew",true]
["LS3_Employment_Other",42,0,null,null,null,null,null,null,null,null,"LS3_Employment_Other",true]
["LS3_Income_Info",42,0,null,null,null,null,null,null,null,null,"LS3_Income_Info",true]
["LS3_Income_BriefService",42,0,null,null,null,null,null,null,null,null,"LS3_Income_BriefService",true]
["LS3_Income_AdminDec",42,0,null,null,null,null,null,null,null,null,"LS3_Income_AdminDec",true]
["LS3_Income_CrtDec",42,0,null,null,null,null,null,null,null,null,"LS3_Income_CrtDec",true]
["LS3_Income_NegRes_Filed",42,0,null,null,null,null,null,null,null,null,"LS3_Income_NegRes_Filed",true]
["LS3_Income_NegRes_NoFiled",42,0,null,null,null,null,null,null,null,null,"LS3_Income_NegRes_NoFiled",{"$f":"A651=L651","v":true}]
["LS3_Income_Withdrew",42,0,null,null,null,null,null,null,null,null,"LS3_Income_Withdrew",true]
["LS3_Income_Other",42,0,null,null,null,null,null,null,null,null,"LS3_Income_Other",true]
["LS3_Housing_Info",42,0,null,null,null,null,null,null,null,null,"LS3_Housing_Info",true]
["LS3_Housing_BriefService",42,0,null,null,null,null,null,null,null,null,"LS3_Housing_BriefService",true]
["LS3_Housing_AdminDec",42,0,null,null,null,null,null,null,null,null,"LS3_Housing_AdminDec",true]
["LS3_Housing_CrtDec",42,0,null,null,null,null,null,null,null,null,"LS3_Housing_CrtDec",true]
["LS3_Housing_NegRes_Filed",42,0,null,null,null,null,null,null,null,null,"LS3_Housing_NegRes_Filed",true]
["LS3_Housing_NegRes_NoFiled",42,0,null,null,null,null,null,null,null,null,"LS3_Housing_NegRes_NoFiled",true]
["LS3_Housing_Withdrew",42,0,null,null,null,null,null,null,null,null,"LS3_Housing_Withdrew",true]
["LS3_Housing_Other",42,0,null,null,null,null,null,null,null,null,"LS3_Housing_Other",true]
["LS3_VAWA_Info",42,0,null,null,null,null,null,null,null,null,"LS3_VAWA_Info",true]
["LS3_VAWA_BriefService",42,0,null,null,null,null,null,null,null,null,"LS3_VAWA_BriefService",true]
["LS3_VAWA_AdminDec",42,0,null,null,null,null,null,null,null,null,"LS3_VAWA_AdminDec",true]
["LS3_VAWA_CrtDec",42,0,null,null,null,null,null,null,null,null,"LS3_VAWA_CrtDec",true]
["LS3_VAWA_NegRes_Filed",42,0,null,null,null,null,null,null,null,null,"LS3_VAWA_NegRes_Filed",true]
["LS3_VAWA_NegRes_NoFiled",42,0,null,null,null,null,null,null,null,null,"LS3_VAWA_NegRes_NoFiled",true]
["LS3_VAWA_Withdrew",42,0,null,null,null,null,null,null,null,null,"LS3_VAWA_Withdrew",true]
["LS3_VAWA_Other",42,0,null,null,null,null,null,null,null,null,"LS3_VAWA_Other",true]
["LS3_Cancel_Info",42,0,null,null,null,null,null,null,null,null,"LS3_Cancel_Info",true]
["LS3_Cancel_BriefService",42,0,null,null,null,null,null,null,null,null,"LS3_Cancel_BriefService",true]
["LS3_Cancel_AdminDec",42,0,null,null,null,null,null,null,null,null,"LS3_Cancel_AdminDec",true]
["LS3_Cancel_CrtDec",42,0,null,null,null,null,null,null,null,null,"LS3_Cancel_CrtDec",true]
["LS3_Cancel_NegRes_Filed",42,0,null,null,null,null,null,null,null,null,"LS3_Cancel_NegRes_Filed",true]
["LS3_Cancel_NegRes_NoFiled",42,0,null,null,null,null,null,null,null,null,"LS3_Cancel_NegRes_NoFiled",true]
["LS3_Cancel_Withdrew",42,0,null,null,null,null,null,null,null,null,"LS3_Cancel_Withdrew",true]
["LS3_Cancel_Other",42,0,null,null,null,null,null,null,null,null,"LS3_Cancel_Other",true]
["LS3_Uvisa_Info",42,0,null,null,null,null,null,null,null,null,"LS3_Uvisa_Info",true]
["LS3_Uvisa_BriefService",42,0,null,null,null,null,null,null,null,null,"LS3_Uvisa_BriefService",true]
["LS3_Uvisa_AdminDec",42,0,null,null,null,null,null,null,null,null,"LS3_Uvisa_AdminDec",true]
["LS3_Uvisa_CrtDec",42,0,null,null,null,null,null,null,null,null,"LS3_Uvisa_CrtDec",true]
["LS3_Uvisa_NegRes_Filed",42,0,null,null,null,null,null,null,null,null,"LS3_Uvisa_NegRes_Filed",true]
["LS3_Uvisa_NegRes_NoFiled",42,0,null,null,null,null,null,null,null,null,"LS3_Uvisa_NegRes_NoFiled",true]
["LS3_Uvisa_Withdrew",42,0,null,null,null,null,null,null,null,null,"LS3_Uvisa_Withdrew",true]
["LS3_Uvisa_Other",42,0,null,null,null,null,null,null,null,null,"LS3_Uvisa_Other",true]
["LS3_Tvisa_Info",42,0,null,null,null,null,null,null,null,null,"LS3_Tvisa_Info",true]
["LS3_Tvisa_BriefService",42,0,null,null,null,null,null,null,null,null,"LS3_Tvisa_BriefService",true]
["LS3_Tvisa_AdminDec",42,0,null,null,null,null,null,null,null,null,"LS3_Tvisa_AdminDec",true]
["LS3_Tvisa_CrtDec",42,0,null,null,null,null,null,null,null,null,"LS3_Tvisa_CrtDec",true]
["LS3_Tvisa_NegRes_Filed",42,0,null,null,null,null,null,null,null,null,"LS3_Tvisa_NegRes_Filed",true]
["LS3_Tvisa_NegRes_NoFiled",42,0,null,null,null,null,null,null,null,null,"LS3_Tvisa_NegRes_NoFiled",true]
["LS3_Tvisa_Withdrew",42,0,null,null,null,null,null,null,null,null,"LS3_Tvisa_Withdrew",true]
["LS3_Tvisa_Other",42,0,null,null,null,null,null,null,null,null,"LS3_Tvisa_Other",true]
["LS3_ImmOther_Info",42,0,null,null,null,null,null,null,null,null,"LS3_ImmOther_Info",true]
["LS3_ImmOther_BriefService",42,0,null,null,null,null,null,null,null,null,"LS3_ImmOther_BriefService",true]
["LS3_ImmOther_AdminDec",42,0,null,null,null,null,null,null,null,null,"LS3_ImmOther_AdminDec",true]
["LS3_ImmOther_CrtDec",42,0,null,null,null,null,null,null,null,null,"LS3_ImmOther_CrtDec",true]
["LS3_ImmOther_NegRes_Filed",42,0,null,null,null,null,null,null,null,null,"LS3_ImmOther_NegRes_Filed",true]
["LS3_ImmOther_NegRes_NoFiled",42,0,null,null,null,null,null,null,null,null,"LS3_ImmOther_NegRes_NoFiled",true]
["LS3_ImmOther_Withdrew",42,0,null,null,null,null,null,null,null,null,"LS3_ImmOther_Withdrew",true]
["LS3_ImmOther_Other",42,0,null,null,null,null,null,null,null,null,"LS3_ImmOther_Other",true]
["LS3_Criminal_Info",42,0,null,null,null,null,null,null,null,null,"LS3_Criminal_Info",true]
["LS3_Criminal_BriefService",42,0,null,null,null,null,null,null,null,null,"LS3_Criminal_BriefService",true]
["LS3_Criminal_AdminDec",42,0,null,null,null,null,null,null,null,null,"LS3_Criminal_AdminDec",true]
["LS3_Criminal_CrtDec",42,0,null,null,null,null,null,null,null,null,"LS3_Criminal_CrtDec",true]
["LS3_Criminal_NegRes_Filed",42,0,null,null,null,null,null,null,null,null,"LS3_Criminal_NegRes_Filed",true]
["LS3_Criminal_NegRes_NoFiled",42,0,null,null,null,null,null,null,null,null,"LS3_Criminal_NegRes_NoFiled",true]
["LS3_Criminal_Withdrew",42,0,null,null,null,null,null,null,null,null,"LS3_Criminal_Withdrew",true]
["LS3_Criminal_Other",42,0,null,null,null,null,null,null,null,null,"LS3_Criminal_Other",true]
["LS3_Education_Info",42,0,null,null,null,null,null,null,null,null,"LS3_Education_Info",true]
["LS3_Education_BriefService",42,0,null,null,null,null,null,null,null,null,"LS3_Education_BriefService",true]
["LS3_Education_AdminDec",42,0,null,null,null,null,null,null,null,null,"LS3_Education_AdminDec",true]
["LS3_Education_CrtDec",42,0,null,null,null,null,null,null,null,null,"LS3_Education_CrtDec",true]
["LS3_Education_NegRes_Filed",42,0,null,null,null,null,null,null,null,null,"LS3_Education_NegRes_Filed",true]
["LS3_Education_NegRes_NoFiled",42,0,null,null,null,null,null,null,null,null,"LS3_Education_NegRes_NoFiled",{"$f":"A715=L715","v":true}]
["LS3_Education_Withdrew",42,0,null,null,null,null,null,null,null,null,"LS3_Education_Withdrew",true]
["LS3_Education_Other",42,0,null,null,null,null,null,null,null,null,"LS3_Education_Other",true]
["LS3_Other_Info",42,0,null,null,null,null,null,null,null,null,"LS3_Other_Info",true]
["LS3_Other_BriefService",42,0,null,null,null,null,null,null,null,null,"LS3_Other_BriefService",true]
["LS3_Other_AdminDec",42,0,null,null,null,null,null,null,null,null,"LS3_Other_AdminDec",true]
["LS3_Other_CrtDec",42,0,null,null,null,null,null,null,null,null,"LS3_Other_CrtDec",true]
["LS3_Other_NegRes_Filed",42,0,null,null,null,null,null,null,null,null,"LS3_Other_NegRes_Filed",true]
["LS3_Other_NegRes_NoFiled",42,0,null,null,null,null,null,null,null,null,"LS3_Other_NegRes_NoFiled",true]
["LS3_Other_Withdrew",42,0,null,null,null,null,null,null,null,null,"LS3_Other_Withdrew",true]
["LS3_Other_Other",42,0,null,null,null,null,null,null,null,null,"LS3_Other_Other",true]
["LE_FundsUsed_1or0",42,0,null,null,null,{"$f":"SUM(DATA[LE_FundsUsed_1or0])","v":0},null,{"$f":"C726=G726","v":true},null,null,"LE_FundsUsed_1or0",true]
["LE1_Calls_SA",42,0,null,null,null,{"$f":"'Law Enforcement'!D7","v":0},null,{"$f":"C727=G727","v":true},null,null,"LE1_Calls_SA",true]
["LE1_Calls_DV",42,0,null,null,null,{"$f":"'Law Enforcement'!E7","v":0},null,true,null,null,"LE1_Calls_DV",true]
["LE1_Calls_STK",42,0,null,null,null,{"$f":"'Law Enforcement'!F7","v":0},null,true,null,null,"LE1_Calls_STK",true]
["LE1_IncidentRpt_SA",42,0,null,null,null,{"$f":"'Law Enforcement'!D8","v":0},null,true,null,null,"LE1_IncidentRpt_SA",true]
["LE1_IncidentRpt_DV",42,0,null,null,null,{"$f":"'Law Enforcement'!E8","v":0},null,true,null,null,"LE1_IncidentRpt_DV",true]
["LE1_IncidentRpt_STK",42,0,null,null,null,{"$f":"'Law Enforcement'!F8","v":0},null,true,null,null,"LE1_IncidentRpt_STK",true]
["LE1_Investigated_SA",42,0,null,null,null,{"$f":"'Law Enforcement'!D9","v":0},null,true,null,null,"LE1_Investigated_SA",true]
["LE1_Investigated_DV",42,0,null,null,null,{"$f":"'Law Enforcement'!E9","v":0},null,true,null,null,"LE1_Investigated_DV",true]
["LE1_Investigated_STK",42,0,null,null,null,{"$f":"'Law Enforcement'!F9","v":0},null,true,null,null,"LE1_Investigated_STK",true]
["LE1_ForensicEvid_SA",42,0,null,null,null,{"$f":"'Law Enforcement'!D10","v":0},null,true,null,null,"LE1_ForensicEvid_SA",true]
["LE1_Arrest_SA",42,0,null,null,null,{"$f":"'Law Enforcement'!D11","v":0},null,true,null,null,"LE1_Arrest_SA",true]
["LE1_Arrest_DV",42,0,null,null,null,{"$f":"'Law Enforcement'!E11","v":0},null,true,null,null,"LE1_Arrest_DV",true]
["LE1_Arrest_STK",42,0,null,null,null,{"$f":"'Law Enforcement'!F11","v":0},null,true,null,null,"LE1_Arrest_STK",true]
["LE1_DualArrest_DV",42,0,null,null,null,{"$f":"'Law Enforcement'!E12","v":0},null,true,null,null,"LE1_DualArrest_DV",true]
["LE1_POserved_SA",42,0,null,null,null,{"$f":"'Law Enforcement'!D13","v":0},null,true,null,null,"LE1_POserved_SA",true]
["LE1_POserved_DV",42,0,null,null,null,{"$f":"'Law Enforcement'!E13","v":0},null,true,null,null,"LE1_POserved_DV",true]
["LE1_POserved_STK",42,0,null,null,null,{"$f":"'Law Enforcement'!F13","v":0},null,true,null,null,"LE1_POserved_STK",true]
["LE1_Arrest_BailViol_SA",42,0,null,null,null,{"$f":"'Law Enforcement'!D14","v":0},null,true,null,null,"LE1_Arrest_BailViol_SA",true]
["LE1_Arrest_BailViol_DV",42,0,null,null,null,{"$f":"'Law Enforcement'!E14","v":0},null,true,null,null,"LE1_Arrest_BailViol_DV",true]
["LE1_Arrest_BailViol_STK",42,0,null,null,null,{"$f":"'Law Enforcement'!F14","v":0},null,true,null,null,"LE1_Arrest_BailViol_STK",true]
["LE1_Warrant_SA",42,0,null,null,null,{"$f":"'Law Enforcement'!D15","v":0},null,true,null,null,"LE1_Warrant_SA",true]
["LE1_Warrant_DV",42,0,null,null,null,{"$f":"'Law Enforcement'!E15","v":0},null,true,null,null,"LE1_Warrant_DV",true]
["LE1_Warrant_STK",42,0,null,null,null,{"$f":"'Law Enforcement'!F15","v":0},null,true,null,null,"LE1_Warrant_STK",true]
["LE1_Arrest_POViol_SA",42,0,null,null,null,{"$f":"'Law Enforcement'!D16","v":0},null,true,null,null,"LE1_Arrest_POViol_SA",true]
["LE1_Arrest_POViol_DV",42,0,null,null,null,{"$f":"'Law Enforcement'!E16","v":0},null,true,null,null,"LE1_Arrest_POViol_DV",true]
["LE1_Arrest_POViol_STK",42,0,null,null,null,{"$f":"'Law Enforcement'!F16","v":0},null,true,null,null,"LE1_Arrest_POViol_STK",true]
["LE1_POissued_SA",42,0,null,null,null,{"$f":"'Law Enforcement'!D17","v":0},null,true,null,null,"LE1_POissued_SA",true]
["LE1_POissued_DV",42,0,null,null,null,{"$f":"'Law Enforcement'!E17","v":0},null,true,null,null,"LE1_POissued_DV",true]
["LE1_POissued_STK",42,0,null,null,null,{"$f":"'Law Enforcement'!F17","v":0},null,true,null,null,"LE1_POissued_STK",true]
["LE1_RefToPros_SA",42,0,null,null,null,{"$f":"'Law Enforcement'!D18","v":0},null,true,null,null,"LE1_RefToPros_SA",true]
["LE1_RefToPros_DV",42,0,null,null,null,{"$f":"'Law Enforcement'!E18","v":0},null,true,null,null,"LE1_RefToPros_DV",true]
["LE1_RefToPros_STK",42,0,null,null,null,{"$f":"'Law Enforcement'!F18","v":0},null,true,null,null,"LE1_RefToPros_STK",true]
["LE1_RefToPros_Fed_SA",42,0,null,null,null,{"$f":"'Law Enforcement'!D19","v":0},null,true,null,null,"LE1_RefToPros_Fed_SA",true]
["LE1_RefToPros_Fed_DV",42,0,null,null,null,{"$f":"'Law Enforcement'!E19","v":0},null,true,null,null,"LE1_RefToPros_Fed_DV",true]
["LE1_RefToPros_Fed_STK",42,0,null,null,null,{"$f":"'Law Enforcement'!F19","v":0},null,true,null,null,"LE1_RefToPros_Fed_STK",true]
["LE2_VSRef_Govt",42,0,null,null,null,null,null,null,null,null,"LE2_VSRef_Govt",true]
["LE2_VSRef_NonGovt",42,0,null,null,null,null,null,null,null,null,"LE2_VSRef_NonGovt",true]
["LE3_Req_Temp_SA",42,0,null,"Protection orders, DV:",null,null,null,null,null,null,"LE3_Req_Temp_SA",true]
["LE3_Req_Final_SA",42,0,null,"Temp, requested:",null,null,null,null,null,null,"LE3_Req_Final_SA",true]
["LE3_Grnt_Temp_SA",42,0,null,{"$f":"SUM(C551,C768,C983)","v":1188},null,{"$f":"Highlights!C17","v":1188},null,{"$f":"E766=G766","v":true},null,null,"LE3_Grnt_Temp_SA",true]
["LE3_Grnt_Final_SA",42,0,null,"Temp, granted:",null,null,null,null,null,null,"LE3_Grnt_Final_SA",true]
["LE3_Req_Temp_DV",42,0,null,{"$f":"SUM(C553,C770,C985)","v":951},null,{"$f":"Highlights!C18","v":951},null,{"$f":"E768=G768","v":true},null,null,"LE3_Req_Temp_DV",true]
["LE3_Req_Final_DV",42,0,null,"Final, requested:",null,null,null,null,null,null,"LE3_Req_Final_DV",true]
["LE3_Grnt_Temp_DV",42,0,null,{"$f":"SUM(C552,C769,C984)","v":190},null,{"$f":"Highlights!D17","v":190},null,{"$f":"E770=G770","v":true},null,null,"LE3_Grnt_Temp_DV",true]
["LE3_Grnt_Final_DV",42,0,null,"Final, granted:",null,null,null,null,null,null,"LE3_Grnt_Final_DV",true]
["LE3_Req_Temp_STK",42,0,null,{"$f":"SUM(C554,C771,C986)","v":96},null,{"$f":"Highlights!D18","v":96},null,{"$f":"E772=G772","v":true},null,null,"LE3_Req_Temp_STK",true]
["LE3_Req_Final_STK",42,0,null,null,null,null,null,null,null,null,"LE3_Req_Final_STK",true]
["LE3_Grnt_Temp_STK",42,0,null,null,null,null,null,null,null,null,"LE3_Grnt_Temp_STK",true]
["LE3_Grnt_Final_STK",42,0,null,null,null,null,null,null,null,null,"LE3_Grnt_Final_STK",true]
["Pros_FundsUsed_1or0",42,3,null,null,null,{"$f":"SUM(DATA[Pros_FundsUsed_1or0])","v":3},null,{"$f":"C776=G776","v":true},null,null,"Pros_FundsUsed_1or0",true]
["Pros1_Received_DV",42,1462,null,null,null,{"$f":"Prosecution!E8","v":1462},null,{"$f":"C777=G777","v":true},null,null,"Pros1_Received_DV",true]
["Pros1_Received_SA",42,53,null,null,null,{"$f":"Prosecution!D8","v":53},null,true,null,null,"Pros1_Received_SA",true]
["Pros1_Received_STK",42,5,null,null,null,{"$f":"Prosecution!F8","v":5},null,true,null,null,"Pros1_Received_STK",{"$f":"A779=L779","v":true}]
["Pros1_Accepted_DV",42,1152,null,null,null,{"$f":"Prosecution!E9","v":1152},null,true,null,null,"Pros1_Accepted_DV",true]
["Pros1_Accepted_SA",42,41,null,null,null,{"$f":"Prosecution!D9","v":41},null,true,null,null,"Pros1_Accepted_SA",true]
["Pros1_Accepted_STK",42,5,null,null,null,{"$f":"Prosecution!F9","v":5},null,true,null,null,"Pros1_Accepted_STK",true]
["Pros1_Declined_DV",42,306,null,null,null,{"$f":"Prosecution!E10","v":306},null,true,null,null,"Pros1_Declined_DV",true]
["Pros1_Declined_SA",42,12,null,null,null,{"$f":"Prosecution!D10","v":12},null,true,null,null,"Pros1_Declined_SA",true]
["Pros1_Declined_STK",42,0,null,null,null,{"$f":"Prosecution!F10","v":0},null,true,null,null,"Pros1_Declined_STK",true]
["Pros1_Transfer_DV",42,3,null,null,null,{"$f":"Prosecution!E11","v":3},null,true,null,null,"Pros1_Transfer_DV",true]
["Pros1_Transfer_SA",42,0,null,null,null,{"$f":"Prosecution!D11","v":0},null,true,null,null,"Pros1_Transfer_SA",true]
["Pros1_Transfer_STK",42,0,null,null,null,{"$f":"Prosecution!F11","v":0},null,true,null,null,"Pros1_Transfer_STK",true]
["Pros1_RefToFed_DV",42,0,null,null,null,{"$f":"Prosecution!E12","v":0},null,true,null,null,"Pros1_RefToFed_DV",true]
["Pros1_RefToFed_SA",42,0,null,null,null,{"$f":"Prosecution!D12","v":0},null,true,null,null,"Pros1_RefToFed_SA",true]
["Pros1_RefToFed_STK",42,0,null,null,null,{"$f":"Prosecution!F12","v":0},null,true,null,null,"Pros1_RefToFed_STK",true]
["Pros2_IE_Return_DV",42,20,null,null,null,null,null,null,null,null,"Pros2_IE_Return_DV",true]
["Pros2_IE_Return_SA",42,1,null,null,null,null,null,null,null,null,"Pros2_IE_Return_SA",true]
["Pros2_IE_Return_STK",42,0,null,null,null,null,null,null,null,null,"Pros2_IE_Return_STK",true]
["Pros2_IE_Unavail_DV",42,284,null,null,null,null,null,null,null,null,"Pros2_IE_Unavail_DV",true]
["Pros2_IE_Unavail_SA",42,11,null,null,null,null,null,null,null,null,"Pros2_IE_Unavail_SA",true]
["Pros2_IE_Unavail_STK",42,0,null,null,null,null,null,null,null,null,"Pros2_IE_Unavail_STK",true]
["Pros2_VicReq_DV",42,0,null,null,null,null,null,null,null,null,"Pros2_VicReq_DV",true]
["Pros2_VicReq_SA",42,0,null,null,null,null,null,null,null,null,"Pros2_VicReq_SA",true]
["Pros2_VicReq_STK",42,0,null,null,null,null,null,null,null,null,"Pros2_VicReq_STK",true]
["Pros2_Other_DV",42,2,null,null,null,null,null,null,null,null,"Pros2_Other_DV",true]
["Pros2_Other_SA",42,0,null,null,null,null,null,null,null,null,"Pros2_Other_SA",true]
["Pros2_Other_STK",42,0,null,null,null,null,null,null,null,null,"Pros2_Other_STK",true]
["Pros3_Dismiss_DV_Ord",42,0,null,null,null,null,null,null,null,null,"Pros3_Dismiss_DV_Ord",true]
["Pros3_DefAdj_DV_Ord",42,0,null,null,null,null,null,null,null,null,"Pros3_DefAdj_DV_Ord",true]
["Pros3_Convict_PAC_DV_Ord",42,0,null,null,null,null,null,null,null,null,"Pros3_Convict_PAC_DV_Ord",true]
["Pros3_Convict_PSC_DV_Ord",42,0,null,null,null,null,null,null,null,null,"Pros3_Convict_PSC_DV_Ord",true]
["Pros3_Convict_PLC_DV_Ord",42,0,null,null,null,null,null,null,null,null,"Pros3_Convict_PLC_DV_Ord",true]
["Pros3_Convict_GAC_DV_Ord",42,0,null,null,null,null,null,null,null,null,"Pros3_Convict_GAC_DV_Ord",true]
["Pros3_Convict_GSC_DV_Ord",42,0,null,"Total convicted:",null,null,null,null,null,null,"Pros3_Convict_GSC_DV_Ord",true]
["Pros3_Convict_GLC_DV_Ord",42,0,null,{"$f":"SUM(C805:C811)","v":0},null,{"$f":"Prosecution!E17","v":0},null,{"$f":"E811=G811","v":true},null,null,"Pros3_Convict_GLC_DV_Ord",true]
["Pros3_Acquit_DV_Ord",42,0,null,null,null,null,null,null,null,null,"Pros3_Acquit_DV_Ord",true]
["Pros3_Total_DV_Ord",42,0,null,null,null,{"$f":"Prosecution!D17","v":0},null,{"$f":"C813=G813","v":true},null,null,"Pros3_Total_DV_Ord",true]
["Pros3_Dismiss_DV_Mis",42,215,null,null,null,null,null,null,null,null,"Pros3_Dismiss_DV_Mis",true]
["Pros3_DefAdj_DV_Mis",42,3,null,null,null,null,null,null,null,null,"Pros3_DefAdj_DV_Mis",true]
["Pros3_Convict_PAC_DV_Mis",42,200,null,null,null,null,null,null,null,null,"Pros3_Convict_PAC_DV_Mis",true]
["Pros3_Convict_PSC_DV_Mis",42,4,null,null,null,null,null,null,null,null,"Pros3_Convict_PSC_DV_Mis",true]
["Pros3_Convict_PLC_DV_Mis",42,0,null,null,null,null,null,null,null,null,"Pros3_Convict_PLC_DV_Mis",true]
["Pros3_Convict_GAC_DV_Mis",42,6,null,null,null,null,null,null,null,null,"Pros3_Convict_GAC_DV_Mis",true]
["Pros3_Convict_GSC_DV_Mis",42,1,null,"Total convicted:",null,null,null,null,null,null,"Pros3_Convict_GSC_DV_Mis",true]
["Pros3_Convict_GLC_DV_Mis",42,0,null,{"$f":"SUM(C815:C821)","v":214},null,{"$f":"Prosecution!E18","v":214},null,{"$f":"E821=G821","v":true},null,null,"Pros3_Convict_GLC_DV_Mis",true]
["Pros3_Acquit_DV_Mis",42,2,null,null,null,null,null,null,null,null,"Pros3_Acquit_DV_Mis",true]
["Pros3_Total_DV_Mis",42,431,null,null,null,{"$f":"Prosecution!D18","v":431},null,{"$f":"C823=G823","v":true},null,null,"Pros3_Total_DV_Mis",true]
["Pros3_Dismiss_DV_Fel",42,35,null,null,null,null,null,null,null,null,"Pros3_Dismiss_DV_Fel",true]
["Pros3_DefAdj_DV_Fel",42,4,null,null,null,null,null,null,null,null,"Pros3_DefAdj_DV_Fel",true]
["Pros3_Convict_PAC_DV_Fel",42,274,null,null,null,null,null,null,null,null,"Pros3_Convict_PAC_DV_Fel",true]
["Pros3_Convict_PSC_DV_Fel",42,26,null,null,null,null,null,null,null,null,"Pros3_Convict_PSC_DV_Fel",true]
["Pros3_Convict_PLC_DV_Fel",42,1,null,null,null,null,null,null,null,null,"Pros3_Convict_PLC_DV_Fel",true]
["Pros3_Convict_GAC_DV_Fel",42,15,null,null,null,null,null,null,null,null,"Pros3_Convict_GAC_DV_Fel",true]
["Pros3_Convict_GSC_DV_Fel",42,1,null,"Total convicted:",null,null,null,null,null,null,"Pros3_Convict_GSC_DV_Fel",true]
["Pros3_Convict_GLC_DV_Fel",42,0,null,{"$f":"SUM(C825:C831)","v":321},null,{"$f":"Prosecution!E19","v":321},null,{"$f":"E831=G831","v":true},null,null,"Pros3_Convict_GLC_DV_Fel",true]
["Pros3_Acquit_DV_Fel",42,1,null,null,null,null,null,null,null,null,"Pros3_Acquit_DV_Fel",true]
["Pros3_Total_DV_Fel",42,357,null,null,null,{"$f":"Prosecution!D19","v":357},null,{"$f":"C833=G833","v":true},null,null,"Pros3_Total_DV_Fel",true]
["Pros3_Dismiss_DV_Hom",42,0,null,null,null,null,null,null,null,null,"Pros3_Dismiss_DV_Hom",true]
["Pros3_DefAdj_DV_Hom",42,0,null,null,null,null,null,null,null,null,"Pros3_DefAdj_DV_Hom",true]
["Pros3_Convict_PAC_DV_Hom",42,0,null,null,null,null,null,null,null,null,"Pros3_Convict_PAC_DV_Hom",true]
["Pros3_Convict_PSC_DV_Hom",42,0,null,null,null,null,null,null,null,null,"Pros3_Convict_PSC_DV_Hom",true]
["Pros3_Convict_PLC_DV_Hom",42,0,null,null,null,null,null,null,null,null,"Pros3_Convict_PLC_DV_Hom",true]
["Pros3_Convict_GAC_DV_Hom",42,1,null,null,null,null,null,null,null,null,"Pros3_Convict_GAC_DV_Hom",true]
["Pros3_Convict_GSC_DV_Hom",42,0,null,"Total convicted:",null,null,null,null,null,null,"Pros3_Convict_GSC_DV_Hom",true]
["Pros3_Convict_GLC_DV_Hom",42,0,null,{"$f":"SUM(C835:C841)","v":1},null,{"$f":"Prosecution!E20","v":1},null,{"$f":"E841=G841","v":true},null,null,"Pros3_Convict_GLC_DV_Hom",true]
["Pros3_Acquit_DV_Hom",42,0,null,null,null,null,null,null,null,null,"Pros3_Acquit_DV_Hom",true]
["Pros3_Total_DV_Hom",42,1,null,null,null,{"$f":"Prosecution!D20","v":1},null,{"$f":"C843=G843","v":true},null,null,"Pros3_Total_DV_Hom",{"$f":"A843=L843","v":true}]
["Pros3_Dismiss_SA_Mis",42,0,null,null,null,null,null,null,null,null,"Pros3_Dismiss_SA_Mis",true]
["Pros3_DefAdj_SA_Mis",42,0,null,null,null,null,null,null,null,null,"Pros3_DefAdj_SA_Mis",true]
["Pros3_Convict_PAC_SA_Mis",42,4,null,null,null,null,null,null,null,null,"Pros3_Convict_PAC_SA_Mis",true]
["Pros3_Convict_PSC_SA_Mis",42,0,null,null,null,null,null,null,null,null,"Pros3_Convict_PSC_SA_Mis",true]
["Pros3_Convict_PLC_SA_Mis",42,1,null,null,null,null,null,null,null,null,"Pros3_Convict_PLC_SA_Mis",true]
["Pros3_Convict_GAC_SA_Mis",42,0,null,null,null,null,null,null,null,null,"Pros3_Convict_GAC_SA_Mis",true]
["Pros3_Convict_GSC_SA_Mis",42,0,null,"Total convicted:",null,null,null,null,null,null,"Pros3_Convict_GSC_SA_Mis",true]
["Pros3_Convict_GLC_SA_Mis",42,0,null,{"$f":"SUM(C845:C851)","v":5},null,{"$f":"Prosecution!E21","v":5},null,{"$f":"E851=G851","v":true},null,null,"Pros3_Convict_GLC_SA_Mis",true]
["Pros3_Acquit_SA_Mis",42,0,null,null,null,null,null,null,null,null,"Pros3_Acquit_SA_Mis",true]
["Pros3_Total_SA_Mis",42,5,null,null,null,{"$f":"Prosecution!D21","v":5},null,{"$f":"C853=G853","v":true},null,null,"Pros3_Total_SA_Mis",true]
["Pros3_Dismiss_SA_Fel",42,1,null,null,null,null,null,null,null,null,"Pros3_Dismiss_SA_Fel",true]
["Pros3_DefAdj_SA_Fel",42,0,null,null,null,null,null,null,null,null,"Pros3_DefAdj_SA_Fel",true]
["Pros3_Convict_PAC_SA_Fel",42,11,null,null,null,null,null,null,null,null,"Pros3_Convict_PAC_SA_Fel",true]
["Pros3_Convict_PSC_SA_Fel",42,2,null,null,null,null,null,null,null,null,"Pros3_Convict_PSC_SA_Fel",true]
["Pros3_Convict_PLC_SA_Fel",42,0,null,null,null,null,null,null,null,null,"Pros3_Convict_PLC_SA_Fel",true]
["Pros3_Convict_GAC_SA_Fel",42,1,null,null,null,null,null,null,null,null,"Pros3_Convict_GAC_SA_Fel",true]
["Pros3_Convict_GSC_SA_Fel",42,0,null,"Total convicted:",null,null,null,null,null,null,"Pros3_Convict_GSC_SA_Fel",true]
["Pros3_Convict_GLC_SA_Fel",42,0,null,{"$f":"SUM(C855:C861)","v":14},null,{"$f":"Prosecution!E22","v":14},null,{"$f":"E861=G861","v":true},null,null,"Pros3_Convict_GLC_SA_Fel",true]
["Pros3_Acquit_SA_Fel",42,0,null,null,null,null,null,null,null,null,"Pros3_Acquit_SA_Fel",true]
["Pros3_Total_SA_Fel",42,15,null,null,null,{"$f":"Prosecution!D22","v":15},null,{"$f":"C863=G863","v":true},null,null,"Pros3_Total_SA_Fel",true]
["Pros3_Dismiss_SA_Hom",42,0,null,null,null,null,null,null,null,null,"Pros3_Dismiss_SA_Hom",true]
["Pros3_DefAdj_SA_Hom",42,0,null,null,null,null,null,null,null,null,"Pros3_DefAdj_SA_Hom",true]
["Pros3_Convict_PAC_SA_Hom",42,0,null,null,null,null,null,null,null,null,"Pros3_Convict_PAC_SA_Hom",true]
["Pros3_Convict_PSC_SA_Hom",42,0,null,null,null,null,null,null,null,null,"Pros3_Convict_PSC_SA_Hom",true]
["Pros3_Convict_PLC_SA_Hom",42,0,null,null,null,null,null,null,null,null,"Pros3_Convict_PLC_SA_Hom",true]
["Pros3_Convict_GAC_SA_Hom",42,0,null,null,null,null,null,null,null,null,"Pros3_Convict_GAC_SA_Hom",true]
["Pros3_Convict_GSC_SA_Hom",42,0,null,"Total convicted:",null,null,null,null,null,null,"Pros3_Convict_GSC_SA_Hom",true]
["Pros3_Convict_GLC_SA_Hom",42,0,null,{"$f":"SUM(C865:C871)","v":0},null,{"$f":"Prosecution!E23","v":0},null,{"$f":"E871=G871","v":true},null,null,"Pros3_Convict_GLC_SA_Hom",true]
["Pros3_Acquit_SA_Hom",42,0,null,null,null,null,null,null,null,null,"Pros3_Acquit_SA_Hom",true]
["Pros3_Total_SA_Hom",42,0,null,null,null,{"$f":"Prosecution!D23","v":0},null,{"$f":"C873=G873","v":true},null,null,"Pros3_Total_SA_Hom",true]
["Pros3_Dismiss_STK_Ord",42,0,null,null,null,null,null,null,null,null,"Pros3_Dismiss_STK_Ord",true]
["Pros3_DefAdj_STK_Ord",42,0,null,null,null,null,null,null,null,null,"Pros3_DefAdj_STK_Ord",true]
["Pros3_Convict_PAC_STK_Ord",42,0,null,null,null,null,null,null,null,null,"Pros3_Convict_PAC_STK_Ord",true]
["Pros3_Convict_PSC_STK_Ord",42,0,null,null,null,null,null,null,null,null,"Pros3_Convict_PSC_STK_Ord",true]
["Pros3_Convict_PLC_STK_Ord",42,0,null,null,null,null,null,null,null,null,"Pros3_Convict_PLC_STK_Ord",true]
["Pros3_Convict_GAC_STK_Ord",42,0,null,null,null,null,null,null,null,null,"Pros3_Convict_GAC_STK_Ord",true]
["Pros3_Convict_GSC_STK_Ord",42,0,null,"Total convicted:",null,null,null,null,null,null,"Pros3_Convict_GSC_STK_Ord",true]
["Pros3_Convict_GLC_STK_Ord",42,0,null,{"$f":"SUM(C875:C881)","v":0},null,{"$f":"Prosecution!E24","v":0},null,{"$f":"E881=G881","v":true},null,null,"Pros3_Convict_GLC_STK_Ord",true]
["Pros3_Acquit_STK_Ord",42,0,null,null,null,null,null,null,null,null,"Pros3_Acquit_STK_Ord",true]
["Pros3_Total_STK_Ord",42,0,null,null,null,{"$f":"Prosecution!D24","v":0},null,{"$f":"C883=G883","v":true},null,null,"Pros3_Total_STK_Ord",true]
["Pros3_Dismiss_STK_Mis",42,0,null,null,null,null,null,null,null,null,"Pros3_Dismiss_STK_Mis",true]
["Pros3_DefAdj_STK_Mis",42,0,null,null,null,null,null,null,null,null,"Pros3_DefAdj_STK_Mis",true]
["Pros3_Convict_PAC_STK_Mis",42,1,null,null,null,null,null,null,null,null,"Pros3_Convict_PAC_STK_Mis",true]
["Pros3_Convict_PSC_STK_Mis",42,0,null,null,null,null,null,null,null,null,"Pros3_Convict_PSC_STK_Mis",true]
["Pros3_Convict_PLC_STK_Mis",42,0,null,null,null,null,null,null,null,null,"Pros3_Convict_PLC_STK_Mis",true]
["Pros3_Convict_GAC_STK_Mis",42,0,null,null,null,null,null,null,null,null,"Pros3_Convict_GAC_STK_Mis",true]
["Pros3_Convict_GSC_STK_Mis",42,0,null,"Total convicted:",null,null,null,null,null,null,"Pros3_Convict_GSC_STK_Mis",true]
["Pros3_Convict_GLC_STK_Mis",42,0,null,{"$f":"SUM(C885:C891)","v":1},null,{"$f":"Prosecution!E25","v":1},null,{"$f":"E891=G891","v":true},null,null,"Pros3_Convict_GLC_STK_Mis",true]
["Pros3_Acquit_STK_Mis",42,0,null,null,null,null,null,null,null,null,"Pros3_Acquit_STK_Mis",true]
["Pros3_Total_STK_Mis",42,1,null,null,null,{"$f":"Prosecution!D25","v":1},null,{"$f":"C893=G893","v":true},null,null,"Pros3_Total_STK_Mis",true]
["Pros3_Dismiss_STK_Fel",42,0,null,null,null,null,null,null,null,null,"Pros3_Dismiss_STK_Fel",true]
["Pros3_DefAdj_STK_Fel",42,0,null,null,null,null,null,null,null,null,"Pros3_DefAdj_STK_Fel",true]
["Pros3_Convict_PAC_STK_Fel",42,0,null,null,null,null,null,null,null,null,"Pros3_Convict_PAC_STK_Fel",true]
["Pros3_Convict_PSC_STK_Fel",42,0,null,null,null,null,null,null,null,null,"Pros3_Convict_PSC_STK_Fel",true]
["Pros3_Convict_PLC_STK_Fel",42,0,null,null,null,null,null,null,null,null,"Pros3_Convict_PLC_STK_Fel",true]
["Pros3_Convict_GAC_STK_Fel",42,0,null,null,null,null,null,null,null,null,"Pros3_Convict_GAC_STK_Fel",true]
["Pros3_Convict_GSC_STK_Fel",42,0,null,"Total convicted:",null,null,null,null,null,null,"Pros3_Convict_GSC_STK_Fel",true]
["Pros3_Convict_GLC_STK_Fel",42,0,null,{"$f":"SUM(C895:C901)","v":0},null,{"$f":"Prosecution!E26","v":0},null,{"$f":"E901=G901","v":true},null,null,"Pros3_Convict_GLC_STK_Fel",true]
["Pros3_Acquit_STK_Fel",42,0,null,null,null,null,null,null,null,null,"Pros3_Acquit_STK_Fel",true]
["Pros3_Total_STK_Fel",42,0,null,null,null,{"$f":"Prosecution!D26","v":0},null,{"$f":"C903=G903","v":true},null,null,"Pros3_Total_STK_Fel",true]
["Pros3_Dismiss_STK_Hom",42,0,null,null,null,null,null,null,null,null,"Pros3_Dismiss_STK_Hom",true]
["Pros3_DefAdj_STK_Hom",42,0,null,null,null,null,null,null,null,null,"Pros3_DefAdj_STK_Hom",true]
["Pros3_Convict_PAC_STK_Hom",42,0,null,null,null,null,null,null,null,null,"Pros3_Convict_PAC_STK_Hom",true]
["Pros3_Convict_PSC_STK_Hom",42,0,null,null,null,null,null,null,null,null,"Pros3_Convict_PSC_STK_Hom",{"$f":"A907=L907","v":true}]
["Pros3_Convict_PLC_STK_Hom",42,0,null,null,null,null,null,null,null,null,"Pros3_Convict_PLC_STK_Hom",true]
["Pros3_Convict_GAC_STK_Hom",42,0,null,null,null,null,null,null,null,null,"Pros3_Convict_GAC_STK_Hom",true]
["Pros3_Convict_GSC_STK_Hom",42,0,null,"Total convicted:",null,null,null,null,null,null,"Pros3_Convict_GSC_STK_Hom",true]
["Pros3_Convict_GLC_STK_Hom",42,0,null,{"$f":"SUM(C905:C911)","v":0},null,{"$f":"Prosecution!E27","v":0},null,{"$f":"E911=G911","v":true},null,null,"Pros3_Convict_GLC_STK_Hom",true]
["Pros3_Acquit_STK_Hom",42,0,null,null,null,null,null,null,null,null,"Pros3_Acquit_STK_Hom",true]
["Pros3_Total_STK_Hom",42,0,null,null,null,{"$f":"Prosecution!D27","v":0},null,{"$f":"C913=G913","v":true},null,null,"Pros3_Total_STK_Hom",true]
["Pros3_Dismiss_BailViol",42,0,null,null,null,null,null,null,null,null,"Pros3_Dismiss_BailViol",true]
["Pros3_DefAdj_BailViol",42,0,null,null,null,null,null,null,null,null,"Pros3_DefAdj_BailViol",true]
["Pros3_Convict_PAC_BailViol",42,0,null,null,null,null,null,null,null,null,"Pros3_Convict_PAC_BailViol",true]
["Pros3_Convict_PSC_BailViol",42,0,null,null,null,null,null,null,null,null,"Pros3_Convict_PSC_BailViol",true]
["Pros3_Convict_PLC_BailViol",42,0,null,null,null,null,null,null,null,null,"Pros3_Convict_PLC_BailViol",true]
["Pros3_Convict_GAC_BailViol",42,0,null,null,null,null,null,null,null,null,"Pros3_Convict_GAC_BailViol",true]
["Pros3_Convict_GSC_BailViol",42,0,null,"Total convicted:",null,null,null,null,null,null,"Pros3_Convict_GSC_BailViol",true]
["Pros3_Convict_GLC_BailViol",42,0,null,{"$f":"SUM(C915:C921)","v":0},null,{"$f":"Prosecution!E28","v":0},null,{"$f":"E921=G921","v":true},null,null,"Pros3_Convict_GLC_BailViol",true]
["Pros3_Acquit_BailViol",42,0,null,null,null,null,null,null,null,null,"Pros3_Acquit_BailViol",true]
["Pros3_Total_BailViol",42,0,null,null,null,{"$f":"Prosecution!D28","v":0},null,{"$f":"C923=G923","v":true},null,null,"Pros3_Total_BailViol",true]
["Pros3_Dismiss_ProbViol",42,2,null,null,null,null,null,null,null,null,"Pros3_Dismiss_ProbViol",true]
["Pros3_DefAdj_ProbViol",42,0,null,null,null,null,null,null,null,null,"Pros3_DefAdj_ProbViol",true]
["Pros3_Convict_PAC_ProbViol",42,16,null,null,null,null,null,null,null,null,"Pros3_Convict_PAC_ProbViol",true]
["Pros3_Convict_PSC_ProbViol",42,0,null,null,null,null,null,null,null,null,"Pros3_Convict_PSC_ProbViol",true]
["Pros3_Convict_PLC_ProbViol",42,0,null,null,null,null,null,null,null,null,"Pros3_Convict_PLC_ProbViol",true]
["Pros3_Convict_GAC_ProbViol",42,0,null,null,null,null,null,null,null,null,"Pros3_Convict_GAC_ProbViol",true]
["Pros3_Convict_GSC_ProbViol",42,0,null,"Total convicted:",null,null,null,null,null,null,"Pros3_Convict_GSC_ProbViol",true]
["Pros3_Convict_GLC_ProbViol",42,0,null,{"$f":"SUM(C925:C931)","v":16},null,{"$f":"Prosecution!E29","v":16},null,{"$f":"E931=G931","v":true},null,null,"Pros3_Convict_GLC_ProbViol",true]
["Pros3_Acquit_ProbViol",42,0,null,null,null,null,null,null,null,null,"Pros3_Acquit_ProbViol",true]
["Pros3_Total_ProbViol",42,18,null,null,null,{"$f":"Prosecution!D29","v":18},null,{"$f":"C933=G933","v":true},null,null,"Pros3_Total_ProbViol",true]
["Pros3_Dismiss_POViol",42,13,null,null,null,null,null,null,null,null,"Pros3_Dismiss_POViol",true]
["Pros3_DefAdj_POViol",42,0,null,null,null,null,null,null,null,null,"Pros3_DefAdj_POViol",true]
["Pros3_Convict_PAC_POViol",42,29,null,null,null,null,null,null,null,null,"Pros3_Convict_PAC_POViol",true]
["Pros3_Convict_PSC_POViol",42,0,null,null,null,null,null,null,null,null,"Pros3_Convict_PSC_POViol",true]
["Pros3_Convict_PLC_POViol",42,0,null,null,null,null,null,null,null,null,"Pros3_Convict_PLC_POViol",true]
["Pros3_Convict_GAC_POViol",42,1,null,null,null,null,null,null,null,null,"Pros3_Convict_GAC_POViol",true]
["Pros3_Convict_GSC_POViol",42,0,null,"Total convicted:",null,null,null,null,null,null,"Pros3_Convict_GSC_POViol",true]
["Pros3_Convict_GLC_POViol",42,0,null,{"$f":"SUM(C935:C941)","v":30},null,{"$f":"Prosecution!E30","v":30},null,{"$f":"E941=G941","v":true},null,null,"Pros3_Convict_GLC_POViol",true]
["Pros3_Acquit_POViol",42,0,null,null,null,null,null,null,null,null,"Pros3_Acquit_POViol",true]
["Pros3_Total_POViol",42,43,null,null,null,{"$f":"Prosecution!D30","v":43},null,{"$f":"C943=G943","v":true},null,null,"Pros3_Total_POViol",true]
["Pros3_Dismiss_CrtOrder",42,0,null,null,null,null,null,null,null,null,"Pros3_Dismiss_CrtOrder",true]
["Pros3_DefAdj_CrtOrder",42,0,null,null,null,null,null,null,null,null,"Pros3_DefAdj_CrtOrder",true]
["Pros3_Convict_PAC_CrtOrder",42,0,null,null,null,null,null,null,null,null,"Pros3_Convict_PAC_CrtOrder",true]
["Pros3_Convict_PSC_CrtOrder",42,0,null,null,null,null,null,null,null,null,"Pros3_Convict_PSC_CrtOrder",true]
["Pros3_Convict_PLC_CrtOrder",42,0,null,null,null,null,null,null,null,null,"Pros3_Convict_PLC_CrtOrder",true]
["Pros3_Convict_GAC_CrtOrder",42,0,null,null,null,null,null,null,null,null,"Pros3_Convict_GAC_CrtOrder",true]
["Pros3_Convict_GSC_CrtOrder",42,0,null,"Total convicted:",null,null,null,null,null,null,"Pros3_Convict_GSC_CrtOrder",true]
["Pros3_Convict_GLC_CrtOrder",42,0,null,{"$f":"SUM(C945:C951)","v":0},null,{"$f":"Prosecution!E31","v":0},null,{"$f":"E951=G951","v":true},null,null,"Pros3_Convict_GLC_CrtOrder",true]
["Pros3_Acquit_CrtOrder",42,0,null,null,null,null,null,null,null,null,"Pros3_Acquit_CrtOrder",true]
["Pros3_Total_CrtOrder",42,0,null,null,null,{"$f":"Prosecution!D31","v":0},null,{"$f":"C953=G953","v":true},null,null,"Pros3_Total_CrtOrder",true]
["Pros3_Dismiss_Other",42,0,null,null,null,null,null,null,null,null,"Pros3_Dismiss_Other",true]
["Pros3_DefAdj_Other",42,0,null,null,null,null,null,null,null,null,"Pros3_DefAdj_Other",true]
["Pros3_Convict_PAC_Other",42,0,null,null,null,null,null,null,null,null,"Pros3_Convict_PAC_Other",true]
["Pros3_Convict_PSC_Other",42,0,null,null,null,null,null,null,null,null,"Pros3_Convict_PSC_Other",true]
["Pros3_Convict_PLC_Other",42,0,null,null,null,null,null,null,null,null,"Pros3_Convict_PLC_Other",true]
["Pros3_Convict_GAC_Other",42,0,null,null,null,null,null,null,null,null,"Pros3_Convict_GAC_Other",true]
["Pros3_Convict_GSC_Other",42,0,null,"Total convicted:",null,null,null,null,null,null,"Pros3_Convict_GSC_Other",true]
["Pros3_Convict_GLC_Other",42,0,null,{"$f":"SUM(C955:C961)","v":0},null,{"$f":"Prosecution!E32","v":0},null,{"$f":"E961=G961","v":true},null,null,"Pros3_Convict_GLC_Other",true]
["Pros3_Acquit_Other",42,0,null,null,null,null,null,null,null,null,"Pros3_Acquit_Other",true]
["Pros3_Total_Other",42,0,null,null,null,{"$f":"Prosecution!D32","v":0},null,{"$f":"C963=G963","v":true},null,null,"Pros3_Total_Other",true]
["Pros3_TOTAL_Dismiss",42,266,null,null,null,null,null,null,null,null,"Pros3_TOTAL_Dismiss",true]
["Pros3_TOTAL_DefAdj",42,7,null,null,null,null,null,null,null,null,"Pros3_TOTAL_DefAdj",true]
["Pros3_TOTAL_Convict_PAC",42,535,null,null,null,null,null,null,null,null,"Pros3_TOTAL_Convict_PAC",true]
["Pros3_TOTAL_Convict_PSC",42,32,null,null,null,null,null,null,null,null,"Pros3_TOTAL_Convict_PSC",true]
["Pros3_TOTAL_Convict_PLC",42,2,null,null,null,null,null,null,null,null,"Pros3_TOTAL_Convict_PLC",true]
["Pros3_TOTAL_Convict_GAC",42,24,null,null,null,null,null,null,null,null,"Pros3_TOTAL_Convict_GAC",true]
["Pros3_TOTAL_Convict_GSC",42,2,null,null,null,null,null,null,null,null,"Pros3_TOTAL_Convict_GSC",true]
["Pros3_TOTAL_Convict_GLC",42,0,null,null,null,null,null,null,null,null,"Pros3_TOTAL_Convict_GLC",{"$f":"A971=L971","v":true}]
["Pros3_TOTAL_Acquit",42,3,null,null,null,null,null,null,null,null,"Pros3_TOTAL_Acquit",true]
["Pros3_TOTAL_Total",42,871,null,null,null,null,null,null,null,null,"Pros3_TOTAL_Total",true]
["Pros4_RefToFed",42,0,null,null,null,null,null,null,null,null,"Pros4_RefToFed",true]
["Pros4_RefToState",42,0,null,null,null,null,null,null,null,null,"Pros4_RefToState",true]
["Pros4_TOTAL",42,0,null,null,null,null,null,null,null,null,"Pros4_TOTAL",true]
["Pros5_VSRef_Govt",42,953,null,null,null,null,null,null,null,null,"Pros5_VSRef_Govt",true]
["Pros5_VSRef_NonGovt",42,24,null,null,null,null,null,null,null,null,"Pros5_VSRef_NonGovt",true]
["Pros6_Req_Temp_SA",42,0,null,"Protection orders, STK:",null,null,null,null,null,null,"Pros6_Req_Temp_SA",true]
["Pros6_Req_Final_SA",42,0,null,"Temp, requested:",null,null,null,null,null,null,"Pros6_Req_Final_SA",true]
["Pros6_Grnt_Temp_SA",42,0,null,{"$f":"SUM(C555,C772,C987)","v":144},null,{"$f":"Highlights!C20","v":144},null,{"$f":"E981=G981","v":true},null,null,"Pros6_Grnt_Temp_SA",true]
["Pros6_Grnt_Final_SA",42,0,null,"Temp, granted:",null,null,null,null,null,null,"Pros6_Grnt_Final_SA",true]
["Pros6_Req_Temp_DV",42,183,null,{"$f":"SUM(C557,C774,C989)","v":111},null,{"$f":"Highlights!C21","v":111},null,{"$f":"E983=G983","v":true},null,null,"Pros6_Req_Temp_DV",true]
["Pros6_Req_Final_DV",42,0,null,"Final, requested:",null,null,null,null,null,null,"Pros6_Req_Final_DV",true]
["Pros6_Grnt_Temp_DV",42,183,null,{"$f":"SUM(C556,C773,C988)","v":36},null,{"$f":"Highlights!D20","v":36},null,{"$f":"E985=G985","v":true},null,null,"Pros6_Grnt_Temp_DV",true]
["Pros6_Grnt_Final_DV",42,0,null,"Final, granted:",null,null,null,null,null,null,"Pros6_Grnt_Final_DV",true]
["Pros6_Req_Temp_STK",42,0,null,{"$f":"SUM(C558,C775,C990)","v":33},null,{"$f":"Highlights!D21","v":33},null,{"$f":"E987=G987","v":true},null,null,"Pros6_Req_Temp_STK",true]
["Pros6_Req_Final_STK",42,0,null,null,null,null,null,null,null,null,"Pros6_Req_Final_STK",true]
["Pros6_Grnt_Temp_STK",42,0,null,null,null,null,null,null,null,null,"Pros6_Grnt_Temp_STK",true]
["Pros6_Grnt_Final_STK",42,0,null,null,null,null,null,null,null,null,"Pros6_Grnt_Final_STK",true]
["Crt_FundsUsed_1or0",42,0,null,null,null,{"$f":"SUM(DATA[Crt_FundsUsed_1or0])","v":0},null,{"$f":"C991=G991","v":true},null,null,"Crt_FundsUsed_1or0",true]
["Crt2_Dismiss_SA_Mis",42,0,null,null,null,null,null,null,null,null,"Crt2_Dismiss_SA_Mis",true]
["Crt2_DefAdj_SA_Mis",42,0,null,null,null,null,null,null,null,null,"Crt2_DefAdj_SA_Mis",true]
["Crt2_Convict_SA_Mis",42,0,null,null,null,null,null,null,null,null,"Crt2_Convict_SA_Mis",true]
["Crt2_Acquit_SA_Mis",42,0,null,null,null,null,null,null,null,null,"Crt2_Acquit_SA_Mis",true]
["Crt2_Dismiss_SA_Fel",42,0,null,null,null,null,null,null,null,null,"Crt2_Dismiss_SA_Fel",true]
["Crt2_DefAdj_SA_Fel",42,0,null,null,null,null,null,null,null,null,"Crt2_DefAdj_SA_Fel",true]
["Crt2_Convict_SA_Fel",42,0,null,null,null,null,null,null,null,null,"Crt2_Convict_SA_Fel",true]
["Crt2_Acquit_SA_Fel",42,0,null,null,null,null,null,null,null,null,"Crt2_Acquit_SA_Fel",true]
["Crt2_Dismiss_Hom",42,0,null,null,null,null,null,null,null,null,"Crt2_Dismiss_Hom",true]
["Crt2_DefAdj_Hom",42,0,null,null,null,null,null,null,null,null,"Crt2_DefAdj_Hom",true]
["Crt2_Convict_Hom",42,0,null,null,null,null,null,null,null,null,"Crt2_Convict_Hom",true]
["Crt2_Acquit_Hom",42,0,null,null,null,null,null,null,null,null,"Crt2_Acquit_Hom",true]
["Crt2_Dismiss_DV_Ord",42,0,null,null,null,null,null,null,null,null,"Crt2_Dismiss_DV_Ord",true]
["Crt2_DefAdj_DV_Ord",42,0,null,null,null,null,null,null,null,null,"Crt2_DefAdj_DV_Ord",true]
["Crt2_Convict_DV_Ord",42,0,null,null,null,null,null,null,null,null,"Crt2_Convict_DV_Ord",true]
["Crt2_Acquit_DV_Ord",42,0,null,null,null,null,null,null,null,null,"Crt2_Acquit_DV_Ord",true]
["Crt2_Dismiss_DV_Mis",42,0,null,null,null,null,null,null,null,null,"Crt2_Dismiss_DV_Mis",true]
["Crt2_DefAdj_DV_Mis",42,0,null,null,null,null,null,null,null,null,"Crt2_DefAdj_DV_Mis",true]
["Crt2_Convict_DV_Mis",42,0,null,null,null,null,null,null,null,null,"Crt2_Convict_DV_Mis",true]
["Crt2_Acquit_DV_Mis",42,0,null,null,null,null,null,null,null,null,"Crt2_Acquit_DV_Mis",true]
["Crt2_Dismiss_DV_Fel",42,0,null,null,null,null,null,null,null,null,"Crt2_Dismiss_DV_Fel",true]
["Crt2_DefAdj_DV_Fel",42,0,null,null,null,null,null,null,null,null,"Crt2_DefAdj_DV_Fel",true]
["Crt2_Convict_DV_Fel",42,0,null,null,null,null,null,null,null,null,"Crt2_Convict_DV_Fel",true]
["Crt2_Acquit_DV_Fel",42,0,null,null,null,null,null,null,null,null,"Crt2_Acquit_DV_Fel",true]
["Crt2_Dismiss_STK_Ord",42,0,null,null,null,null,null,null,null,null,"Crt2_Dismiss_STK_Ord",true]
["Crt2_DefAdj_STK_Ord",42,0,null,null,null,null,null,null,null,null,"Crt2_DefAdj_STK_Ord",true]
["Crt2_Convict_STK_Ord",42,0,null,null,null,null,null,null,null,null,"Crt2_Convict_STK_Ord",true]
["Crt2_Acquit_STK_Ord",42,0,null,null,null,null,null,null,null,null,"Crt2_Acquit_STK_Ord",true]
["Crt2_Dismiss_STK_Mis",42,0,null,null,null,null,null,null,null,null,"Crt2_Dismiss_STK_Mis",true]
["Crt2_DefAdj_STK_Mis",42,0,null,null,null,null,null,null,null,null,"Crt2_DefAdj_STK_Mis",true]
["Crt2_Convict_STK_Mis",42,0,null,null,null,null,null,null,null,null,"Crt2_Convict_STK_Mis",true]
["Crt2_Acquit_STK_Mis",42,0,null,null,null,null,null,null,null,null,"Crt2_Acquit_STK_Mis",true]
["Crt2_Dismiss_STK_Fel",42,0,null,null,null,null,null,null,null,null,"Crt2_Dismiss_STK_Fel",true]
["Crt2_DefAdj_STK_Fel",42,0,null,null,null,null,null,null,null,null,"Crt2_DefAdj_STK_Fel",true]
["Crt2_Convict_STK_Fel",42,0,null,null,null,null,null,null,null,null,"Crt2_Convict_STK_Fel",true]
["Crt2_Acquit_STK_Fel",42,0,null,null,null,null,null,null,null,null,"Crt2_Acquit_STK_Fel",true]
["Crt2_Dismiss_POViol",42,0,null,null,null,null,null,null,null,null,"Crt2_Dismiss_POViol",true]
["Crt2_DefAdj_POViol",42,0,null,null,null,null,null,null,null,null,"Crt2_DefAdj_POViol",true]
["Crt2_Convict_POViol",42,0,null,null,null,null,null,null,null,null,"Crt2_Convict_POViol",true]
["Crt2_Acquit_POViol",42,0,null,null,null,null,null,null,null,null,"Crt2_Acquit_POViol",true]
["Crt2_Dismiss_BailViol",42,0,null,null,null,null,null,null,null,null,"Crt2_Dismiss_BailViol",true]
["Crt2_DefAdj_BailViol",42,0,null,null,null,null,null,null,null,null,"Crt2_DefAdj_BailViol",true]
["Crt2_Convict_BailViol",42,0,null,null,null,null,null,null,null,null,"Crt2_Convict_BailViol",true]
["Crt2_Acquit_BailViol",42,0,null,null,null,null,null,null,null,null,"Crt2_Acquit_BailViol",{"$f":"A1035=L1035","v":true}]
["Crt2_Dismiss_ProbViol",42,0,null,null,null,null,null,null,null,null,"Crt2_Dismiss_ProbViol",true]
["Crt2_DefAdj_ProbViol",42,0,null,null,null,null,null,null,null,null,"Crt2_DefAdj_ProbViol",true]
["Crt2_Convict_ProbViol",42,0,null,null,null,null,null,null,null,null,"Crt2_Convict_ProbViol",true]
["Crt2_Acquit_ProbViol",42,0,null,null,null,null,null,null,null,null,"Crt2_Acquit_ProbViol",true]
["Crt2_Dismiss_CrtOrder",42,0,null,null,null,null,null,null,null,null,"Crt2_Dismiss_CrtOrder",true]
["Crt2_DefAdj_CrtOrder",42,0,null,null,null,null,null,null,null,null,"Crt2_DefAdj_CrtOrder",true]
["Crt2_Convict_CrtOrder",42,0,null,null,null,null,null,null,null,null,"Crt2_Convict_CrtOrder",true]
["Crt2_Acquit_CrtOrder",42,0,null,null,null,null,null,null,null,null,"Crt2_Acquit_CrtOrder",true]
["Crt2_TOTAL_Dismiss",42,0,null,null,null,null,null,null,null,null,"Crt2_TOTAL_Dismiss",true]
["Crt2_TOTAL_DefAdj",42,0,null,null,null,null,null,null,null,null,"Crt2_TOTAL_DefAdj",true]
["Crt2_TOTAL_Convict",42,0,null,null,null,null,null,null,null,null,"Crt2_TOTAL_Convict",true]
["Crt2_TOTAL_Acquit",42,0,null,null,null,null,null,null,null,null,"Crt2_TOTAL_Acquit",true]
["Crt3_Offender",42,0,null,null,null,{"$f":"SUM(DATA[Crt3_Offender])","v":0},null,{"$f":"C1048=G1048","v":true},null,null,"Crt3_Offender",true]
["Crt3_Hearing",42,0,null,null,null,{"$f":"SUM(DATA[Crt3_Hearing])","v":0},null,{"$f":"C1049=G1049","v":true},null,null,"Crt3_Hearing",true]
["Crt4_NoAction_PO",42,0,null,null,null,{"$f":"Courts!D8","v":0},null,{"$f":"C1050=G1050","v":true},null,null,"Crt4_NoAction_PO",true]
["Crt4_Warning_PO",42,0,null,null,null,{"$f":"Courts!E8","v":0},null,true,null,null,"Crt4_Warning_PO",true]
["Crt4_Fine_PO",42,0,null,null,null,{"$f":"Courts!F8","v":0},null,true,null,null,"Crt4_Fine_PO",true]
["Crt4_AddCond_PO",42,0,null,null,null,{"$f":"Courts!G8","v":0},null,true,null,null,"Crt4_AddCond_PO",true]
["Crt4_Revoke_PO",42,0,null,null,null,{"$f":"Courts!H8","v":0},null,true,null,null,"Crt4_Revoke_PO",true]
["Crt4_NoAction_NewCrim",42,0,null,null,null,{"$f":"Courts!D9","v":0},null,true,null,null,"Crt4_NoAction_NewCrim",true]
["Crt4_Warning_NewCrim",42,0,null,null,null,{"$f":"Courts!E9","v":0},null,true,null,null,"Crt4_Warning_NewCrim",true]
["Crt4_Fine_NewCrim",42,0,null,null,null,{"$f":"Courts!F9","v":0},null,true,null,null,"Crt4_Fine_NewCrim",true]
["Crt4_AddCond_NewCrim",42,0,null,null,null,{"$f":"Courts!G9","v":0},null,true,null,null,"Crt4_AddCond_NewCrim",true]
["Crt4_Revoke_NewCrim",42,0,null,null,null,{"$f":"Courts!H9","v":0},null,true,null,null,"Crt4_Revoke_NewCrim",true]
["Crt4_NoAction_BIP",42,0,null,null,null,{"$f":"Courts!D10","v":0},null,true,null,null,"Crt4_NoAction_BIP",true]
["Crt4_Warning_BIP",42,0,null,null,null,{"$f":"Courts!E10","v":0},null,true,null,null,"Crt4_Warning_BIP",true]
["Crt4_Fine_BIP",42,0,null,null,null,{"$f":"Courts!F10","v":0},null,true,null,null,"Crt4_Fine_BIP",true]
["Crt4_AddCond_BIP",42,0,null,null,null,{"$f":"Courts!G10","v":0},null,true,null,null,"Crt4_AddCond_BIP",true]
["Crt4_Revoke_BIP",42,0,null,null,null,{"$f":"Courts!H10","v":0},null,true,null,null,"Crt4_Revoke_BIP",true]
["Crt4_NoAction_OtherTreat",42,0,null,null,null,{"$f":"Courts!D11","v":0},null,true,null,null,"Crt4_NoAction_OtherTreat",true]
["Crt4_Warning_OtherTreat",42,0,null,null,null,{"$f":"Courts!E11","v":0},null,true,null,null,"Crt4_Warning_OtherTreat",true]
["Crt4_Fine_OtherTreat",42,0,null,null,null,{"$f":"Courts!F11","v":0},null,true,null,null,"Crt4_Fine_OtherTreat",true]
["Crt4_AddCond_OtherTreat",42,0,null,null,null,{"$f":"Courts!G11","v":0},null,true,null,null,"Crt4_AddCond_OtherTreat",true]
["Crt4_Revoke_OtherTreat",42,0,null,null,null,{"$f":"Courts!H11","v":0},null,true,null,null,"Crt4_Revoke_OtherTreat",true]
["Crt4_NoAction_OtherCond",42,0,null,null,null,{"$f":"Courts!D12","v":0},null,true,null,null,"Crt4_NoAction_OtherCond",true]
["Crt4_Warning_OtherCond",42,0,null,null,null,{"$f":"Courts!E12","v":0},null,true,null,null,"Crt4_Warning_OtherCond",true]
["Crt4_Fine_OtherCond",42,0,null,null,null,{"$f":"Courts!F12","v":0},null,true,null,null,"Crt4_Fine_OtherCond",true]
["Crt4_AddCond_OtherCond",42,0,null,null,null,{"$f":"Courts!G12","v":0},null,true,null,null,"Crt4_AddCond_OtherCond",true]
["Crt4_Revoke_OtherCond",42,0,null,null,null,{"$f":"Courts!H12","v":0},null,true,null,null,"Crt4_Revoke_OtherCond",true]
["Crt4_TOTAL_NoAction",42,0,null,null,null,null,null,null,null,null,"Crt4_TOTAL_NoAction",true]
["Crt4_TOTAL_Warning",42,0,null,null,null,null,null,null,null,null,"Crt4_TOTAL_Warning",true]
["Crt4_TOTAL_Fine",42,0,null,null,null,null,null,null,null,null,"Crt4_TOTAL_Fine",true]
["Crt4_TOTAL_AddCond",42,0,null,null,null,null,null,null,null,null,"Crt4_TOTAL_AddCond",true]
["Crt4_TOTAL_Revoke",42,0,null,null,null,null,null,null,null,null,"Crt4_TOTAL_Revoke",true]
["Crt5_VSRef_Govt",42,0,null,null,null,null,null,null,null,null,"Crt5_VSRef_Govt",true]
["Crt5_VSRef_NonGovt",42,0,null,null,null,null,null,null,null,null,"Crt5_VSRef_NonGovt",true]
["Crt6_Req_Temp_SA",42,0,null,null,null,null,null,null,null,null,"Crt6_Req_Temp_SA",true]
["Crt6_Req_Final_SA",42,0,null,null,null,null,null,null,null,null,"Crt6_Req_Final_SA",true]
["Crt6_Grnt_Temp_SA",42,0,null,null,null,null,null,null,null,null,"Crt6_Grnt_Temp_SA",true]
["Crt6_Grnt_Final_SA",42,0,null,null,null,null,null,null,null,null,"Crt6_Grnt_Final_SA",true]
["Crt6_Req_Temp_DV",42,0,null,null,null,null,null,null,null,null,"Crt6_Req_Temp_DV",true]
["Crt6_Req_Final_DV",42,0,null,null,null,null,null,null,null,null,"Crt6_Req_Final_DV",true]
["Crt6_Grnt_Temp_DV",42,0,null,null,null,null,null,null,null,null,"Crt6_Grnt_Temp_DV",true]
["Crt6_Grnt_Final_DV",42,0,null,null,null,null,null,null,null,null,"Crt6_Grnt_Final_DV",true]
["Crt6_Req_Temp_STK",42,0,null,null,null,null,null,null,null,null,"Crt6_Req_Temp_STK",true]
["Crt6_Req_Final_STK",42,0,null,null,null,null,null,null,null,null,"Crt6_Req_Final_STK",true]
["Crt6_Grnt_Temp_STK",42,0,null,null,null,null,null,null,null,null,"Crt6_Grnt_Temp_STK",true]
["Crt6_Grnt_Final_STK",42,0,null,null,null,null,null,null,null,null,"Crt6_Grnt_Final_STK",true]
["Crt7_Req_Crim",42,0,null,null,null,null,null,null,null,null,"Crt7_Req_Crim",true]
["Crt7_Grant_Crim",42,0,null,null,null,null,null,null,null,null,"Crt7_Grant_Crim",true]
["Prob_FundsUsed_1or0",42,0,null,null,null,{"$f":"SUM(DATA[Prob_FundsUsed_1or0])","v":0},null,{"$f":"C1096=G1096","v":true},null,null,"Prob_FundsUsed_1or0",true]
["Prob1_Offender_DV",42,0,null,null,null,null,null,null,null,null,"Prob1_Offender_DV",true]
["Prob1_Comp_NoViol_DV",42,0,null,null,null,null,null,null,null,null,"Prob1_Comp_NoViol_DV",true]
["Prob1_Comp_Viol_DV",42,0,null,null,null,null,null,null,null,null,"Prob1_Comp_Viol_DV",{"$f":"A1099=L1099","v":true}]
["Prob1_Offender_SA",42,0,null,null,null,null,null,null,null,null,"Prob1_Offender_SA",true]
["Prob1_Comp_NoViol_SA",42,0,null,null,null,null,null,null,null,null,"Prob1_Comp_NoViol_SA",true]
["Prob1_Comp_Viol_SA",42,0,null,null,null,null,null,null,null,null,"Prob1_Comp_Viol_SA",true]
["Prob1_Offender_STK",42,0,null,null,null,null,null,null,null,null,"Prob1_Offender_STK",true]
["Prob1_Comp_NoViol_STK",42,0,null,null,null,null,null,null,null,null,"Prob1_Comp_NoViol_STK",true]
["Prob1_Comp_Viol_STK",42,0,null,null,null,null,null,null,null,null,"Prob1_Comp_Viol_STK",true]
["Prob1_TOTAL_Offender",42,0,null,null,null,{"$f":"SUM(DATA[Prob1_TOTAL_Offender])","v":0},null,{"$f":"C1106=G1106","v":true},null,null,"Prob1_TOTAL_Offender",true]
["Prob1_TOTAL_Comp_NoViol",42,0,null,null,null,{"$f":"SUM(DATA[Prob1_TOTAL_Comp_NoViol])","v":0},null,{"$f":"C1107=G1107","v":true},null,null,"Prob1_TOTAL_Comp_NoViol",true]
["Prob1_TOTAL_Comp_Viol",42,0,null,null,null,{"$f":"SUM(DATA[Prob1_TOTAL_Comp_Viol])","v":0},null,true,null,null,"Prob1_TOTAL_Comp_Viol",true]
["Prob2_Face_Offender",42,0,null,null,null,null,null,null,null,null,"Prob2_Face_Offender",true]
["Prob2_Face_Contacts",42,0,null,null,null,null,null,null,null,null,"Prob2_Face_Contacts",true]
["Prob2_Phone_Offender",42,0,null,null,null,null,null,null,null,null,"Prob2_Phone_Offender",true]
["Prob2_Phone_Contacts",42,0,null,null,null,null,null,null,null,null,"Prob2_Phone_Contacts",true]
["Prob2_Surveil_Offender",42,0,null,null,null,null,null,null,null,null,"Prob2_Surveil_Offender",true]
["Prob2_Surveil_Contacts",42,0,null,null,null,null,null,null,null,null,"Prob2_Surveil_Contacts",true]
["Prob2_ElecMonitor_Offender",42,0,null,null,null,null,null,null,null,null,"Prob2_ElecMonitor_Offender",true]
["Prob2_VicOutreach_Vic",42,0,null,null,null,null,null,null,null,null,"Prob2_VicOutreach_Vic",true]
["Prob2_VicOutreach_Contacts",42,0,null,null,null,null,null,null,null,null,"Prob2_VicOutreach_Contacts",true]
["Prob3_NoAction_PO",42,0,null,null,null,{"$f":"'Probation & Parole'!D9","v":0},null,{"$f":"G1118=C1118","v":true},null,null,"Prob3_NoAction_PO",true]
["Prob3_Warning_PO",42,0,null,null,null,{"$f":"'Probation & Parole'!E9","v":0},null,{"$f":"G1119=C1119","v":true},null,null,"Prob3_Warning_PO",true]
["Prob3_Fine_PO",42,0,null,null,null,{"$f":"'Probation & Parole'!F9","v":0},null,true,null,null,"Prob3_Fine_PO",true]
["Prob3_AddCond_PO",42,0,null,null,null,{"$f":"'Probation & Parole'!G9","v":0},null,true,null,null,"Prob3_AddCond_PO",true]
["Prob3_Revoke_PO",42,0,null,null,null,{"$f":"'Probation & Parole'!H9","v":0},null,true,null,null,"Prob3_Revoke_PO",true]
["Prob3_NoAction_NewCrim",42,0,null,null,null,{"$f":"'Probation & Parole'!D10","v":0},null,true,null,null,"Prob3_NoAction_NewCrim",true]
["Prob3_Warning_NewCrim",42,0,null,null,null,{"$f":"'Probation & Parole'!E10","v":0},null,true,null,null,"Prob3_Warning_NewCrim",true]
["Prob3_Fine_NewCrim",42,0,null,null,null,{"$f":"'Probation & Parole'!F10","v":0},null,true,null,null,"Prob3_Fine_NewCrim",true]
["Prob3_AddCond_NewCrim",42,0,null,null,null,{"$f":"'Probation & Parole'!G10","v":0},null,true,null,null,"Prob3_AddCond_NewCrim",true]
["Prob3_Revoke_NewCrim",42,0,null,null,null,{"$f":"'Probation & Parole'!H10","v":0},null,true,null,null,"Prob3_Revoke_NewCrim",true]
["Prob3_NoAction_BIP",42,0,null,null,null,{"$f":"'Probation & Parole'!D11","v":0},null,true,null,null,"Prob3_NoAction_BIP",true]
["Prob3_Warning_BIP",42,0,null,null,null,{"$f":"'Probation & Parole'!E11","v":0},null,true,null,null,"Prob3_Warning_BIP",true]
["Prob3_Fine_BIP",42,0,null,null,null,{"$f":"'Probation & Parole'!F11","v":0},null,true,null,null,"Prob3_Fine_BIP",true]
["Prob3_AddCond_BIP",42,0,null,null,null,{"$f":"'Probation & Parole'!G11","v":0},null,true,null,null,"Prob3_AddCond_BIP",true]
["Prob3_Revoke_BIP",42,0,null,null,null,{"$f":"'Probation & Parole'!H11","v":0},null,true,null,null,"Prob3_Revoke_BIP",true]
["Prob3_NoAction_OtherTreat",42,0,null,null,null,{"$f":"'Probation & Parole'!D12","v":0},null,true,null,null,"Prob3_NoAction_OtherTreat",true]
["Prob3_Warning_OtherTreat",42,0,null,null,null,{"$f":"'Probation & Parole'!E12","v":0},null,true,null,null,"Prob3_Warning_OtherTreat",true]
["Prob3_Fine_OtherTreat",42,0,null,null,null,{"$f":"'Probation & Parole'!F12","v":0},null,true,null,null,"Prob3_Fine_OtherTreat",true]
["Prob3_AddCond_OtherTreat",42,0,null,null,null,{"$f":"'Probation & Parole'!G12","v":0},null,true,null,null,"Prob3_AddCond_OtherTreat",true]
["Prob3_Revoke_OtherTreat",42,0,null,null,null,{"$f":"'Probation & Parole'!H12","v":0},null,true,null,null,"Prob3_Revoke_OtherTreat",true]
["Prob3_NoAction_OtherCond",42,0,null,null,null,{"$f":"'Probation & Parole'!D13","v":0},null,true,null,null,"Prob3_NoAction_OtherCond",true]
["Prob3_Warning_OtherCond",42,0,null,null,null,{"$f":"'Probation & Parole'!E13","v":0},null,true,null,null,"Prob3_Warning_OtherCond",true]
["Prob3_Fine_OtherCond",42,0,null,null,null,{"$f":"'Probation & Parole'!F13","v":0},null,true,null,null,"Prob3_Fine_OtherCond",true]
["Prob3_AddCond_OtherCond",42,0,null,null,null,{"$f":"'Probation & Parole'!G13","v":0},null,true,null,null,"Prob3_AddCond_OtherCond",true]
["Prob3_Revoke_OtherCond",42,0,null,null,null,{"$f":"'Probation & Parole'!H13","v":0},null,true,null,null,"Prob3_Revoke_OtherCond",true]
["Prob3_TOTAL_NoAction",42,0,null,null,null,null,null,null,null,null,"Prob3_TOTAL_NoAction",true]
["Prob3_TOTAL_Warning",42,0,null,null,null,null,null,null,null,null,"Prob3_TOTAL_Warning",true]
["Prob3_TOTAL_Fine",42,0,null,null,null,null,null,null,null,null,"Prob3_TOTAL_Fine",true]
["Prob3_TOTAL_AddCond",42,0,null,null,null,null,null,null,null,null,"Prob3_TOTAL_AddCond",true]
["Prob3_TOTAL_Revoke",42,0,null,null,null,null,null,null,null,null,"Prob3_TOTAL_Revoke",true]
["Prob4_VSRef_Govt",42,0,null,null,null,null,null,null,null,null,"Prob4_VSRef_Govt",true]
["Prob4_VSRef_NonGovt",42,0,null,null,null,null,null,null,null,null,"Prob4_VSRef_NonGovt",true]
["BIP_FundsUsed_1or0",42,0,null,null,null,{"$f":"SUM(DATA[BIP_FundsUsed_1or0])","v":0},null,{"$f":"C1150=G1150","v":true},null,null,"BIP_FundsUsed_1or0",true]
["BIP1_Offender_BIP",42,0,null,null,null,{"$f":"SUM(DATA[BIP1_Offender_BIP])","v":0},null,{"$f":"C1151=G1151","v":true},null,null,"BIP1_Offender_BIP",true]
["BIP2_Complete_BIP",42,0,null,null,null,{"$f":"BIP!D8","v":0},null,true,null,null,"BIP2_Complete_BIP",true]
["BIP2_Terminate_BIP",42,0,null,null,null,{"$f":"BIP!D9","v":0},null,true,null,null,"BIP2_Terminate_BIP",true]
["BIP2_Return_BIP",42,0,null,null,null,{"$f":"BIP!D10","v":0},null,true,null,null,"BIP2_Return_BIP",true]
["BIP2_Other_BIP",42,0,null,null,null,{"$f":"BIP!D11","v":0},null,true,null,null,"BIP2_Other_BIP",true]
["BIP3_Weeks_A",42,0,null,null,null,null,null,null,null,null,"BIP3_Weeks_A",true]
["BIP3_Weeks_B",42,0,null,null,null,null,null,null,null,null,"BIP3_Weeks_B",true]
["BIP3_Weeks_C",42,0,null,null,null,null,null,null,null,null,"BIP3_Weeks_C",true]
["Valid N (listwise)",42,null,null,null,null,null,null,null,null,null,"Valid N (listwise)",true]

{"sheet":"RNS","index":2,"n_rows":17,"n_cols":9,"rows_kept":17,"cut":false,"hidden":true,"merged":[]}
[null,"Reason","Partially Served","Count","Not Served","Count",null,"Top 5 partially","Top 5 Not"]
[null,"Other","VS4_Other_PSrvd",{"$f":"SUM(INDEX(DATA!$UK:$VP,0,MATCH(C2,DATA!$UK$1:$VP$1,0)))+(ROW(C2)*0.001)","v":2E-3},"VS4_Other_PSrvd",{"$f":"SUM(INDEX(DATA!$UK:$VP,0,MATCH(E2,DATA!$UK$1:$VP$1,0)))+(ROW(E2)*0.001)","v":2E-3},null,{"$f":"IF(LARGE($D$2:$D$17,1)<1,\"\",(INDEX($B$2:$B$17,MATCH(LARGE($D$2:$D$17,1),$D$2:$D$17,0))))","v":"Program reached capacity"},{"$f":"IF(LARGE($F$2:$F$17,1)<1,\"\",(INDEX($B$2:$B$17,MATCH(LARGE($F$2:$F$17,1),$F$2:$F$17,0))))","v":"Program reached capacity"}]
[null,"Transportation","VS4_Transport_PSrvd",{"$f":"SUM(INDEX(DATA!$UK:$VP,0,MATCH(C3,DATA!$UK$1:$VP$1,0)))+(ROW(C3)*0.001)","v":3.0000000000000001E-3},"VS4_Transport_PSrvd",{"$f":"SUM(INDEX(DATA!$UK:$VP,0,MATCH(E3,DATA!$UK$1:$VP$1,0)))+(ROW(E3)*0.001)","v":3.0000000000000001E-3},null,{"$f":"IF(LARGE($D$2:$D$17,2)<1,\"\",(INDEX($B$2:$B$17,MATCH(LARGE($D$2:$D$17,2),$D$2:$D$17,0))))","v":"Services inappropriate or inadequate for victims/survivors with mental health issues"},{"$f":"IF(LARGE($F$2:$F$17,2)<1,\"\",(INDEX($B$2:$B$17,MATCH(LARGE($F$2:$F$17,2),$F$2:$F$17,0))))","v":"Services inappropriate or inadequate for victims/survivors with mental health issues"}]
[null,"Services not available for victims/survivors accompanied by male adolescents","VS4_MaleAdolescent_PSrvd",{"$f":"SUM(INDEX(DATA!$UK:$VP,0,MATCH(C4,DATA!$UK$1:$VP$1,0)))+(ROW(C4)*0.001)","v":4.0000000000000001E-3},"VS4_MaleAdolescent_PSrvd",{"$f":"SUM(INDEX(DATA!$UK:$VP,0,MATCH(E4,DATA!$UK$1:$VP$1,0)))+(ROW(E4)*0.001)","v":4.0000000000000001E-3},null,{"$f":"IF(LARGE($D$2:$D$17,3)<1,\"\",(INDEX($B$2:$B$17,MATCH(LARGE($D$2:$D$17,3),$D$2:$D$17,0))))","v":"Services inappropriate or inadequate for victims/survivors with substance abuse issues"},{"$f":"IF(LARGE($F$2:$F$17,3)<1,\"\",(INDEX($B$2:$B$17,MATCH(LARGE($F$2:$F$17,3),$F$2:$F$17,0))))","v":"Services inappropriate or inadequate for victims/survivors with substance abuse issues"}]
[null,"Services not appropriate for victim/survivor","VS4_NotApprop_PSrvd",{"$f":"SUM(INDEX(DATA!$UK:$VP,0,MATCH(C5,DATA!$UK$1:$VP$1,0)))+(ROW(C5)*0.001)","v":5.0000000000000001E-3},"VS4_NotApprop_PSrvd",{"$f":"SUM(INDEX(DATA!$UK:$VP,0,MATCH(E5,DATA!$UK$1:$VP$1,0)))+(ROW(E5)*0.001)","v":5.0000000000000001E-3},null,{"$f":"IF(LARGE($D$2:$D$17,4)<1,\"\",(INDEX($B$2:$B$17,MATCH(LARGE($D$2:$D$17,4),$D$2:$D$17,0))))","v":"Program rules not acceptable to victim/survivor"},{"$f":"IF(LARGE($F$2:$F$17,4)<1,\"\",(INDEX($B$2:$B$17,MATCH(LARGE($F$2:$F$17,4),$F$2:$F$17,0))))","v":"Program rules not acceptable to victim/survivor"}]
[null,"Services inappropriate or inadequate for victims/survivors with substance abuse issues","VS4_SubAbuse_PSrvd",{"$f":"SUM(INDEX(DATA!$UK:$VP,0,MATCH(C6,DATA!$UK$1:$VP$1,0)))+(ROW(C6)*0.001)","v":3.0059999999999998},"VS4_SubAbuse_PSrvd",{"$f":"SUM(INDEX(DATA!$UK:$VP,0,MATCH(E6,DATA!$UK$1:$VP$1,0)))+(ROW(E6)*0.001)","v":3.0059999999999998},null,{"$f":"IF(LARGE($D$2:$D$17,5)<1,\"\",(INDEX($B$2:$B$17,MATCH(LARGE($D$2:$D$17,5),$D$2:$D$17,0))))","v":"Program unable to provide service due to limited resources/priority-setting"},{"$f":"IF(LARGE($F$2:$F$17,5)<1,\"\",(INDEX($B$2:$B$17,MATCH(LARGE($F$2:$F$17,5),$F$2:$F$17,0))))","v":"Program unable to provide service due to limited resources/priority-setting"}]
[null,"Services inappropriate or inadequate for victims/survivors with mental health issues","VS4_MH_PSrvd",{"$f":"SUM(INDEX(DATA!$UK:$VP,0,MATCH(C7,DATA!$UK$1:$VP$1,0)))+(ROW(C7)*0.001)","v":3.0070000000000001},"VS4_MH_PSrvd",{"$f":"SUM(INDEX(DATA!$UK:$VP,0,MATCH(E7,DATA!$UK$1:$VP$1,0)))+(ROW(E7)*0.001)","v":3.0070000000000001},null,{"$f":"IF(LARGE($D$2:$D$17,6)<1,\"\",(INDEX($B$2:$B$17,MATCH(LARGE($D$2:$D$17,6),$D$2:$D$17,0))))","v":""},{"$f":"IF(LARGE($F$2:$F$17,6)<1,\"\",(INDEX($B$2:$B$17,MATCH(LARGE($F$2:$F$17,6),$F$2:$F$17,0))))","v":""}]
[null,"Program unable to provide service due to limited resources/priority-setting","VS4_Resources_PSrvd",{"$f":"SUM(INDEX(DATA!$UK:$VP,0,MATCH(C8,DATA!$UK$1:$VP$1,0)))+(ROW(C8)*0.001)","v":1.008},"VS4_Resources_PSrvd",{"$f":"SUM(INDEX(DATA!$UK:$VP,0,MATCH(E8,DATA!$UK$1:$VP$1,0)))+(ROW(E8)*0.001)","v":1.008},null,{"$f":"IF(LARGE($D$2:$D$17,7)<1,\"\",(INDEX($B$2:$B$17,MATCH(LARGE($D$2:$D$17,7),$D$2:$D$17,0))))","v":""},{"$f":"IF(LARGE($F$2:$F$17,7)<1,\"\",(INDEX($B$2:$B$17,MATCH(LARGE($F$2:$F$17,7),$F$2:$F$17,0))))","v":""}]
[null,"Program rules not acceptable to victim/survivor","VS4_Rules_PSrvd",{"$f":"SUM(INDEX(DATA!$UK:$VP,0,MATCH(C9,DATA!$UK$1:$VP$1,0)))+(ROW(C9)*0.001)","v":1.0089999999999999},"VS4_Rules_PSrvd",{"$f":"SUM(INDEX(DATA!$UK:$VP,0,MATCH(E9,DATA!$UK$1:$VP$1,0)))+(ROW(E9)*0.001)","v":1.0089999999999999},null,{"$f":"IF(LARGE($D$2:$D$17,8)<1,\"\",(INDEX($B$2:$B$17,MATCH(LARGE($D$2:$D$17,8),$D$2:$D$17,0))))","v":""},{"$f":"IF(LARGE($F$2:$F$17,8)<1,\"\",(INDEX($B$2:$B$17,MATCH(LARGE($F$2:$F$17,8),$F$2:$F$17,0))))","v":""}]
[null,"Program reached capacity","VS4_Capacity_PSrvd",{"$f":"SUM(INDEX(DATA!$UK:$VP,0,MATCH(C10,DATA!$UK$1:$VP$1,0)))+(ROW(C10)*0.001)","v":3.01},"VS4_Capacity_PSrvd",{"$f":"SUM(INDEX(DATA!$UK:$VP,0,MATCH(E10,DATA!$UK$1:$VP$1,0)))+(ROW(E10)*0.001)","v":3.01},null,{"$f":"IF(LARGE($D$2:$D$17,9)<1,\"\",(INDEX($B$2:$B$17,MATCH(LARGE($D$2:$D$17,9),$D$2:$D$17,0))))","v":""},{"$f":"IF(LARGE($F$2:$F$17,9)<1,\"\",(INDEX($B$2:$B$17,MATCH(LARGE($F$2:$F$17,9),$F$2:$F$17,0))))","v":""}]
[null,"Lack of childcare","VS4_Childcare_PSrvd",{"$f":"SUM(INDEX(DATA!$UK:$VP,0,MATCH(C11,DATA!$UK$1:$VP$1,0)))+(ROW(C11)*0.001)","v":1.0999999999999999E-2},"VS4_Childcare_PSrvd",{"$f":"SUM(INDEX(DATA!$UK:$VP,0,MATCH(E11,DATA!$UK$1:$VP$1,0)))+(ROW(E11)*0.001)","v":1.0999999999999999E-2},null,{"$f":"IF(LARGE($D$2:$D$17,10)<1,\"\",(INDEX($B$2:$B$17,MATCH(LARGE($D$2:$D$17,10),$D$2:$D$17,0))))","v":""},{"$f":"IF(LARGE($F$2:$F$17,10)<1,\"\",(INDEX($B$2:$B$17,MATCH(LARGE($F$2:$F$17,10),$F$2:$F$17,0))))","v":""}]
[null,"Insufficient or lack of services for people with disabilities","VS4_Disability_PSrvd",{"$f":"SUM(INDEX(DATA!$UK:$VP,0,MATCH(C12,DATA!$UK$1:$VP$1,0)))+(ROW(C12)*0.001)","v":1.2E-2},"VS4_Disability_PSrvd",{"$f":"SUM(INDEX(DATA!$UK:$VP,0,MATCH(E12,DATA!$UK$1:$VP$1,0)))+(ROW(E12)*0.001)","v":1.2E-2},null,{"$f":"IF(LARGE($D$2:$D$17,11)<1,\"\",(INDEX($B$2:$B$17,MATCH(LARGE($D$2:$D$17,11),$D$2:$D$17,0))))","v":""},{"$f":"IF(LARGE($F$2:$F$17,11)<1,\"\",(INDEX($B$2:$B$17,MATCH(LARGE($F$2:$F$17,11),$F$2:$F$17,0))))","v":""}]
[null,"Insufficient or lack of language capacity","VS4_Language_PSrvd",{"$f":"SUM(INDEX(DATA!$UK:$VP,0,MATCH(C13,DATA!$UK$1:$VP$1,0)))+(ROW(C13)*0.001)","v":1.3000000000000001E-2},"VS4_Language_PSrvd",{"$f":"SUM(INDEX(DATA!$UK:$VP,0,MATCH(E13,DATA!$UK$1:$VP$1,0)))+(ROW(E13)*0.001)","v":1.3000000000000001E-2},null,{"$f":"IF(LARGE($D$2:$D$17,12)<1,\"\",(INDEX($B$2:$B$17,MATCH(LARGE($D$2:$D$17,12),$D$2:$D$17,0))))","v":""},{"$f":"IF(LARGE($F$2:$F$17,12)<1,\"\",(INDEX($B$2:$B$17,MATCH(LARGE($F$2:$F$17,12),$F$2:$F$17,0))))","v":""}]
[null,"Insufficient or lack of culturally appropriate services","VS4_CulturalSrv_PSrvd",{"$f":"SUM(INDEX(DATA!$UK:$VP,0,MATCH(C14,DATA!$UK$1:$VP$1,0)))+(ROW(C14)*0.001)","v":1.4E-2},"VS4_CulturalSrv_PSrvd",{"$f":"SUM(INDEX(DATA!$UK:$VP,0,MATCH(E14,DATA!$UK$1:$VP$1,0)))+(ROW(E14)*0.001)","v":1.4E-2},null,{"$f":"IF(LARGE($D$2:$D$17,13)<1,\"\",(INDEX($B$2:$B$17,MATCH(LARGE($D$2:$D$17,13),$D$2:$D$17,0))))","v":""},{"$f":"IF(LARGE($F$2:$F$17,13)<1,\"\",(INDEX($B$2:$B$17,MATCH(LARGE($F$2:$F$17,13),$F$2:$F$17,0))))","v":""}]
[null,"Hours of operation","VS4_Hours_PSrvd",{"$f":"SUM(INDEX(DATA!$UK:$VP,0,MATCH(C15,DATA!$UK$1:$VP$1,0)))+(ROW(C15)*0.001)","v":1.4999999999999999E-2},"VS4_Hours_PSrvd",{"$f":"SUM(INDEX(DATA!$UK:$VP,0,MATCH(E15,DATA!$UK$1:$VP$1,0)))+(ROW(E15)*0.001)","v":1.4999999999999999E-2},null,{"$f":"IF(LARGE($D$2:$D$17,14)<1,\"\",(INDEX($B$2:$B$17,MATCH(LARGE($D$2:$D$17,14),$D$2:$D$17,0))))","v":""},{"$f":"IF(LARGE($F$2:$F$17,14)<1,\"\",(INDEX($B$2:$B$17,MATCH(LARGE($F$2:$F$17,14),$F$2:$F$17,0))))","v":""}]
[null,"Did not meet statutory requirements","VS4_StatReq_PSrvd",{"$f":"SUM(INDEX(DATA!$UK:$VP,0,MATCH(C16,DATA!$UK$1:$VP$1,0)))+(ROW(C16)*0.001)","v":1.6E-2},"VS4_StatReq_PSrvd",{"$f":"SUM(INDEX(DATA!$UK:$VP,0,MATCH(E16,DATA!$UK$1:$VP$1,0)))+(ROW(E16)*0.001)","v":1.6E-2},null,{"$f":"IF(LARGE($D$2:$D$17,15)<1,\"\",(INDEX($B$2:$B$17,MATCH(LARGE($D$2:$D$17,15),$D$2:$D$17,0))))","v":""},{"$f":"IF(LARGE($F$2:$F$17,15)<1,\"\",(INDEX($B$2:$B$17,MATCH(LARGE($F$2:$F$17,15),$F$2:$F$17,0))))","v":""}]
[null,"Conflict of interest","VS4_Conflict_PSrvd",{"$f":"SUM(INDEX(DATA!$UK:$VP,0,MATCH(C17,DATA!$UK$1:$VP$1,0)))+(ROW(C17)*0.001)","v":1.7000000000000001E-2},"VS4_Conflict_PSrvd",{"$f":"SUM(INDEX(DATA!$UK:$VP,0,MATCH(E17,DATA!$UK$1:$VP$1,0)))+(ROW(E17)*0.001)","v":1.7000000000000001E-2},null,{"$f":"IF(LARGE($D$2:$D$17,16)<1,\"\",(INDEX($B$2:$B$17,MATCH(LARGE($D$2:$D$17,16),$D$2:$D$17,0))))","v":""},{"$f":"IF(LARGE($F$2:$F$17,16)<1,\"\",(INDEX($B$2:$B$17,MATCH(LARGE($F$2:$F$17,16),$F$2:$F$17,0))))","v":""}]

{"sheet":"Highlights","index":3,"n_rows":26,"n_cols":4,"rows_kept":26,"cut":false,"hidden":false,"merged":[[11,1,11,3],[23,1,23,16],[24,1,24,16],[25,1,25,16]]}
[{"$f":"\"State Highlights - \"&DATA!D2&\" STOP Administrators Report\"","v":"State Highlights - 2020 STOP Administrators Report"}]
["OREGON"]
[]
[null,{"$f":"\"-    \"&COUNT(DATA[ID])&\" total subgrantees\"","v":"-    42 total subgrantees"}]
[null,{"$f":"\"-    \"&Staff!D28&\" total staff FTEs\"","v":"-    24.99 total staff FTEs"}]
[null,{"$f":"\"-    \"&TEXT(Training!$D$37,\"###,###\")&\" total professionals trained\"","v":"-    3,166 total professionals trained"}]
[null,{"$f":"\"-    \"&TEXT('Victim Services'!D23,\"###,###\")&\" total victims/survivors receiving services\"","v":"-    5,573 total victims/survivors receiving services"}]
[null,{"$f":"\"-    \"&'Law Enforcement'!$G$9&\" total domestic violence/dating violence, sexual assault, or stalking-related cases investigated by law enforcement officers\"","v":"-    0 total domestic violence/dating violence, sexual assault, or stalking-related cases investigated by law enforcement officers"}]
[null,{"$f":"\"-    \"&TEXT(SUM(Prosecution!D9:F9),\"###,###\")&\" total domestic violence/dating violence, sexual assault, or stalking-related case referrals accepted for prosecution\"","v":"-    1,198 total domestic violence/dating violence, sexual assault, or stalking-related case referrals accepted for prosecution"}]
[null,{"$f":"\"-    \"&TEXT(SUM(Prosecution!D17:D32),\"###,###\")&\" total domestic violence/dating violence, sexual assault, or stalking-related cases disposed of\"","v":"-    871 total domestic violence/dating violence, sexual assault, or stalking-related cases disposed of"}]
[]
[null,"Protection orders, summed across victim services, law enforcement, and prosecution sections"]
[null,"Sexual assault protection orders","Temporary orders","Final orders"]
[null,"Number requested",{"$f":"SUM(DATA[VS10_Req_Temp_SA],DATA[LE3_Req_Temp_SA],DATA[Pros6_Req_Temp_SA])","v":24},{"$f":"SUM(DATA[VS10_Req_Final_SA],DATA[LE3_Req_Final_SA],DATA[Pros6_Req_Final_SA])","v":8}]
[null,"Number granted",{"$f":"SUM(DATA[VS10_Grnt_Temp_SA],DATA[LE3_Grnt_Temp_SA],DATA[Pros6_Grnt_Temp_SA])","v":18},{"$f":"SUM(DATA[VS10_Grnt_Final_SA],DATA[LE3_Grnt_Final_SA],DATA[Pros6_Grnt_Final_SA])","v":7}]
[null,"Domestic violence/dating violence protection orders","Temporary orders","Final orders"]
[null,"Number requested",{"$f":"SUM(DATA[VS10_Req_Temp_DV],DATA[LE3_Req_Temp_DV],DATA[Pros6_Req_Temp_DV])","v":1188},{"$f":"SUM(DATA[VS10_Req_Final_DV],DATA[LE3_Req_Final_DV],DATA[Pros6_Req_Final_DV])","v":190}]
[null,"Number granted",{"$f":"SUM(DATA[VS10_Grnt_Temp_DV],DATA[LE3_Grnt_Temp_DV],DATA[Pros6_Grnt_Temp_DV])","v":951},{"$f":"SUM(DATA[VS10_Grnt_Final_DV],DATA[LE3_Grnt_Final_DV],DATA[Pros6_Grnt_Final_DV])","v":96}]
[null,"Stalking protection orders","Temporary orders","Final orders"]
[null,"Number requested",{"$f":"SUM(DATA[VS10_Req_Temp_STK],DATA[LE3_Req_Temp_STK],DATA[Pros6_Req_Temp_STK])","v":144},{"$f":"SUM(DATA[VS10_Req_Final_STK],DATA[LE3_Req_Final_STK],DATA[Pros6_Req_Final_STK])","v":36}]
[null,"Number granted",{"$f":"SUM(DATA[VS10_Grnt_Temp_STK],DATA[LE3_Grnt_Temp_STK],DATA[Pros6_Grnt_Temp_STK])","v":111},{"$f":"SUM(DATA[VS10_Grnt_Final_STK],DATA[LE3_Grnt_Final_STK],DATA[Pros6_Grnt_Final_STK])","v":33}]
[]
[]
[null,"Data Presentation and Interpretation"]
[null,{"$f":"\"This data dashboard is based on data submitted by the STOP Formula State Administrator and reflects activities supported by STOP Formula subgrant awards during the \"&DATA!D2&\" calendar year.\"","v":"This data dashboard is based on data submitted by the STOP Formula State Administrator and reflects activities supported by STOP Formula subgrant awards during the 2020 calendar year."}]
[null,"STOP Formula subgrantees fill out progress reporting forms on an annual basis and submit those annual reports to the STOP Administrator in their respective state or territory for review. The STOP Administrator in each state or territory submits the annual subgrantee reporting forms to the Violence Against Women Act Measuring Effectiveness Initiative (VAWA MEI), a project located at the Muskie School of Public Service at the University of Southern Maine. Under a technical assistance award from the Office on Violence Against Women (OVW), VAWA MEI collects this subgrantee data from STOP Administrators, and then analyzes and compiles the subgrantee data dashboards for each STOP Administrator.\n\nWhile reviewing the data in this dashboard, please consider the following:\n• Percentages throughout the report may not add to 100 percent due to rounding.\n• In some cases, due to rounding, <1% is used to indicate that percentages are smaller than 0.5%, but greater than 0%.\n• In other cases, due to rounding, numbers may appear the same while their percentages are different.\n• The overall number of victims served represents an unduplicated count; this means that each victim is counted only once by each subgrantee, regardless of the number of times that victim received services during each calendar year. \n• Victims are reported only once for each type of service received during the calendar year. For example, the same victim might seek legal advocacy twice and seek victim advocacy three times. Subgrantees would report two counts of services provided (one legal advocacy service and one victim advocacy service) and one victim served.\n• Because victims can only be counted once, they must be reported under only one primary victimization, regardless of how many times that victims received services during a calendar year. It is not uncommon for victims to experience more than one type of victimization (e.g., domestic violence and stalking, or domestic violence and sexual assault), but that fact is not reflected in the reported percentages of sexual assault, domestic violence, dating violence, and stalking victims served."]

{"sheet":"General Grant Information","index":4,"n_rows":30,"n_cols":5,"rows_kept":30,"cut":false,"hidden":false,"merged":[[9,2,10,2],[9,3,9,4]]}
[{"$f":"\"General Grant Information - \"&DATA!D2&\" STOP Administrators Report\"","v":"General Grant Information - 2020 STOP Administrators Report"}]
[{"$f":"Highlights!A2","v":"OREGON"}]
[]
[null,{"$f":"\"-    Information for this report was submitted by \"&COUNT(DATA[ID])&\" individual subgrantees for the January 1 – December 31, \"&DATA!D2&\" reporting period.\"","v":"-    Information for this report was submitted by 42 individual subgrantees for the January 1 – December 31, 2020 reporting period."}]
[null,{"$f":"\"-    \"&COUNTIF(DATA[GI6_FBO],\"YES\")&\" (\"&ROUND(100*COUNTIF(DATA[GI6_FBO],\"YES\")/COUNT(DATA[ID]),1)&\"%) subgrantee(s) were faith-based organizations.\"","v":"-    2 (4.8%) subgrantee(s) were faith-based organizations."}]
[null,{"$f":"\"-    \"&COUNTIF(DATA[GI6_CultSpec],\"YES\")&\" (\"&ROUND(100*COUNTIF(DATA[GI6_CultSpec],\"YES\")/COUNT(DATA[ID]),1)&\"%) subgrantee(s) were culturally-specific community-based organizations.\"","v":"-    9 (21.4%) subgrantee(s) were culturally-specific community-based organizations."}]
[null,{"$f":"\"-    \"&COUNTIF(DATA[GI8_TribalPop],\"YES\")&\" (\"&ROUND(100*COUNTIF(DATA[GI8_TribalPop],\"YES\")/COUNT(DATA[ID]),1)&\"%) subgrantees reported using STOP Program funds for projects that specifically addressed tribal populations.\"","v":"-    10 (23.8%) subgrantees reported using STOP Program funds for projects that specifically addressed tribal populations."}]
[null,{"$f":"\"-    The following is a complete list of the types of funded organizations:\"","v":"-    The following is a complete list of the types of funded organizations:"}]
[]
[null,null,"Type of funded organization","Subgrantees reporting"]
[null,null,null,"Number","Percent"]
[null,null,"Victim services (dual)",{"$f":"COUNTIF(DATA[GI5_OrgType],\"GI5_OrgType_VicServ_Dual\")","v":17},{"$f":"IF(SUM($D$12:$D$30)=0,\"N/A\",IF(AND(D12/SUM($D$12:$D$30)<0.005,D12/SUM($D$12:$D$30)>0),\"<1%\",D12/SUM($D$12:$D$30)))","v":0.40476190476190477}]
[null,null,"Prosecution",{"$f":"COUNTIF(DATA[GI5_OrgType],\"GI5_OrgType_Prosecution\")","v":6},{"$f":"IF(SUM($D$12:$D$30)=0,\"N/A\",IF(AND(D13/SUM($D$12:$D$30)<0.005,D13/SUM($D$12:$D$30)>0),\"<1%\",D13/SUM($D$12:$D$30)))","v":0.14285714285714285}]
[null,null,"Tribal sexual assault and/or domestic violence program",{"$f":"COUNTIF(DATA[GI5_OrgType],\"GI5_OrgType_TribProg\")","v":6},{"$f":"IF(SUM($D$12:$D$30)=0,\"N/A\",IF(AND(D14/SUM($D$12:$D$30)<0.005,D14/SUM($D$12:$D$30)>0),\"<1%\",D14/SUM($D$12:$D$30)))","v":0.14285714285714285}]
[null,null,"Victim services (domestic violence)",{"$f":"COUNTIF(DATA[GI5_OrgType],\"GI5_OrgType_VicServ_DV\")","v":5},{"$f":"IF(SUM($D$12:$D$30)=0,\"N/A\",IF(AND(D15/SUM($D$12:$D$30)<0.005,D15/SUM($D$12:$D$30)>0),\"<1%\",D15/SUM($D$12:$D$30)))","v":0.11904761904761904}]
[null,null,"Court",{"$f":"COUNTIF(DATA[GI5_OrgType],\"GI5_OrgType_Court\")","v":2},{"$f":"IF(SUM($D$12:$D$30)=0,\"N/A\",IF(AND(D16/SUM($D$12:$D$30)<0.005,D16/SUM($D$12:$D$30)>0),\"<1%\",D16/SUM($D$12:$D$30)))","v":4.7619047619047616E-2}]
[null,null,"Law enforcement",{"$f":"COUNTIF(DATA[GI5_OrgType],\"GI5_OrgType_LawEnforce\")","v":2},{"$f":"IF(SUM($D$12:$D$30)=0,\"N/A\",IF(AND(D17/SUM($D$12:$D$30)<0.005,D17/SUM($D$12:$D$30)>0),\"<1%\",D17/SUM($D$12:$D$30)))","v":4.7619047619047616E-2}]
[null,null,"Other",{"$f":"COUNTIF(DATA[GI5_OrgType],\"GI5_OrgType_Other\")","v":2},{"$f":"IF(SUM($D$12:$D$30)=0,\"N/A\",IF(AND(D18/SUM($D$12:$D$30)<0.005,D18/SUM($D$12:$D$30)>0),\"<1%\",D18/SUM($D$12:$D$30)))","v":4.7619047619047616E-2}]
[null,null,"Community-based organization",{"$f":"COUNTIF(DATA[GI5_OrgType],\"GI5_OrgType_Community\")","v":1},{"$f":"IF(SUM($D$12:$D$30)=0,\"N/A\",IF(AND(D19/SUM($D$12:$D$30)<0.005,D19/SUM($D$12:$D$30)>0),\"<1%\",D19/SUM($D$12:$D$30)))","v":2.3809523809523808E-2}]
[null,null,"Victim services (sexual assault)",{"$f":"COUNTIF(DATA[GI5_OrgType],\"GI5_OrgType_VicServ_SA\")","v":1},{"$f":"IF(SUM($D$12:$D$30)=0,\"N/A\",IF(AND(D20/SUM($D$12:$D$30)<0.005,D20/SUM($D$12:$D$30)>0),\"<1%\",D20/SUM($D$12:$D$30)))","v":2.3809523809523808E-2}]
[null,null,"Government agency",{"$f":"COUNTIF(DATA[GI5_OrgType],\"GI5_OrgType_GovtAgency\")","v":0},{"$f":"IF(SUM($D$12:$D$30)=0,\"N/A\",IF(AND(D21/SUM($D$12:$D$30)<0.005,D21/SUM($D$12:$D$30)>0),\"<1%\",D21/SUM($D$12:$D$30)))","v":0}]
[null,null,"Legal services organization",{"$f":"COUNTIF(DATA[GI5_OrgType],\"GI5_OrgType_LegalOrg\")","v":0},{"$f":"IF(SUM($D$12:$D$30)=0,\"N/A\",IF(AND(D22/SUM($D$12:$D$30)<0.005,D22/SUM($D$12:$D$30)>0),\"<1%\",D22/SUM($D$12:$D$30)))","v":0}]
[null,null,"Probation, parole, or other correctional agency",{"$f":"COUNTIF(DATA[GI5_OrgType],\"GI5_OrgType_Probation\")","v":0},{"$f":"IF(SUM($D$12:$D$30)=0,\"N/A\",IF(AND(D23/SUM($D$12:$D$30)<0.005,D23/SUM($D$12:$D$30)>0),\"<1%\",D23/SUM($D$12:$D$30)))","v":0}]
[null,null,"State coalition (domestic violence)",{"$f":"COUNTIF(DATA[GI5_OrgType],\"GI5_OrgType_StateCoal_DV\")","v":0},{"$f":"IF(SUM($D$12:$D$30)=0,\"N/A\",IF(AND(D24/SUM($D$12:$D$30)<0.005,D24/SUM($D$12:$D$30)>0),\"<1%\",D24/SUM($D$12:$D$30)))","v":0}]
[null,null,"State coalition (dual)",{"$f":"COUNTIF(DATA[GI5_OrgType],\"GI5_OrgType_StateCoal_Dual\")","v":0},{"$f":"IF(SUM($D$12:$D$30)=0,\"N/A\",IF(AND(D25/SUM($D$12:$D$30)<0.005,D25/SUM($D$12:$D$30)>0),\"<1%\",D25/SUM($D$12:$D$30)))","v":0}]
[null,null,"State coalition (sexual assault)",{"$f":"COUNTIF(DATA[GI5_OrgType],\"GI5_OrgType_StateCoal_SA\")","v":0},{"$f":"IF(SUM($D$12:$D$30)=0,\"N/A\",IF(AND(D26/SUM($D$12:$D$30)<0.005,D26/SUM($D$12:$D$30)>0),\"<1%\",D26/SUM($D$12:$D$30)))","v":0}]
[null,null,"Tribal coalition",{"$f":"COUNTIF(DATA[GI5_OrgType],\"GI5_OrgType_TribCoal\")","v":0},{"$f":"IF(SUM($D$12:$D$30)=0,\"N/A\",IF(AND(D27/SUM($D$12:$D$30)<0.005,D27/SUM($D$12:$D$30)>0),\"<1%\",D27/SUM($D$12:$D$30)))","v":0}]
[null,null,"Tribal government",{"$f":"COUNTIF(DATA[GI5_OrgType],\"GI5_OrgType_TribGovt\")","v":0},{"$f":"IF(SUM($D$12:$D$30)=0,\"N/A\",IF(AND(D28/SUM($D$12:$D$30)<0.005,D28/SUM($D$12:$D$30)>0),\"<1%\",D28/SUM($D$12:$D$30)))","v":0}]
[null,null,"Unit of local government",{"$f":"COUNTIF(DATA[GI5_OrgType],\"GI5_OrgType_LocalGovt\")","v":0},{"$f":"IF(SUM($D$12:$D$30)=0,\"N/A\",IF(AND(D29/SUM($D$12:$D$30)<0.005,D29/SUM($D$12:$D$30)>0),\"<1%\",D29/SUM($D$12:$D$30)))","v":0}]
[null,null,"University/school",{"$f":"COUNTIF(DATA[GI5_OrgType],\"GI5_OrgType_University\")","v":0},{"$f":"IF(SUM($D$12:$D$30)=0,\"N/A\",IF(AND(D30/SUM($D$12:$D$30)<0.005,D30/SUM($D$12:$D$30)>0),\"<1%\",D30/SUM($D$12:$D$30)))","v":0}]

{"sheet":"Staff","index":5,"n_rows":28,"n_cols":5,"rows_kept":28,"cut":false,"hidden":false,"merged":[]}
[{"$f":"\"Staff - \"&DATA!D2&\" STOP Administrators Report\"","v":"Staff - 2020 STOP Administrators Report"}]
[{"$f":"'General Grant Information'!A2","v":"OREGON"}]
[]
[null,{"$f":"\"-    Number of individual subgrantees using STOP Program funds for staff: \"&SUM(DATA[St_FundsUsed_1or0])&\" (\"&ROUND(100*SUM(DATA[St_FundsUsed_1or0])/COUNT(DATA[ID]),1)&\"% of all subgrantees reporting)\"","v":"-    Number of individual subgrantees using STOP Program funds for staff: 38 (90.5% of all subgrantees reporting)"}]
[null,{"$f":"\"-    The following is a complete list of the types of staff positions funded with STOP Program grant funds:\"","v":"-    The following is a complete list of the types of staff positions funded with STOP Program grant funds:"}]
[]
[null,null,"Staff","FTEs","Percent  of Total FTEs"]
[null,null,"Victim advocate",{"$f":"SUM(DATA[St1_VicAdv])","v":10.890000000000002},{"$f":"IF($D$28=0,\"N/A\",IF(AND(D8/SUM($D$8:$D$27)<0.005,D8/SUM($D$8:$D$27)>0),\"<1%\",D8/SUM($D$8:$D$27)))","v":0.4357743097238897}]
[null,null,"Victim assistant",{"$f":"SUM(DATA[St1_VicAssist])","v":5.63},{"$f":"IF($D$28=0,\"N/A\",IF(AND(D9/SUM($D$8:$D$27)<0.005,D9/SUM($D$8:$D$27)>0),\"<1%\",D9/SUM($D$8:$D$27)))","v":0.22529011604641858}]
[null,null,"Program coordinator",{"$f":"SUM(DATA[St1_PrgmCoord])","v":2.4300000000000002},{"$f":"IF($D$28=0,\"N/A\",IF(AND(D10/SUM($D$8:$D$27)<0.005,D10/SUM($D$8:$D$27)>0),\"<1%\",D10/SUM($D$8:$D$27)))","v":9.7238895558223307E-2}]
[null,null,"Prosecutor",{"$f":"SUM(DATA[St1_Prosecutor])","v":2.41},{"$f":"IF($D$28=0,\"N/A\",IF(AND(D11/SUM($D$8:$D$27)<0.005,D11/SUM($D$8:$D$27)>0),\"<1%\",D11/SUM($D$8:$D$27)))","v":9.6438575430172077E-2}]
[null,null,"Legal advocate",{"$f":"SUM(DATA[St1_LegalAdv])","v":1.48},{"$f":"IF($D$28=0,\"N/A\",IF(AND(D12/SUM($D$8:$D$27)<0.005,D12/SUM($D$8:$D$27)>0),\"<1%\",D12/SUM($D$8:$D$27)))","v":5.922368947579032E-2}]
[null,null,"Investigator (prosecution-based)",{"$f":"SUM(DATA[St1_Investigator])","v":0.63},{"$f":"IF($D$28=0,\"N/A\",IF(AND(D13/SUM($D$8:$D$27)<0.005,D13/SUM($D$8:$D$27)>0),\"<1%\",D13/SUM($D$8:$D$27)))","v":2.5210084033613446E-2}]
[null,null,"Attorney",{"$f":"SUM(DATA[St1_Attorney])","v":0.49},{"$f":"IF($D$28=0,\"N/A\",IF(AND(D14/SUM($D$8:$D$27)<0.005,D14/SUM($D$8:$D$27)>0),\"<1%\",D14/SUM($D$8:$D$27)))","v":1.9607843137254902E-2}]
[null,null,"Trainer",{"$f":"SUM(DATA[St1_Trainer])","v":0.39},{"$f":"IF($D$28=0,\"N/A\",IF(AND(D15/SUM($D$8:$D$27)<0.005,D15/SUM($D$8:$D$27)>0),\"<1%\",D15/SUM($D$8:$D$27)))","v":1.5606242496998801E-2}]
[null,null,"Counselor",{"$f":"SUM(DATA[St1_Counselor])","v":0.38},{"$f":"IF($D$28=0,\"N/A\",IF(AND(D16/SUM($D$8:$D$27)<0.005,D16/SUM($D$8:$D$27)>0),\"<1%\",D16/SUM($D$8:$D$27)))","v":1.5206082432973191E-2}]
[null,null,"Support staff",{"$f":"SUM(DATA[St1_SuppStaff])","v":0.22},{"$f":"IF($D$28=0,\"N/A\",IF(AND(D17/SUM($D$8:$D$27)<0.005,D17/SUM($D$8:$D$27)>0),\"<1%\",D17/SUM($D$8:$D$27)))","v":8.8035214085634261E-3}]
[null,null,"Administrator",{"$f":"SUM(DATA[St1_Admin])","v":0.04},{"$f":"IF($D$28=0,\"N/A\",IF(AND(D18/SUM($D$8:$D$27)<0.005,D18/SUM($D$8:$D$27)>0),\"<1%\",D18/SUM($D$8:$D$27)))","v":"<1%"}]
[null,null,"Court personnel",{"$f":"SUM(DATA[St1_Court])","v":0},{"$f":"IF($D$28=0,\"N/A\",IF(AND(D19/SUM($D$8:$D$27)<0.005,D19/SUM($D$8:$D$27)>0),\"<1%\",D19/SUM($D$8:$D$27)))","v":0}]
[null,null,"Information technology staff",{"$f":"SUM(DATA[St1_ITstaff])","v":0},{"$f":"IF($D$28=0,\"N/A\",IF(AND(D20/SUM($D$8:$D$27)<0.005,D20/SUM($D$8:$D$27)>0),\"<1%\",D20/SUM($D$8:$D$27)))","v":0}]
[null,null,"Law enforcement officer",{"$f":"SUM(DATA[St1_LEO])","v":0},{"$f":"IF($D$28=0,\"N/A\",IF(AND(D21/SUM($D$8:$D$27)<0.005,D21/SUM($D$8:$D$27)>0),\"<1%\",D21/SUM($D$8:$D$27)))","v":0}]
[null,null,"Other",{"$f":"SUM(DATA[St1_Other])","v":0},{"$f":"IF($D$28=0,\"N/A\",IF(AND(D22/SUM($D$8:$D$27)<0.005,D22/SUM($D$8:$D$27)>0),\"<1%\",D22/SUM($D$8:$D$27)))","v":0}]
[null,null,"Outreach Worker",{"$f":"SUM(DATA[St1_Outreach])","v":0},{"$f":"IF($D$28=0,\"N/A\",IF(AND(D23/SUM($D$8:$D$27)<0.005,D23/SUM($D$8:$D$27)>0),\"<1%\",D23/SUM($D$8:$D$27)))","v":0}]
[null,null,"Paralegal",{"$f":"SUM(DATA[St1_Paralegal])","v":0},{"$f":"IF($D$28=0,\"N/A\",IF(AND(D24/SUM($D$8:$D$27)<0.005,D24/SUM($D$8:$D$27)>0),\"<1%\",D24/SUM($D$8:$D$27)))","v":0}]
[null,null,"Probation officer/offender monitor",{"$f":"SUM(DATA[St1_Probation])","v":0},{"$f":"IF($D$28=0,\"N/A\",IF(AND(D25/SUM($D$8:$D$27)<0.005,D25/SUM($D$8:$D$27)>0),\"<1%\",D25/SUM($D$8:$D$27)))","v":0}]
[null,null,"Sexual assault nurse examiner/sexual assault forensic examiner (SAFE/SANE)",{"$f":"SUM(DATA[St1_SANE])","v":0},{"$f":"IF($D$28=0,\"N/A\",IF(AND(D26/SUM($D$8:$D$27)<0.005,D26/SUM($D$8:$D$27)>0),\"<1%\",D26/SUM($D$8:$D$27)))","v":0}]
[null,null,"Translator/interpreter",{"$f":"SUM(DATA[St1_Translator])","v":0},{"$f":"IF($D$28=0,\"N/A\",IF(AND(D27/SUM($D$8:$D$27)<0.005,D27/SUM($D$8:$D$27)>0),\"<1%\",D27/SUM($D$8:$D$27)))","v":0}]
[null,null,"Total number of full time equivalent (FTE) staff funded",{"$f":"SUM($D$8:$D$27)","v":24.99},{"$f":"IF($D$28=0,\"N/A\",D28/SUM($D$8:$D$27))","v":1}]

{"sheet":"Training","index":6,"n_rows":37,"n_cols":5,"rows_kept":37,"cut":false,"hidden":false,"merged":[]}
[{"$f":"\"Training - \"&DATA!D2&\" STOP Administrators Report\"","v":"Training - 2020 STOP Administrators Report"}]
[{"$f":"'General Grant Information'!A2","v":"OREGON"}]
[]
[null,{"$f":"\"-    Number of individual subgrantees using STOP Program funds for training: \"&SUM(DATA[Tr_FundsUsed_1or0])&\" (\"&ROUND(100*SUM(DATA[Tr_FundsUsed_1or0])/COUNT(DATA[ID]),1)&\"% of all subgrantees reporting)\"","v":"-    Number of individual subgrantees using STOP Program funds for training: 9 (21.4% of all subgrantees reporting)"}]
[null,{"$f":"\"-    Total number of training events: \"&TEXT(SUM(DATA[Tr1_TrnEvents]),\"###,###\")","v":"-    Total number of training events: 47"}]
[null,{"$f":"\"-    Total number of people trained: \"&TEXT(SUM(DATA[Tr2_TOTAL]),\"###,###\")","v":"-    Total number of people trained: 3,166"}]
[null,{"$f":"\"-    The following is a complete list of the types of professionals trained:\"","v":"-    The following is a complete list of the types of professionals trained:"}]
[]
[null,null,"People trained","Number","Percent"]
[null,null,"Law enforcement officers",{"$f":"SUM(DATA[Tr2_LEO])","v":1301},{"$f":"IF($D$37=0,\"N/A\",IF(AND(D10/SUM($D$10:$D$36)<0.005,D10/SUM($D$10:$D$36)>0),\"<1%\",D10/SUM($D$10:$D$36)))","v":0.41092861655085283}]
[null,null,"Prosecutors",{"$f":"SUM(DATA[Tr2_Prosecutor])","v":929},{"$f":"IF($D$37=0,\"N/A\",IF(AND(D11/SUM($D$10:$D$36)<0.005,D11/SUM($D$10:$D$36)>0),\"<1%\",D11/SUM($D$10:$D$36)))","v":0.29343019583070118}]
[null,null,"Victim advocates",{"$f":"SUM(DATA[Tr2_VSProv_VicAdv])","v":626},{"$f":"IF($D$37=0,\"N/A\",IF(AND(D12/SUM($D$10:$D$36)<0.005,D12/SUM($D$10:$D$36)>0),\"<1%\",D12/SUM($D$10:$D$36)))","v":0.19772583701831964}]
[null,null,"Victim assistants",{"$f":"SUM(DATA[Tr2_VSProv_VicAssist])","v":74},{"$f":"IF($D$37=0,\"N/A\",IF(AND(D13/SUM($D$10:$D$36)<0.005,D13/SUM($D$10:$D$36)>0),\"<1%\",D13/SUM($D$10:$D$36)))","v":2.337334175615919E-2}]
[null,null,"Batterer intervention program staff",{"$f":"SUM(DATA[Tr2_BIP])","v":29},{"$f":"IF($D$37=0,\"N/A\",IF(AND(D14/SUM($D$10:$D$36)<0.005,D14/SUM($D$10:$D$36)>0),\"<1%\",D14/SUM($D$10:$D$36)))","v":9.1598231206569802E-3}]
[null,null,"Corrections personnel",{"$f":"SUM(DATA[Tr2_Corrections])","v":27},{"$f":"IF($D$37=0,\"N/A\",IF(AND(D15/SUM($D$10:$D$36)<0.005,D15/SUM($D$10:$D$36)>0),\"<1%\",D15/SUM($D$10:$D$36)))","v":8.5281111813013261E-3}]
[null,null,"Court personnel",{"$f":"SUM(DATA[Tr2_Court])","v":25},{"$f":"IF($D$37=0,\"N/A\",IF(AND(D16/SUM($D$10:$D$36)<0.005,D16/SUM($D$10:$D$36)>0),\"<1%\",D16/SUM($D$10:$D$36)))","v":7.896399241945672E-3}]
[null,null,"Volunteers",{"$f":"SUM(DATA[Tr2_Volunteer])","v":21},{"$f":"IF($D$37=0,\"N/A\",IF(AND(D17/SUM($D$10:$D$36)<0.005,D17/SUM($D$10:$D$36)>0),\"<1%\",D17/SUM($D$10:$D$36)))","v":6.6329753632343655E-3}]
[null,null,"Other",{"$f":"SUM(DATA[Tr2_Other])","v":20},{"$f":"IF($D$37=0,\"N/A\",IF(AND(D18/SUM($D$10:$D$36)<0.005,D18/SUM($D$10:$D$36)>0),\"<1%\",D18/SUM($D$10:$D$36)))","v":6.3171193935565384E-3}]
[null,null,"Attorneys/law students",{"$f":"SUM(DATA[Tr2_Attorney])","v":18},{"$f":"IF($D$37=0,\"N/A\",IF(AND(D19/SUM($D$10:$D$36)<0.005,D19/SUM($D$10:$D$36)>0),\"<1%\",D19/SUM($D$10:$D$36)))","v":5.6854074542008843E-3}]
[null,null,"Tribal government staff",{"$f":"SUM(DATA[Tr2_Govt_Tribal])","v":18},{"$f":"IF($D$37=0,\"N/A\",IF(AND(D20/SUM($D$10:$D$36)<0.005,D20/SUM($D$10:$D$36)>0),\"<1%\",D20/SUM($D$10:$D$36)))","v":5.6854074542008843E-3}]
[null,null,"Government agency staff",{"$f":"SUM(DATA[Tr2_Govt])","v":16},{"$f":"IF($D$37=0,\"N/A\",IF(AND(D21/SUM($D$10:$D$36)<0.005,D21/SUM($D$10:$D$36)>0),\"<1%\",D21/SUM($D$10:$D$36)))","v":5.0536955148452302E-3}]
[null,null,"SANEs/SAFEs",{"$f":"SUM(DATA[Tr2_HealthProf_SANE])","v":16},{"$f":"IF($D$37=0,\"N/A\",IF(AND(D22/SUM($D$10:$D$36)<0.005,D22/SUM($D$10:$D$36)>0),\"<1%\",D22/SUM($D$10:$D$36)))","v":5.0536955148452302E-3}]
[null,null,"Mental health professionals",{"$f":"SUM(DATA[Tr2_HealthProf_MH])","v":12},{"$f":"IF($D$37=0,\"N/A\",IF(AND(D23/SUM($D$10:$D$36)<0.005,D23/SUM($D$10:$D$36)>0),\"<1%\",D23/SUM($D$10:$D$36)))","v":"<1%"}]
[null,null,"Educators",{"$f":"SUM(DATA[Tr2_Educator])","v":10},{"$f":"IF($D$37=0,\"N/A\",IF(AND(D24/SUM($D$10:$D$36)<0.005,D24/SUM($D$10:$D$36)>0),\"<1%\",D24/SUM($D$10:$D$36)))","v":"<1%"}]
[null,null,"Faith-based organization staff",{"$f":"SUM(DATA[Tr2_FaithBased])","v":6},{"$f":"IF($D$37=0,\"N/A\",IF(AND(D25/SUM($D$10:$D$36)<0.005,D25/SUM($D$10:$D$36)>0),\"<1%\",D25/SUM($D$10:$D$36)))","v":"<1%"}]
[null,null,"Health professionals",{"$f":"SUM(DATA[Tr2_HealthProf])","v":5},{"$f":"IF($D$37=0,\"N/A\",IF(AND(D26/SUM($D$10:$D$36)<0.005,D26/SUM($D$10:$D$36)>0),\"<1%\",D26/SUM($D$10:$D$36)))","v":"<1%"}]
[null,null,"Legal services staff",{"$f":"SUM(DATA[Tr2_LegServ])","v":5},{"$f":"IF($D$37=0,\"N/A\",IF(AND(D27/SUM($D$10:$D$36)<0.005,D27/SUM($D$10:$D$36)>0),\"<1%\",D27/SUM($D$10:$D$36)))","v":"<1%"}]
[null,null,"Disability organization staff",{"$f":"SUM(DATA[Tr2_DisOrg])","v":2},{"$f":"IF($D$37=0,\"N/A\",IF(AND(D28/SUM($D$10:$D$36)<0.005,D28/SUM($D$10:$D$36)>0),\"<1%\",D28/SUM($D$10:$D$36)))","v":"<1%"}]
[null,null,"Translators/interpreters",{"$f":"SUM(DATA[Tr2_Translator])","v":2},{"$f":"IF($D$37=0,\"N/A\",IF(AND(D29/SUM($D$10:$D$36)<0.005,D29/SUM($D$10:$D$36)>0),\"<1%\",D29/SUM($D$10:$D$36)))","v":"<1%"}]
[null,null,"Advocacy organization staff",{"$f":"SUM(DATA[Tr2_AdvOrg])","v":1},{"$f":"IF($D$37=0,\"N/A\",IF(AND(D30/SUM($D$10:$D$36)<0.005,D30/SUM($D$10:$D$36)>0),\"<1%\",D30/SUM($D$10:$D$36)))","v":"<1%"}]
[null,null,"Elder organization staff",{"$f":"SUM(DATA[Tr2_Elder])","v":1},{"$f":"IF($D$37=0,\"N/A\",IF(AND(D31/SUM($D$10:$D$36)<0.005,D31/SUM($D$10:$D$36)>0),\"<1%\",D31/SUM($D$10:$D$36)))","v":"<1%"}]
[null,null,"Immigrant organization staff",{"$f":"SUM(DATA[Tr2_ImmOrg])","v":1},{"$f":"IF($D$37=0,\"N/A\",IF(AND(D32/SUM($D$10:$D$36)<0.005,D32/SUM($D$10:$D$36)>0),\"<1%\",D32/SUM($D$10:$D$36)))","v":"<1%"}]
[null,null,"Social service organization staff",{"$f":"SUM(DATA[Tr2_SocialServ])","v":1},{"$f":"IF($D$37=0,\"N/A\",IF(AND(D33/SUM($D$10:$D$36)<0.005,D33/SUM($D$10:$D$36)>0),\"<1%\",D33/SUM($D$10:$D$36)))","v":"<1%"}]
[null,null,"Sex offender treatment providers",{"$f":"SUM(DATA[Tr2_SexOffTreat])","v":0},{"$f":"IF($D$37=0,\"N/A\",IF(AND(D34/SUM($D$10:$D$36)<0.005,D34/SUM($D$10:$D$36)>0),\"<1%\",D34/SUM($D$10:$D$36)))","v":0}]
[null,null,"Substance abuse organization staff",{"$f":"SUM(DATA[Tr2_SubAbuse])","v":0},{"$f":"IF($D$37=0,\"N/A\",IF(AND(D35/SUM($D$10:$D$36)<0.005,D35/SUM($D$10:$D$36)>0),\"<1%\",D35/SUM($D$10:$D$36)))","v":0}]
[null,null,"Supervised visitation and exchange center staff",{"$f":"SUM(DATA[Tr2_SupVisit])","v":0},{"$f":"IF($D$37=0,\"N/A\",IF(AND(D36/SUM($D$10:$D$36)<0.005,D36/SUM($D$10:$D$36)>0),\"<1%\",D36/SUM($D$10:$D$36)))","v":0}]
[null,null,"Total number of professionals trained",{"$f":"SUM($D$10:$D$36)","v":3166},{"$f":"IF($D$37=0,\"N/A\",D37/SUM($D$10:$D$36))","v":1}]

{"sheet":"Victim Services","index":7,"n_rows":47,"n_cols":23,"rows_kept":47,"cut":false,"hidden":false,"merged":[[25,12,25,13],[26,12,26,13],[17,12,17,13],[17,14,17,15],[17,16,17,17],[23,12,23,13],[24,12,24,13],[27,16,27,17],[18,16,18,17],[19,16,19,17],[20,16,20,17],[21,16,21,17],[22,16,22,17],[23,16,23,17],[24,16,24,17],[25,16,25,17],[26,16,26,17],[27,12,27,13],[18,14,18,15],[19,14,19,15],[20,14,20,15],[21,14,21,15],[22,14,22,15],[23,14,23,15],[24,14,24,15],[25,14,25,15],[26,14,26,15],[27,14,27,15],[18,12,18,13],[19,12,19,13],[20,12,20,13],[21,12,21,13],[22,12,22,13],[6,2,7,2],[5,2,5,10],[17,2,18,2],[17,3,17,4],[16,2,16,4],[17,9,17,10],[17,6,18,8],[6,3,6,4],[6,5,6,6],[6,7,6,8],[6,9,6,10],[20,6,20,8],[21,6,21,8],[22,6,22,8],[16,6,16,10],[5,20,5,22],[5,12,5,18],[6,13,6,14],[6,15,6,16],[6,17,6,18],[19,6,19,8],[16,12,16,17]]}
[{"$f":"\"Victim Services - \"&DATA!D2&\" STOP Administrators Report\"","v":"Victim Services - 2020 STOP Administrators Report"}]
[{"$f":"'General Grant Information'!A2","v":"OREGON"}]
[]
[null,{"$f":"\"-    Number of individual subgrantees using STOP Program funds for victim services: \"&SUM(DATA[VS_FundsUsed_1or0])&\" (\"&ROUND(100*SUM(DATA[VS_FundsUsed_1or0])/COUNT(DATA[ID]),1)&\"% of all subgrantees reporting)\"","v":"-    Number of individual subgrantees using STOP Program funds for victim services: 35 (83.3% of all subgrantees reporting)"}]
[]
[null,null,"Victims/survivors seeking services who were served, partially served, or not served",null,null,null,null,null,null,null,null,null,"Relationship to offender",null,null,null,null,null,null,null,"Demographics of victims/survivors receiving services"]
[null,null,null,"Domesic violence/dating violence",null,"Sexual assault",null,"Stalking",null,"Total",null,null,"Relationship to offender","Domesic violence/dating violence",null,"Sexual assault",null,"Stalking",null,null,"Demographics","Number of victims/survivors","Percent"]
[null,null,null,"Number","Percent","Number","Percent","Number","Percent","Number","Percent",null,null,"Number","Percent","Number","Percent","Number","Percent",null,"Race/ethnicity"]
[null,null,"Served",{"$f":"SUM(DATA[VS1_Srvd_DV])","v":3991},{"$f":"IF(D$12=0,\"N/A\",IF(AND(D9/SUM(D$9:D$11)<0.005,D9/SUM(D$9:D$11)>0),\"<1%\",D9/SUM(D$9:D$11)))","v":0.97033795283248236},{"$f":"SUM(DATA[VS1_Srvd_SA])","v":1281},{"$f":"IF(F$12=0,\"N/A\",IF(AND(F9/SUM(F$9:F$11)<0.005,F9/SUM(F$9:F$11)>0),\"<1%\",F9/SUM(F$9:F$11)))","v":0.99225406661502713},{"$f":"SUM(DATA[VS1_Srvd_STK])","v":166},{"$f":"IF(H$12=0,\"N/A\",IF(AND(H9/SUM(H$9:H$11)<0.005,H9/SUM(H$9:H$11)>0),\"<1%\",H9/SUM(H$9:H$11)))","v":0.9707602339181286},{"$f":"SUM(DATA[VS1_TOTAL_Srvd])","v":5438},{"$f":"IF(J$12=0,\"N/A\",IF(AND(J9/SUM(J$9:J$11)<0.005,J9/SUM(J$9:J$11)>0),\"<1%\",J9/SUM(J$9:J$11)))","v":0.97542600896860987},null,"Current or former spouse or intimate partner",{"$f":"SUM(DATA[VS6_DV_Spouse])","v":2763},{"$f":"IF(N$15=0,\"N/A\",IF(AND(N9/SUM(N$9:N$13)>0,N9/SUM(N$9:N$13)<0.005),\"<1%\",N9/SUM(N$9:N$13)))","v":0.7137690519245673},{"$f":"SUM(DATA[VS6_SA_Spouse])","v":254},{"$f":"IF(P$15=0,\"N/A\",IF(AND(P9/SUM(P$9:P$13)>0,P9/SUM(P$9:P$13)<0.005),\"<1%\",P9/SUM(P$9:P$13)))","v":0.37298091042584436},{"$f":"SUM(DATA[VS6_STK_Spouse])","v":98},{"$f":"IF(R$15=0,\"N/A\",IF(AND(R9/SUM(R$9:R$13)>0,R9/SUM(R$9:R$13)<0.005),\"<1%\",R9/SUM(R$9:R$13)))","v":0.65771812080536918},null,"American Indian and/or Alaska Native",{"$f":"SUM(DATA[VS5_Race_AmerInd])","v":299},{"$f":"IF(SUM($V$9:$V$15)=0,\"N/A\",IF(AND(V9/SUM($V$9:$V$15)>0,V9/SUM($V$9:$V$13)<0.005),\"<1%\",V9/SUM($V$9:$V$15)))","v":7.1840461316674681E-2}]
[null,null,"Partially served",{"$f":"SUM(DATA[VS1_PSrvd_DV])","v":121},{"$f":"IF(D$12=0,\"N/A\",IF(AND(D10/SUM(D$9:D$11)<0.005,D10/SUM(D$9:D$11)>0),\"<1%\",D10/SUM(D$9:D$11)))","v":2.9418915633357648E-2},{"$f":"SUM(DATA[VS1_PSrvd_SA])","v":9},6.9713400464756006E-3,{"$f":"SUM(DATA[VS1_PSrvd_STK])","v":5},{"$f":"IF(H$12=0,\"N/A\",IF(AND(H10/SUM(H$9:H$11)<0.005,H10/SUM(H$9:H$11)>0),\"<1%\",H10/SUM(H$9:H$11)))","v":2.9239766081871343E-2},{"$f":"SUM(DATA[VS1_TOTAL_PSrvd])","v":135},{"$f":"IF(J$12=0,\"N/A\",IF(AND(J10/SUM(J$9:J$11)<0.005,J10/SUM(J$9:J$11)>0),\"<1%\",J10/SUM(J$9:J$11)))","v":2.4215246636771302E-2},null,"Other family or household member",{"$f":"SUM(DATA[VS6_DV_Family])","v":682},{"$f":"IF(N$15=0,\"N/A\",IF(AND(N10/SUM(N$9:N$13)>0,N10/SUM(N$9:N$13)<0.005),\"<1%\",N10/SUM(N$9:N$13)))","v":0.17618186515112375},{"$f":"SUM(DATA[VS6_SA_Family])","v":149},{"$f":"IF(P$15=0,\"N/A\",IF(AND(P10/SUM(P$9:P$13)>0,P10/SUM(P$9:P$13)<0.005),\"<1%\",P10/SUM(P$9:P$13)))","v":0.21879588839941264},{"$f":"SUM(DATA[VS6_STK_Family])","v":9},6.0402684563758392E-2,null,"Asian ",{"$f":"SUM(DATA[VS5_Race_Asian])","v":42},{"$f":"IF(SUM($V$9:$V$15)=0,\"N/A\",IF(AND(V10/SUM($V$9:$V$15)>0,V10/SUM($V$9:$V$13)<0.005),\"<1%\",V10/SUM($V$9:$V$15)))","v":1.0091302258529554E-2}]
[null,null,"Not served",{"$f":"SUM(DATA[VS1_NotSrvd_DV])","v":1},"<1%",{"$f":"SUM(DATA[VS1_NotSrvd_SA])","v":1},"<1%",{"$f":"SUM(DATA[VS1_NotSrvd_STK])","v":0},{"$f":"IF(H$12=0,\"N/A\",IF(AND(H11/SUM(H$9:H$11)<0.005,H11/SUM(H$9:H$11)>0),\"<1%\",H11/SUM(H$9:H$11)))","v":0},{"$f":"SUM(DATA[VS1_TOTAL_NotSrvd])","v":2},{"$f":"IF(J$12=0,\"N/A\",IF(AND(J11/SUM(J$9:J$11)<0.005,J11/SUM(J$9:J$11)>0),\"<1%\",J11/SUM(J$9:J$11)))","v":"<1%"},null,"Dating relationship",{"$f":"SUM(DATA[VS6_DV_Dating])","v":370},9.5582536812193225E-2,{"$f":"SUM(DATA[VS6_SA_Dating])","v":53},7.7826725403817909E-2,{"$f":"SUM(DATA[VS6_STK_Dating])","v":16},0.10738255033557047,null,"Black or African American",{"$f":"SUM(DATA[VS5_Race_Black])","v":116},2.7871215761653051E-2]
[null,null,"Total seeking services",{"$f":"SUM(D9:D11)","v":4113},{"$f":"IF(D$12=0,\"N/A\",D12/SUM(D$9:D$11))","v":1},{"$f":"SUM(F9:F11)","v":1291},{"$f":"IF(F$12=0,\"N/A\",F12/SUM(F$9:F$11))","v":1},{"$f":"SUM(H9:H11)","v":171},{"$f":"IF(H$12=0,\"N/A\",H12/SUM(H$9:H$11))","v":1},{"$f":"SUM(J9:J11)","v":5575},{"$f":"IF(J$12=0,\"N/A\",J12/SUM(J$9:J$11))","v":1},null,"Acquaintance",{"$f":"SUM(DATA[VS6_DV_Acquaint])","v":56},1.4466546112115732E-2,{"$f":"SUM(DATA[VS6_SA_Acquaint])","v":157},0.23054331864904551,{"$f":"SUM(DATA[VS6_STK_Acquaint])","v":20},0.13422818791946309,null,"Hispanic, Latino, or Spanish origin",{"$f":"SUM(DATA[VS5_Race_Hispanic])","v":848},0.20374819798173954]
[null,null,null,null,null,null,null,null,null,null,null,null,"Stranger",null,null,{"$f":"SUM(DATA[VS6_SA_Stranger])","v":68},9.9853157121879588E-2,{"$f":"SUM(DATA[VS6_STK_Stranger])","v":6},4.0268456375838924E-2,null,"Native Hawaiian and other Pacific Islander",{"$f":"SUM(DATA[VS5_Race_Pacific])","v":41},9.8510331571359921E-3]
[null,{"$f":"\"-    Total number of victims/survivors receiving services: \"&TEXT(SUM(DATA[VS1_TOTAL_SrvdPSrvd]),\"###,###\")&\" (\"&ROUND(100*SUM(DATA[VS1_TOTAL_SrvdPSrvd])/(SUM(DATA[VS1_TOTAL_SrvdPSrvd])+SUM(DATA[VS1_TOTAL_NotSrvd])),1)&\"% of those seeking services)\"","v":"-    Total number of victims/survivors receiving services: 5,573 (100% of those seeking services)"},null,null,null,null,null,null,null,null,null,null,"Unknown",{"$f":"SUM(DATA[VS6_DV_Unknown])","v":261},null,{"$f":"SUM(DATA[VS6_SA_Unknown])","v":623},null,{"$f":"SUM(DATA[VS6_STK_Unknown])","v":34},null,null,"White ",{"$f":"SUM(DATA[VS5_Race_White])","v":2731},0.65617491590581456]
[null,null,null,null,null,null,null,null,null,null,null,null,"Total (excluding unknown)",{"$f":"SUM(N9:N13)","v":3871},{"$f":"IF(N$15=0,\"N/A\",SUM(O9:O13))","v":1},681,{"$f":"IF(P$15=0,\"N/A\",SUM(Q9:Q13))","v":1},149,{"$f":"IF(R$15=0,\"N/A\",SUM(S9:S13))","v":1},null,"Some other race, ethnicity, or origin",{"$f":"SUM(DATA[VS5_Race_Other])","v":85},2.0422873618452669E-2]
[null,null,null,null,null,null,null,null,null,null,null,null,null,null,null,null,null,null,null,null,"Unknown",{"$f":"SUM(DATA[VS5_Race_Unknown])","v":1438}]
[null,null,"Victims/survivors receiving services",null,null,null,"New victims/survivors receiving services",null,null,null,null,null,"Type of service received",null,null,null,null,null,null,null,"Gender"]
[null,null,"Type of victimization","Victims/survivors served",null,null,"Type of victimization",null,null,"New victims/ survivors served",null,null,"Type of service",null,"Number of victims/survivors",null,"Number of times service was provided",null,null,null,"Female",{"$f":"SUM(DATA[VS5_Gen_Female])","v":4216},{"$f":"IF(SUM($V$18:$V$20)=0,\"N/A\",IF(AND(V18/SUM($V$18:$V$20)>0,V18/SUM($V$18:$V$20)<0.005),\"<1%\",V18/SUM($V$18:$V$20)))","v":0.85604060913705582}]
[null,null,null,"Number","Percent",null,null,null,null,"Number","Percent",null,"Crisis intervention",null,{"$f":"SUM(DATA[VS7_Vic_CrisisInt])","v":3614},null,{"$f":"SUM(DATA[VS7_Times_CrisisInt])","v":7220},null,null,null,"Male",{"$f":"SUM(DATA[VS5_Gen_Male])","v":666},{"$f":"IF(SUM($V$18:$V$20)=0,\"N/A\",IF(AND(V19/SUM($V$18:$V$20)>0,V19/SUM($V$18:$V$20)<0.005),\"<1%\",V19/SUM($V$18:$V$20)))","v":0.1352284263959391}]
[null,null,"Domestic violence/ dating violence",{"$f":"SUM(DATA[VS1_SrvdPSrvd_DV])","v":4112},{"$f":"IF($D$23=0,\"N/A\",IF(AND(D20/SUM(D$20:D$22)<0.005,D20/SUM(D$20:D$22)>0),\"<1%\",D20/SUM($D$20:$D$22)))","v":0.73784317243854303},null,"Domestic violence/ dating violence",null,null,{"$f":"SUM(DATA[VS2_NewSrvd_DV])","v":3754},{"$f":"IF($J$23=0,\"N/A\",IF(AND(J20/SUM(J$20:J$22)<0.005,J20/SUM(J$20:J$22)>0),\"<1%\",J20/SUM($J$20:$J$22)))","v":0.81255411255411258},null,"Victim/survivor advocacy",null,{"$f":"SUM(DATA[VS7_Vic_VicAdv])","v":2074},null,{"$f":"SUM(DATA[VS7_Times_VicAdv])","v":7738},null,null,null,"Transgender or gender nonconforming",{"$f":"SUM(DATA[VS5_Gen_Trans])","v":43},8.730964467005076E-3]
[null,null,"Sexual assault",{"$f":"SUM(DATA[VS1_SrvdPSrvd_SA])","v":1290},{"$f":"IF($D$23=0,\"N/A\",IF(AND(D21/SUM(D$20:D$22)<0.005,D21/SUM(D$20:D$22)>0),\"<1%\",D21/SUM($D$20:$D$22)))","v":0.23147317423290867},null,"Sexual assault",null,null,{"$f":"SUM(DATA[VS2_NewSrvd_SA])","v":712},{"$f":"IF($J$23=0,\"N/A\",IF(AND(J21/SUM(J$20:J$22)<0.005,J21/SUM(J$20:J$22)>0),\"<1%\",J21/SUM($J$20:$J$22)))","v":0.15411255411255412},null,"Criminal justice advocacy",null,{"$f":"SUM(DATA[VS7_Vic_CrimJustAdv])","v":1626},null,{"$f":"SUM(DATA[VS7_Times_CrimJustAdv])","v":4884},null,null,null,"Unknown",{"$f":"SUM(DATA[VS5_Gen_Unknown])","v":648}]
[null,null,"Stalking",{"$f":"SUM(DATA[VS1_SrvdPSrvd_STK])","v":171},{"$f":"IF($D$23=0,\"N/A\",IF(AND(D22/SUM(D$20:D$22)<0.005,D22/SUM(D$20:D$22)>0),\"<1%\",D22/SUM($D$20:$D$22)))","v":3.0683653328548357E-2},null,"Stalking",null,null,{"$f":"SUM(DATA[VS2_NewSrvd_STK])","v":154},{"$f":"IF($J$23=0,\"N/A\",IF(AND(J22/SUM(J$20:J$22)<0.005,J22/SUM(J$20:J$22)>0),\"<1%\",J22/SUM($J$20:$J$22)))","v":3.3333333333333333E-2},null,"Civil legal advocacy",null,{"$f":"SUM(DATA[VS7_Vic_CivLegalAdv])","v":1043},null,{"$f":"SUM(DATA[VS7_Times_CivLegalAdv])","v":2045},null,null,null,"Age"]
[null,null,"Total",{"$f":"SUM(D20:D22)","v":5573},{"$f":"IF($D$23=0,\"N/A\",D23/SUM($D$20:$D$22))","v":1},null,"Total",null,null,{"$f":"SUM(J20:J22)","v":4620},{"$f":"IF($J$23=0,\"N/A\",J23/SUM($J$20:$J$22))","v":1},null,"Counseling/support group",null,{"$f":"SUM(DATA[VS7_Vic_Counsel])","v":784},null,{"$f":"SUM(DATA[VS7_Times_Counsel])","v":4249},null,null,null,{"$f":"\"11-17\"","v":"11-17"},{"$f":"SUM(DATA[VS5_Age_b11to17])","v":232},{"$f":"IF(SUM($V$23:$V$26)=0,\"N/A\",IF(AND(V23/SUM($V$23:$V$26)>0,V23/SUM($V$23:$V$26)<0.005),\"<1%\",V23/SUM($V$23:$V$26)))","v":4.8333333333333332E-2}]
[null,null,null,null,null,null,null,null,null,null,null,null,"Language services",null,{"$f":"SUM(DATA[VS7_Vic_Language])","v":296},null,{"$f":"SUM(DATA[VS7_Times_Language])","v":352},null,null,null,"18-24",{"$f":"SUM(DATA[VS5_Age_c18to24])","v":747},{"$f":"IF(SUM($V$23:$V$26)=0,\"N/A\",IF(AND(V24/SUM($V$23:$V$26)>0,V24/SUM($V$23:$V$26)<0.005),\"<1%\",V24/SUM($V$23:$V$26)))","v":0.15562500000000001}]
[null,null,null,null,null,null,null,null,null,null,null,null,"Transportation",null,{"$f":"SUM(DATA[VS7_Vic_Transport])","v":203},null,{"$f":"SUM(DATA[VS7_Times_Transport])","v":543},null,null,null,"25-59",{"$f":"SUM(DATA[VS5_Age_d25to59])","v":3421},0.71270833333333339]
[null,null,null,null,null,null,null,null,null,null,null,null,"Hospital response",null,{"$f":"SUM(DATA[VS7_Vic_HospResp])","v":76},null,{"$f":"SUM(DATA[VS7_Times_HospResp])","v":96},null,null,null,"60+",{"$f":"SUM(DATA[VS5_Age_e60plus])","v":400},8.3333333333333329E-2]
[null,null,null,null,null,null,null,null,null,null,null,null,"Forensic exam",null,{"$f":"SUM(DATA[VS7_Vic_ForensicExam])","v":11},null,{"$f":"SUM(DATA[VS7_Times_ForensicExam])","v":11},null,null,null,"Unknown",{"$f":"SUM(DATA[VS5_Age_Unknown])","v":773}]
[null,null,null,null,null,null,null,null,null,null,null,null,"Other",null,{"$f":"SUM(DATA[VS7_Vic_Other])","v":0},null,{"$f":"SUM(DATA[VS7_Times_Other])","v":0}]
[]
[]
[null,null,"Reported reasons that victims/survivors were not served:",null,null,null,null,null,null,null,null,null,"Reported reasons that victims/survivors were partially served:"]
[null,null,{"$f":"IF(RNS!I2=\"\",\"No one was reported as not served\",\"- \"&RNS!I2)","v":"- Program reached capacity"},null,null,null,null,null,null,null,null,null,{"$f":"IF(RNS!H2=\"\",\"No one was reported as partially served\",\"- \"&RNS!H2)","v":"- Program reached capacity"}]
[null,null,{"$f":"IF(RNS!I3=\"\",\"\",\"- \"&RNS!I3)","v":"- Services inappropriate or inadequate for victims/survivors with mental health issues"},null,null,null,null,null,null,null,null,null,{"$f":"IF(RNS!H3=\"\",\"\",\"- \"&RNS!H3)","v":"- Services inappropriate or inadequate for victims/survivors with mental health issues"}]
[null,null,{"$f":"IF(RNS!I4=\"\",\"\",\"- \"&RNS!I4)","v":"- Services inappropriate or inadequate for victims/survivors with substance abuse issues"},null,null,null,null,null,null,null,null,null,{"$f":"IF(RNS!H4=\"\",\"\",\"- \"&RNS!H4)","v":"- Services inappropriate or inadequate for victims/survivors with substance abuse issues"}]
[null,null,{"$f":"IF(RNS!I5=\"\",\"\",\"- \"&RNS!I5)","v":"- Program rules not acceptable to victim/survivor"},null,null,null,null,null,null,null,null,null,{"$f":"IF(RNS!H5=\"\",\"\",\"- \"&RNS!H5)","v":"- Program rules not acceptable to victim/survivor"}]
[null,null,{"$f":"IF(RNS!I6=\"\",\"\",\"- \"&RNS!I6)","v":"- Program unable to provide service due to limited resources/priority-setting"},null,null,null,null,null,null,null,null,null,{"$f":"IF(RNS!H6=\"\",\"\",\"- \"&RNS!H6)","v":"- Program unable to provide service due to limited resources/priority-setting"}]
[null,null,{"$f":"IF(RNS!I7=\"\",\"\",\"- \"&RNS!I7)","v":""},null,null,null,null,null,null,null,null,null,{"$f":"IF(RNS!H7=\"\",\"\",\"- \"&RNS!H7)","v":""}]
[null,null,{"$f":"IF(RNS!I8=\"\",\"\",\"- \"&RNS!I8)","v":""},null,null,null,null,null,null,null,null,null,{"$f":"IF(RNS!H8=\"\",\"\",\"- \"&RNS!H8)","v":""}]
[null,null,{"$f":"IF(RNS!I9=\"\",\"\",\"- \"&RNS!I9)","v":""},null,null,null,null,null,null,null,null,null,{"$f":"IF(RNS!H9=\"\",\"\",\"- \"&RNS!H9)","v":""}]
[null,null,{"$f":"IF(RNS!I10=\"\",\"\",\"- \"&RNS!I10)","v":""},null,null,null,null,null,null,null,null,null,{"$f":"IF(RNS!H10=\"\",\"\",\"- \"&RNS!H10)","v":""}]
[null,null,{"$f":"IF(RNS!I11=\"\",\"\",\"- \"&RNS!I11)","v":""},null,null,null,null,null,null,null,null,null,{"$f":"IF(RNS!H11=\"\",\"\",\"- \"&RNS!H11)","v":""}]
[null,null,{"$f":"IF(RNS!I12=\"\",\"\",\"- \"&RNS!I12)","v":""},null,null,null,null,null,null,null,null,null,{"$f":"IF(RNS!H12=\"\",\"\",\"- \"&RNS!H12)","v":""}]
[null,null,{"$f":"IF(RNS!I13=\"\",\"\",\"- \"&RNS!I13)","v":""},null,null,null,null,null,null,null,null,null,{"$f":"IF(RNS!H13=\"\",\"\",\"- \"&RNS!H13)","v":""}]
[null,null,{"$f":"IF(RNS!I14=\"\",\"\",\"- \"&RNS!I14)","v":""},null,null,null,null,null,null,null,null,null,{"$f":"IF(RNS!H14=\"\",\"\",\"- \"&RNS!H14)","v":""}]
[null,null,{"$f":"IF(RNS!I15=\"\",\"\",\"- \"&RNS!I15)","v":""},null,null,null,null,null,null,null,null,null,{"$f":"IF(RNS!H15=\"\",\"\",\"- \"&RNS!H15)","v":""}]
[null,null,{"$f":"IF(RNS!I16=\"\",\"\",\"- \"&RNS!I16)","v":""},null,null,null,null,null,null,null,null,null,{"$f":"IF(RNS!H16=\"\",\"\",\"- \"&RNS!H16)","v":""}]
[null,null,{"$f":"IF(RNS!I17=\"\",\"\",\"- \"&RNS!I17)","v":""},null,null,null,null,null,null,null,null,null,{"$f":"IF(RNS!H17=\"\",\"\",\"- \"&RNS!H17)","v":""}]

{"sheet":"Law Enforcement","index":8,"n_rows":19,"n_cols":7,"rows_kept":19,"cut":false,"hidden":false,"merged":[]}
[{"$f":"\"Law Enforcement - \"&DATA!D2&\" STOP Administrators Report\"","v":"Law Enforcement - 2020 STOP Administrators Report"}]
[{"$f":"'General Grant Information'!A2","v":"OREGON"}]
[]
[null,{"$f":"\"-    Number of individual subgrantees using STOP Program funds for law enforcement: \"&SUM(DATA[LE_FundsUsed_1or0])&\" (\"&ROUND(100*SUM(DATA[LE_FundsUsed_1or0])/COUNT(DATA[ID]),1)&\"% of all subgrantees reporting)\"","v":"-    Number of individual subgrantees using STOP Program funds for law enforcement: 0 (0% of all subgrantees reporting)"}]
[]
[null,null,"Activity","Sexual assault","Domestic violence/ dating violence","Stalking","Total"]
[null,null,"Calls for assistance",{"$f":"SUM(DATA[LE1_Calls_SA])","v":0},{"$f":"SUM(DATA[LE1_Calls_DV])","v":0},{"$f":"SUM(DATA[LE1_Calls_STK])","v":0},{"$f":"SUM(D7:F7)","v":0}]
[null,null,"Incident reports",{"$f":"SUM(DATA[LE1_IncidentRpt_SA])","v":0},{"$f":"SUM(DATA[LE1_IncidentRpt_DV])","v":0},{"$f":"SUM(DATA[LE1_IncidentRpt_STK])","v":0},{"$f":"SUM(D8:F8)","v":0}]
[null,null,"Cases/incidents investigated",{"$f":"SUM(DATA[LE1_Investigated_SA])","v":0},{"$f":"SUM(DATA[LE1_Investigated_DV])","v":0},{"$f":"SUM(DATA[LE1_Investigated_STK])","v":0},0]
[null,null,"Forensic medical evidence",{"$f":"SUM(DATA[LE1_ForensicEvid_SA])","v":0},null,null,0]
[null,null,"Arrests",{"$f":"SUM(DATA[LE1_Arrest_SA])","v":0},{"$f":"SUM(DATA[LE1_Arrest_DV])","v":0},{"$f":"SUM(DATA[LE1_Arrest_STK])","v":0},0]
[null,null,"Dual arrests",null,{"$f":"SUM(DATA[LE1_DualArrest_DV])","v":0},null,0]
[null,null,"Protection/ex parte/temporary restraining orders served",{"$f":"SUM(DATA[LE1_POserved_SA])","v":0},{"$f":"SUM(DATA[LE1_POserved_DV])","v":0},{"$f":"SUM(DATA[LE1_POserved_STK])","v":0},0]
[null,null,"Arrests for violation of bail bond",{"$f":"SUM(DATA[LE1_Arrest_BailViol_SA])","v":0},{"$f":"SUM(DATA[LE1_Arrest_BailViol_DV])","v":0},{"$f":"SUM(DATA[LE1_Arrest_BailViol_STK])","v":0},0]
[null,null,"Enforcement of warrants",{"$f":"SUM(DATA[LE1_Warrant_SA])","v":0},{"$f":"SUM(DATA[LE1_Warrant_DV])","v":0},{"$f":"SUM(DATA[LE1_Warrant_STK])","v":0},0]
[null,null,"Arrests for violation of protection order",{"$f":"SUM(DATA[LE1_Arrest_POViol_SA])","v":0},{"$f":"SUM(DATA[LE1_Arrest_POViol_DV])","v":0},{"$f":"SUM(DATA[LE1_Arrest_POViol_STK])","v":0},0]
[null,null,"Protection orders issued",{"$f":"SUM(DATA[LE1_POissued_SA])","v":0},{"$f":"SUM(DATA[LE1_POissued_DV])","v":0},{"$f":"SUM(DATA[LE1_POissued_STK])","v":0},0]
[null,null,"Referrals of cases to prosecutor",{"$f":"SUM(DATA[LE1_RefToPros_SA])","v":0},{"$f":"SUM(DATA[LE1_RefToPros_DV])","v":0},{"$f":"SUM(DATA[LE1_RefToPros_STK])","v":0},0]
[null,null,"Referred for federal prosecution",{"$f":"SUM(DATA[LE1_RefToPros_Fed_SA])","v":0},{"$f":"SUM(DATA[LE1_RefToPros_Fed_DV])","v":0},{"$f":"SUM(DATA[LE1_RefToPros_Fed_STK])","v":0},0]

{"sheet":"Prosecution","index":9,"n_rows":33,"n_cols":6,"rows_kept":33,"cut":false,"hidden":false,"merged":[[32,2,32,5],[5,2,5,5],[14,2,15,2],[14,3,15,3],[14,4,14,5],[13,2,13,5]]}
[{"$f":"\"Prosecution - \"&DATA!D2&\" STOP Administrators Report\"","v":"Prosecution - 2020 STOP Administrators Report"}]
[{"$f":"'General Grant Information'!A2","v":"OREGON"}]
[]
[null,{"$f":"\"-    Number of individual subgrantees using STOP Program funds for prosecution: \"&SUM(DATA[Pros_FundsUsed_1or0])&\" (\"&ROUND(100*SUM(DATA[Pros_FundsUsed_1or0])/COUNT(DATA[ID]),1)&\"% of all subgrantees reporting)\"","v":"-    Number of individual subgrantees using STOP Program funds for prosecution: 3 (7.1% of all subgrantees reporting)"}]
[]
[null,null,"Cases received, accepted for prosecution, declined, or transferred"]
[null,null,"Received/accepted/declined/transferred","Sexual assault","Domestic violence/ dating violence","Stalking"]
[null,null,"Number of cases received",{"$f":"SUM(DATA[Pros1_Received_SA])","v":53},{"$f":"SUM(DATA[Pros1_Received_DV])","v":1462},{"$f":"SUM(DATA[Pros1_Received_STK])","v":5}]
[null,null,"Number of cases accepted for prosecution",{"$f":"SUM(DATA[Pros1_Accepted_SA])","v":41},{"$f":"SUM(DATA[Pros1_Accepted_DV])","v":1152},{"$f":"SUM(DATA[Pros1_Accepted_STK])","v":5}]
[null,null,"Number of cases declined",{"$f":"SUM(DATA[Pros1_Declined_SA])","v":12},{"$f":"SUM(DATA[Pros1_Declined_DV])","v":306},{"$f":"SUM(DATA[Pros1_Declined_STK])","v":0}]
[null,null,"Transferred to higher or lower court that is outside grant-funded jurisdiction",{"$f":"SUM(DATA[Pros1_Transfer_SA])","v":0},{"$f":"SUM(DATA[Pros1_Transfer_DV])","v":3},{"$f":"SUM(DATA[Pros1_Transfer_STK])","v":0}]
[null,null,"Referred for federal prosecution",{"$f":"SUM(DATA[Pros1_RefToFed_SA])","v":0},{"$f":"SUM(DATA[Pros1_RefToFed_DV])","v":0},{"$f":"SUM(DATA[Pros1_RefToFed_STK])","v":0}]
[]
[null,null,"Dispositions of cases"]
[null,null,"Type of case","Total disposed","Total convicted*"]
[null,null,null,null,"Number","% of disposed"]
[null,null,"Domestic violence/dating ordinance",{"$f":"SUM(DATA[Pros3_Total_DV_Ord])","v":0},{"$f":"SUM(DATA[Pros3_DefAdj_DV_Ord],DATA[Pros3_Convict_PAC_DV_Ord],DATA[Pros3_Convict_PSC_DV_Ord],DATA[Pros3_Convict_PLC_DV_Ord],DATA[Pros3_Convict_GAC_DV_Ord],DATA[Pros3_Convict_GSC_DV_Ord],DATA[Pros3_Convict_GLC_DV_Ord])","v":0},{"$f":"IF(D17=0,\"N/A\",E17/D17)","v":"N/A"}]
[null,null,"Misdemeanor domestic violence/dating violence",{"$f":"SUM(DATA[Pros3_Total_DV_Mis])","v":431},{"$f":"SUM(DATA[Pros3_DefAdj_DV_Mis],DATA[Pros3_Convict_PAC_DV_Mis],DATA[Pros3_Convict_PSC_DV_Mis],DATA[Pros3_Convict_PLC_DV_Mis],DATA[Pros3_Convict_GAC_DV_Mis],DATA[Pros3_Convict_GSC_DV_Mis],DATA[Pros3_Convict_GLC_DV_Mis])","v":214},0.49651972157772623]
[null,null,"Felony domestic violence/dating violence",{"$f":"SUM(DATA[Pros3_Total_DV_Fel])","v":357},{"$f":"SUM(DATA[Pros3_DefAdj_DV_Fel],DATA[Pros3_Convict_PAC_DV_Fel],DATA[Pros3_Convict_PSC_DV_Fel],DATA[Pros3_Convict_PLC_DV_Fel],DATA[Pros3_Convict_GAC_DV_Fel],DATA[Pros3_Convict_GSC_DV_Fel],DATA[Pros3_Convict_GLC_DV_Fel])","v":321},0.89915966386554624]
[null,null,"Domestic violence/dating violence Homicide",{"$f":"SUM(DATA[Pros3_Total_DV_Hom])","v":1},{"$f":"SUM(DATA[Pros3_DefAdj_DV_Hom],DATA[Pros3_Convict_PAC_DV_Hom],DATA[Pros3_Convict_PSC_DV_Hom],DATA[Pros3_Convict_PLC_DV_Hom],DATA[Pros3_Convict_GAC_DV_Hom],DATA[Pros3_Convict_GSC_DV_Hom],DATA[Pros3_Convict_GLC_DV_Hom])","v":1},1]
[null,null,"Misdemeanor sexual assault",{"$f":"SUM(DATA[Pros3_Total_SA_Mis])","v":5},{"$f":"SUM(DATA[Pros3_DefAdj_SA_Mis],DATA[Pros3_Convict_PAC_SA_Mis],DATA[Pros3_Convict_PSC_SA_Mis],DATA[Pros3_Convict_PLC_SA_Mis],DATA[Pros3_Convict_GAC_SA_Mis],DATA[Pros3_Convict_GSC_SA_Mis],DATA[Pros3_Convict_GLC_SA_Mis])","v":5},1]
[null,null,"Felony sexual assault",{"$f":"SUM(DATA[Pros3_Total_SA_Fel])","v":15},{"$f":"SUM(DATA[Pros3_DefAdj_SA_Fel],DATA[Pros3_Convict_PAC_SA_Fel],DATA[Pros3_Convict_PSC_SA_Fel],DATA[Pros3_Convict_PLC_SA_Fel],DATA[Pros3_Convict_GAC_SA_Fel],DATA[Pros3_Convict_GSC_SA_Fel],DATA[Pros3_Convict_GLC_SA_Fel])","v":14},0.93333333333333335]
[null,null,"Sexual assault homicide",{"$f":"SUM(DATA[Pros3_Total_SA_Hom])","v":0},{"$f":"SUM(DATA[Pros3_DefAdj_SA_Hom],DATA[Pros3_Convict_PAC_SA_Hom],DATA[Pros3_Convict_PSC_SA_Hom],DATA[Pros3_Convict_PLC_SA_Hom],DATA[Pros3_Convict_GAC_SA_Hom],DATA[Pros3_Convict_GSC_SA_Hom],DATA[Pros3_Convict_GLC_SA_Hom])","v":0},"N/A"]
[null,null,"Stalking Ordinance",{"$f":"SUM(DATA[Pros3_Total_STK_Ord])","v":0},{"$f":"SUM(DATA[Pros3_DefAdj_STK_Ord],DATA[Pros3_Convict_PAC_STK_Ord],DATA[Pros3_Convict_PSC_STK_Ord],DATA[Pros3_Convict_PLC_STK_Ord],DATA[Pros3_Convict_GAC_STK_Ord],DATA[Pros3_Convict_GSC_STK_Ord],DATA[Pros3_Convict_GLC_STK_Ord])","v":0},"N/A"]
[null,null,"Misdemeanor stalking",{"$f":"SUM(DATA[Pros3_Total_STK_Mis])","v":1},{"$f":"SUM(DATA[Pros3_DefAdj_STK_Mis],DATA[Pros3_Convict_PAC_STK_Mis],DATA[Pros3_Convict_PSC_STK_Mis],DATA[Pros3_Convict_PLC_STK_Mis],DATA[Pros3_Convict_GAC_STK_Mis],DATA[Pros3_Convict_GSC_STK_Mis],DATA[Pros3_Convict_GLC_STK_Mis])","v":1},1]
[null,null,"Felony stalking",{"$f":"SUM(DATA[Pros3_Total_STK_Fel])","v":0},{"$f":"SUM(DATA[Pros3_DefAdj_STK_Fel],DATA[Pros3_Convict_PAC_STK_Fel],DATA[Pros3_Convict_PSC_STK_Fel],DATA[Pros3_Convict_PLC_STK_Fel],DATA[Pros3_Convict_GAC_STK_Fel],DATA[Pros3_Convict_GSC_STK_Fel],DATA[Pros3_Convict_GLC_STK_Fel])","v":0},"N/A"]
[null,null,"Stalking Homicide",{"$f":"SUM(DATA[Pros3_Total_STK_Hom])","v":0},{"$f":"SUM(DATA[Pros3_DefAdj_STK_Hom],DATA[Pros3_Convict_PAC_STK_Hom],DATA[Pros3_Convict_PSC_STK_Hom],DATA[Pros3_Convict_PLC_STK_Hom],DATA[Pros3_Convict_GAC_STK_Hom],DATA[Pros3_Convict_GSC_STK_Hom],DATA[Pros3_Convict_GLC_STK_Hom])","v":0},"N/A"]
[null,null,"Violation of bail",{"$f":"SUM(DATA[Pros3_Total_BailViol])","v":0},{"$f":"SUM(DATA[Pros3_DefAdj_BailViol],DATA[Pros3_Convict_PAC_BailViol],DATA[Pros3_Convict_PSC_BailViol],DATA[Pros3_Convict_PLC_BailViol],DATA[Pros3_Convict_GAC_BailViol],DATA[Pros3_Convict_GSC_BailViol],DATA[Pros3_Convict_GLC_BailViol])","v":0},"N/A"]
[null,null,"Violation of probation or parole",{"$f":"SUM(DATA[Pros3_Total_ProbViol])","v":18},{"$f":"SUM(DATA[Pros3_DefAdj_ProbViol],DATA[Pros3_Convict_PAC_ProbViol],DATA[Pros3_Convict_PSC_ProbViol],DATA[Pros3_Convict_PLC_ProbViol],DATA[Pros3_Convict_GAC_ProbViol],DATA[Pros3_Convict_GSC_ProbViol],DATA[Pros3_Convict_GLC_ProbViol])","v":16},0.88888888888888884]
[null,null,"Violation of protection order",{"$f":"SUM(DATA[Pros3_Total_POViol])","v":43},{"$f":"SUM(DATA[Pros3_DefAdj_POViol],DATA[Pros3_Convict_PAC_POViol],DATA[Pros3_Convict_PSC_POViol],DATA[Pros3_Convict_PLC_POViol],DATA[Pros3_Convict_GAC_POViol],DATA[Pros3_Convict_GSC_POViol],DATA[Pros3_Convict_GLC_POViol])","v":30},0.69767441860465118]
[null,null,"Violation of other court order",{"$f":"SUM(DATA[Pros3_Total_CrtOrder])","v":0},{"$f":"SUM(DATA[Pros3_DefAdj_CrtOrder],DATA[Pros3_Convict_PAC_CrtOrder],DATA[Pros3_Convict_PSC_CrtOrder],DATA[Pros3_Convict_PLC_CrtOrder],DATA[Pros3_Convict_GAC_CrtOrder],DATA[Pros3_Convict_GSC_CrtOrder],DATA[Pros3_Convict_GLC_CrtOrder])","v":0},"N/A"]
[null,null,"Other",{"$f":"SUM(DATA[Pros3_Total_Other])","v":0},{"$f":"SUM(DATA[Pros3_DefAdj_Other],DATA[Pros3_Convict_PAC_Other],DATA[Pros3_Convict_PSC_Other],DATA[Pros3_Convict_PLC_Other],DATA[Pros3_Convict_GAC_Other],DATA[Pros3_Convict_GSC_Other],DATA[Pros3_Convict_GLC_Other])","v":0},"N/A"]
[null,null,{"$f":"IF(SUM(E17:E32)=0,\"\",\"*Deferred adjudications account for \"&ROUND(100*SUM(DATA[Pros3_DefAdj_DV_Ord],DATA[Pros3_DefAdj_DV_Mis],DATA[Pros3_DefAdj_DV_Fel],DATA[Pros3_DefAdj_DV_Hom],DATA[Pros3_DefAdj_SA_Mis],DATA[Pros3_DefAdj_SA_Fel],DATA[Pros3_DefAdj_SA_Hom],DATA[Pros3_DefAdj_STK_Ord],DATA[Pros3_DefAdj_STK_Mis],DATA[Pros3_DefAdj_STK_Fel],DATA[Pros3_DefAdj_STK_Hom],DATA[Pros3_DefAdj_BailViol],DATA[Pros3_DefAdj_ProbViol],DATA[Pros3_DefAdj_POViol],DATA[Pros3_DefAdj_CrtOrder],DATA[Pros3_DefAdj_Other])/SUM(E17:E32),1)&\"% of all convictions\")","v":"*Deferred adjudications account for 1.2% of all convictions"}]

{"sheet":"Courts","index":10,"n_rows":16,"n_cols":8,"rows_kept":16,"cut":false,"hidden":false,"merged":[[5,2,5,7]]}
[{"$f":"\"Courts - \"&DATA!D2&\" STOP Administrators Report\"","v":"Courts - 2020 STOP Administrators Report"}]
[{"$f":"'General Grant Information'!A2","v":"OREGON"}]
[]
[null,{"$f":"\"-    Number of individual subgrantees using STOP Program funds for courts: \"&SUM(DATA[Crt_FundsUsed_1or0])&\" (\"&ROUND(100*SUM(DATA[Crt_FundsUsed_1or0])/COUNT(DATA[ID]),1)&\"% of all subgrantees reporting)\"","v":"-    Number of individual subgrantees using STOP Program funds for courts: 0 (0% of all subgrantees reporting)"}]
[]
[null,null,"Dispositions of violations"]
[null,null,"Violation","No action taken","Verbal/ written warning","Fine","Conditions added","Partial or full revocation of probation"]
[null,null,"Protection order",{"$f":"SUM(DATA[Crt4_NoAction_PO])","v":0},{"$f":"SUM(DATA[Crt4_Warning_PO])","v":0},{"$f":"SUM(DATA[Crt4_Fine_PO])","v":0},{"$f":"SUM(DATA[Crt4_AddCond_PO])","v":0},{"$f":"SUM(DATA[Crt4_Revoke_PO])","v":0}]
[null,null,"New criminal behavior",{"$f":"SUM(DATA[Crt4_NoAction_NewCrim])","v":0},{"$f":"SUM(DATA[Crt4_Warning_NewCrim])","v":0},{"$f":"SUM(DATA[Crt4_Fine_NewCrim])","v":0},{"$f":"SUM(DATA[Crt4_AddCond_NewCrim])","v":0},{"$f":"SUM(DATA[Crt4_Revoke_NewCrim])","v":0}]
[null,null,"Failure to attend batterer intervention program",{"$f":"SUM(DATA[Crt4_NoAction_BIP])","v":0},{"$f":"SUM(DATA[Crt4_Warning_BIP])","v":0},{"$f":"SUM(DATA[Crt4_Fine_BIP])","v":0},{"$f":"SUM(DATA[Crt4_AddCond_BIP])","v":0},{"$f":"SUM(DATA[Crt4_Revoke_BIP])","v":0}]
[null,null,"Failure to attend mandated offender treatment",{"$f":"SUM(DATA[Crt4_NoAction_OtherTreat])","v":0},{"$f":"SUM(DATA[Crt4_Warning_OtherTreat])","v":0},{"$f":"SUM(DATA[Crt4_Fine_OtherTreat])","v":0},{"$f":"SUM(DATA[Crt4_AddCond_OtherTreat])","v":0},{"$f":"SUM(DATA[Crt4_Revoke_OtherTreat])","v":0}]
[null,null,"Other conditions of probation or parole",{"$f":"SUM(DATA[Crt4_NoAction_OtherCond])","v":0},{"$f":"SUM(DATA[Crt4_Warning_OtherCond])","v":0},{"$f":"SUM(DATA[Crt4_Fine_OtherCond])","v":0},{"$f":"SUM(DATA[Crt4_AddCond_OtherCond])","v":0},{"$f":"SUM(DATA[Crt4_Revoke_OtherCond])","v":0}]
[]
[null,null,"Judicial monitoring:"]
[null,null,{"$f":"\"-    \"&SUM(DATA[Crt3_Offender])&\" offenders were reviewed.\"","v":"-    0 offenders were reviewed."}]
[null,null,{"$f":"\"-    \"&SUM(DATA[Crt3_Hearing])&\" judicial review hearings were conducted.\"","v":"-    0 judicial review hearings were conducted."}]

{"sheet":"Probation & Parole","index":11,"n_rows":13,"n_cols":8,"rows_kept":13,"cut":false,"hidden":false,"merged":[[6,2,6,7]]}
[{"$f":"\"Probation and Parole - \"&DATA!D2&\" STOP Administrators Report\"","v":"Probation and Parole - 2020 STOP Administrators Report"}]
[{"$f":"'General Grant Information'!A2","v":"OREGON"}]
[]
[null,{"$f":"\"-    Number of individual subgrantees using STOP Program funds for probation and parole: \"&SUM(DATA[Prob_FundsUsed_1or0])&\" (\"&ROUND(100*SUM(DATA[Prob_FundsUsed_1or0])/COUNT(DATA[ID]),1)&\"% of all subgrantees reporting)\"","v":"-    Number of individual subgrantees using STOP Program funds for probation and parole: 0 (0% of all subgrantees reporting)"}]
[null,null,{"$f":"\"-    Total number of new and continuing offenders: \"&SUM(DATA[Prob1_TOTAL_Offender])","v":"-    Total number of new and continuing offenders: 0"}]
[]
[null,null,"Dispositions of violations"]
[null,null,"Violation","No action taken","Verbal/ written warning","Fine","Conditions added","Partial or full revocation of probation"]
[null,null,"Protection order",{"$f":"SUM(DATA[Prob3_NoAction_PO])","v":0},{"$f":"SUM(DATA[Prob3_Warning_PO])","v":0},{"$f":"SUM(DATA[Prob3_Fine_PO])","v":0},{"$f":"SUM(DATA[Prob3_AddCond_PO])","v":0},{"$f":"SUM(DATA[Prob3_Revoke_PO])","v":0}]
[null,null,"New criminal behavior",{"$f":"SUM(DATA[Prob3_NoAction_NewCrim])","v":0},{"$f":"SUM(DATA[Prob3_Warning_NewCrim])","v":0},{"$f":"SUM(DATA[Prob3_Fine_NewCrim])","v":0},{"$f":"SUM(DATA[Prob3_AddCond_NewCrim])","v":0},{"$f":"SUM(DATA[Prob3_Revoke_NewCrim])","v":0}]
[null,null,"Failure to attend batterer intervention program",{"$f":"SUM(DATA[Prob3_NoAction_BIP])","v":0},{"$f":"SUM(DATA[Prob3_Warning_BIP])","v":0},{"$f":"SUM(DATA[Prob3_Fine_BIP])","v":0},{"$f":"SUM(DATA[Prob3_AddCond_BIP])","v":0},{"$f":"SUM(DATA[Prob3_Revoke_BIP])","v":0}]
[null,null,"Failure to attend mandated offender treatment",{"$f":"SUM(DATA[Prob3_NoAction_OtherTreat])","v":0},{"$f":"SUM(DATA[Prob3_Warning_OtherTreat])","v":0},{"$f":"SUM(DATA[Prob3_Fine_OtherTreat])","v":0},{"$f":"SUM(DATA[Prob3_AddCond_OtherTreat])","v":0},{"$f":"SUM(DATA[Prob3_Revoke_OtherTreat])","v":0}]
[null,null,"Other conditions of probation or parole",{"$f":"SUM(DATA[Prob3_NoAction_OtherCond])","v":0},{"$f":"SUM(DATA[Prob3_Warning_OtherCond])","v":0},{"$f":"SUM(DATA[Prob3_Fine_OtherCond])","v":0},{"$f":"SUM(DATA[Prob3_AddCond_OtherCond])","v":0},{"$f":"SUM(DATA[Prob3_Revoke_OtherCond])","v":0}]

{"sheet":"BIP","index":12,"n_rows":11,"n_cols":4,"rows_kept":11,"cut":false,"hidden":false,"merged":[]}
[{"$f":"\"Batterer Intervention Program - \"&DATA!D2&\" STOP Administrators Report\"","v":"Batterer Intervention Program - 2020 STOP Administrators Report"}]
[{"$f":"'General Grant Information'!A2","v":"OREGON"}]
[]
[null,{"$f":"\"-    Number of individual subgrantees using STOP Program funds for batterer intervention programs (BIP): \"&SUM(DATA[BIP_FundsUsed_1or0])&\" (\"&ROUND(100*SUM(DATA[BIP_FundsUsed_1or0])/COUNT(DATA[ID]),1)&\"% of all subgrantees reporting)\"","v":"-    Number of individual subgrantees using STOP Program funds for batterer intervention programs (BIP): 0 (0% of all subgrantees reporting)"}]
[null,null,{"$f":"\"-    Total number of offenders in BIP: \"&SUM(DATA[BIP1_Offender_BIP])","v":"-    Total number of offenders in BIP: 0"}]
[]
[null,null,"Outcomes","Number of offenders"]
[null,null,"Completed program",{"$f":"SUM(DATA[BIP2_Complete_BIP])","v":0}]
[null,null,"Terminated from program",{"$f":"SUM(DATA[BIP2_Terminate_BIP])","v":0}]
[null,null,"Returned to program after termination",{"$f":"SUM(DATA[BIP2_Return_BIP])","v":0}]
[null,null,"Other",{"$f":"SUM(DATA[BIP2_Other_BIP])","v":0}]